BEGIN:VCALENDAR
VERSION:2.0
PRODID:-//Springfield Parking Authority - ECPv6.15.20//NONSGML v1.0//EN
CALSCALE:GREGORIAN
METHOD:PUBLISH
X-WR-CALNAME:Springfield Parking Authority
X-ORIGINAL-URL:https://springfieldparkingauthority.com
X-WR-CALDESC:Events for Springfield Parking Authority
REFRESH-INTERVAL;VALUE=DURATION:PT1H
X-Robots-Tag:noindex
X-PUBLISHED-TTL:PT1H
BEGIN:VTIMEZONE
TZID:America/New_York
BEGIN:DAYLIGHT
TZOFFSETFROM:-0500
TZOFFSETTO:-0400
TZNAME:EDT
DTSTART:20180311T070000
END:DAYLIGHT
BEGIN:STANDARD
TZOFFSETFROM:-0400
TZOFFSETTO:-0500
TZNAME:EST
DTSTART:20181104T060000
END:STANDARD
BEGIN:DAYLIGHT
TZOFFSETFROM:-0500
TZOFFSETTO:-0400
TZNAME:EDT
DTSTART:20190310T070000
END:DAYLIGHT
BEGIN:STANDARD
TZOFFSETFROM:-0400
TZOFFSETTO:-0500
TZNAME:EST
DTSTART:20191103T060000
END:STANDARD
BEGIN:DAYLIGHT
TZOFFSETFROM:-0500
TZOFFSETTO:-0400
TZNAME:EDT
DTSTART:20200308T070000
END:DAYLIGHT
BEGIN:STANDARD
TZOFFSETFROM:-0400
TZOFFSETTO:-0500
TZNAME:EST
DTSTART:20201101T060000
END:STANDARD
END:VTIMEZONE
BEGIN:VEVENT
DTSTART;TZID=America/New_York:20191003T080000
DTEND;TZID=America/New_York:20191003T113000
DTSTAMP:20260420T155108
CREATED:20190927T144633Z
LAST-MODIFIED:20190927T144633Z
UID:7257-1570089600-1570102200@springfieldparkingauthority.com
SUMMARY:MASSMUTUAL SP&D BOTTOMS UP PLANNING KICK OFF& GENERAL SESSION
DESCRIPTION:Parking is available at the Civic Center Garage – On the Clock \n 
URL:https://springfieldparkingauthority.com/event/massmutual-spd-bottoms-up-planning-kick-off-general-session/
LOCATION:MassMutual Center\, 1277 Main Street\, Springfield\, MA\, 01103\, United States
END:VEVENT
BEGIN:VEVENT
DTSTART;TZID=America/New_York:20191003T080000
DTEND;TZID=America/New_York:20191003T113000
DTSTAMP:20260420T155108
CREATED:20190927T144633Z
LAST-MODIFIED:20190927T144633Z
UID:11986-1570089600-1570102200@springfieldparkingauthority.com
SUMMARY:MASSMUTUAL SP&D BOTTOMS UP PLANNING KICK OFF& GENERAL SESSION
DESCRIPTION:Parking is available at the Civic Center Garage – On the Clock \n 
URL:https://springfieldparkingauthority.com/event/massmutual-spd-bottoms-up-planning-kick-off-general-session-2/
LOCATION:MassMutual Center\, 1277 Main Street\, Springfield\, MA\, 01103\, United States
END:VEVENT
BEGIN:VEVENT
DTSTART;TZID=America/New_York:20191003T180000
DTEND;TZID=America/New_York:20191003T210000
DTSTAMP:20260420T155108
CREATED:20190923T180726Z
LAST-MODIFIED:20190923T180726Z
UID:7175-1570125600-1570136400@springfieldparkingauthority.com
SUMMARY:MASSACHUSETTS MUTUAL LIFE INSURANCE COMPANY
DESCRIPTION:Parking is available at the I-91  South Garage – On the Clock \n 
URL:https://springfieldparkingauthority.com/event/massachusetts-mutual-life-insurance-company/
LOCATION:Sheraton Hotel\, One Monarch Place\, Springfield\, MA\, 01103\, United States
END:VEVENT
BEGIN:VEVENT
DTSTART;TZID=America/New_York:20191003T180000
DTEND;TZID=America/New_York:20191003T210000
DTSTAMP:20260420T155108
CREATED:20190923T180726Z
LAST-MODIFIED:20190923T180726Z
UID:11947-1570125600-1570136400@springfieldparkingauthority.com
SUMMARY:MASSACHUSETTS MUTUAL LIFE INSURANCE COMPANY
DESCRIPTION:Parking is available at the I-91  South Garage – On the Clock \n 
URL:https://springfieldparkingauthority.com/event/massachusetts-mutual-life-insurance-company-2/
LOCATION:Sheraton Hotel\, One Monarch Place\, Springfield\, MA\, 01103\, United States
END:VEVENT
END:VCALENDAR