BEGIN:VCALENDAR
VERSION:2.0
PRODID:-//Springfield Parking Authority - ECPv6.15.20//NONSGML v1.0//EN
CALSCALE:GREGORIAN
METHOD:PUBLISH
X-WR-CALNAME:Springfield Parking Authority
X-ORIGINAL-URL:https://springfieldparkingauthority.com
X-WR-CALDESC:Events for Springfield Parking Authority
REFRESH-INTERVAL;VALUE=DURATION:PT1H
X-Robots-Tag:noindex
X-PUBLISHED-TTL:PT1H
BEGIN:VTIMEZONE
TZID:America/New_York
BEGIN:DAYLIGHT
TZOFFSETFROM:-0500
TZOFFSETTO:-0400
TZNAME:EDT
DTSTART:20180311T070000
END:DAYLIGHT
BEGIN:STANDARD
TZOFFSETFROM:-0400
TZOFFSETTO:-0500
TZNAME:EST
DTSTART:20181104T060000
END:STANDARD
BEGIN:DAYLIGHT
TZOFFSETFROM:-0500
TZOFFSETTO:-0400
TZNAME:EDT
DTSTART:20190310T070000
END:DAYLIGHT
BEGIN:STANDARD
TZOFFSETFROM:-0400
TZOFFSETTO:-0500
TZNAME:EST
DTSTART:20191103T060000
END:STANDARD
BEGIN:DAYLIGHT
TZOFFSETFROM:-0500
TZOFFSETTO:-0400
TZNAME:EDT
DTSTART:20200308T070000
END:DAYLIGHT
BEGIN:STANDARD
TZOFFSETFROM:-0400
TZOFFSETTO:-0500
TZNAME:EST
DTSTART:20201101T060000
END:STANDARD
END:VTIMEZONE
BEGIN:VEVENT
DTSTART;TZID=America/New_York:20191011T080000
DTEND;TZID=America/New_York:20191011T180000
DTSTAMP:20260421T014019
CREATED:20190923T182415Z
LAST-MODIFIED:20190923T182415Z
UID:11964-1570780800-1570816800@springfieldparkingauthority.com
SUMMARY:WESTERN MASS EMS CONFERENCE & EXHIBIT
DESCRIPTION:Parking is available at the Civic Center Garage – $10 Post Pay \n 
URL:https://springfieldparkingauthority.com/event/western-mass-ems-conference-exhibit-2-2/
LOCATION:MassMutual Center\, 1277 Main Street\, Springfield\, MA\, 01103\, United States
END:VEVENT
BEGIN:VEVENT
DTSTART;TZID=America/New_York:20191011T080000
DTEND;TZID=America/New_York:20191011T180000
DTSTAMP:20260421T014019
CREATED:20190923T182415Z
LAST-MODIFIED:20190923T182415Z
UID:7209-1570780800-1570816800@springfieldparkingauthority.com
SUMMARY:WESTERN MASS EMS CONFERENCE & EXHIBIT
DESCRIPTION:Parking is available at the Civic Center Garage – $10 Post Pay \n 
URL:https://springfieldparkingauthority.com/event/western-mass-ems-conference-exhibit-2/
LOCATION:MassMutual Center\, 1277 Main Street\, Springfield\, MA\, 01103\, United States
END:VEVENT
BEGIN:VEVENT
DTSTART;TZID=America/New_York:20191011T080000
DTEND;TZID=America/New_York:20191011T190000
DTSTAMP:20260421T014019
CREATED:20191008T191431Z
LAST-MODIFIED:20191008T191431Z
UID:7274-1570780800-1570820400@springfieldparkingauthority.com
SUMMARY:SPRINGFIELD PUERTO RICAN GALA
DESCRIPTION:Parking is available at the I-91  South Garage – On the Clock \n 
URL:https://springfieldparkingauthority.com/event/springfield-puerto-rican-gala/
LOCATION:Sheraton Hotel\, One Monarch Place\, Springfield\, MA\, 01103\, United States
END:VEVENT
BEGIN:VEVENT
DTSTART;TZID=America/New_York:20191011T080000
DTEND;TZID=America/New_York:20191011T190000
DTSTAMP:20260421T014019
CREATED:20191008T191431Z
LAST-MODIFIED:20191008T191431Z
UID:11992-1570780800-1570820400@springfieldparkingauthority.com
SUMMARY:SPRINGFIELD PUERTO RICAN GALA
DESCRIPTION:Parking is available at the I-91  South Garage – On the Clock \n 
URL:https://springfieldparkingauthority.com/event/springfield-puerto-rican-gala-2/
LOCATION:Sheraton Hotel\, One Monarch Place\, Springfield\, MA\, 01103\, United States
END:VEVENT
BEGIN:VEVENT
DTSTART;TZID=America/New_York:20191011T190000
DTEND;TZID=America/New_York:20191011T220000
DTSTAMP:20260421T014019
CREATED:20190923T182345Z
LAST-MODIFIED:20190923T182345Z
UID:11963-1570820400-1570831200@springfieldparkingauthority.com
SUMMARY:THUNDERBIRDS VS ROCHESTER
DESCRIPTION:Parking is available at the Civic Center Garage – Free with Ticket \n 
URL:https://springfieldparkingauthority.com/event/thunderbirds-vs-rochester-6-2/
LOCATION:MassMutual Center\, 1277 Main Street\, Springfield\, MA\, 01103\, United States
END:VEVENT
BEGIN:VEVENT
DTSTART;TZID=America/New_York:20191011T190000
DTEND;TZID=America/New_York:20191011T220000
DTSTAMP:20260421T014019
CREATED:20190923T182345Z
LAST-MODIFIED:20190923T182345Z
UID:7207-1570820400-1570831200@springfieldparkingauthority.com
SUMMARY:THUNDERBIRDS VS ROCHESTER
DESCRIPTION:Parking is available at the Civic Center Garage – Free with Ticket \n 
URL:https://springfieldparkingauthority.com/event/thunderbirds-vs-rochester-6/
LOCATION:MassMutual Center\, 1277 Main Street\, Springfield\, MA\, 01103\, United States
END:VEVENT
BEGIN:VEVENT
DTSTART;TZID=America/New_York:20191011T190000
DTEND;TZID=America/New_York:20191011T230000
DTSTAMP:20260421T014019
CREATED:20190923T182448Z
LAST-MODIFIED:20190923T182448Z
UID:11965-1570820400-1570834800@springfieldparkingauthority.com
SUMMARY:WMAS HALLOWEEN BALL
DESCRIPTION:Parking is available at the Civic Center Garage – $10 & $15 Prepay  \n 
URL:https://springfieldparkingauthority.com/event/wmas-halloween-ball-2/
LOCATION:MassMutual Center\, 1277 Main Street\, Springfield\, MA\, 01103\, United States
END:VEVENT
BEGIN:VEVENT
DTSTART;TZID=America/New_York:20191011T190000
DTEND;TZID=America/New_York:20191011T230000
DTSTAMP:20260421T014019
CREATED:20190923T182448Z
LAST-MODIFIED:20190923T182448Z
UID:7211-1570820400-1570834800@springfieldparkingauthority.com
SUMMARY:WMAS HALLOWEEN BALL
DESCRIPTION:Parking is available at the Civic Center Garage – $10 & $15 Prepay  \n 
URL:https://springfieldparkingauthority.com/event/wmas-halloween-ball/
LOCATION:MassMutual Center\, 1277 Main Street\, Springfield\, MA\, 01103\, United States
END:VEVENT
END:VCALENDAR