BEGIN:VCALENDAR
VERSION:2.0
PRODID:-//Springfield Parking Authority - ECPv6.15.20//NONSGML v1.0//EN
CALSCALE:GREGORIAN
METHOD:PUBLISH
X-WR-CALNAME:Springfield Parking Authority
X-ORIGINAL-URL:https://springfieldparkingauthority.com
X-WR-CALDESC:Events for Springfield Parking Authority
REFRESH-INTERVAL;VALUE=DURATION:PT1H
X-Robots-Tag:noindex
X-PUBLISHED-TTL:PT1H
BEGIN:VTIMEZONE
TZID:America/New_York
BEGIN:DAYLIGHT
TZOFFSETFROM:-0500
TZOFFSETTO:-0400
TZNAME:EDT
DTSTART:20180311T070000
END:DAYLIGHT
BEGIN:STANDARD
TZOFFSETFROM:-0400
TZOFFSETTO:-0500
TZNAME:EST
DTSTART:20181104T060000
END:STANDARD
BEGIN:DAYLIGHT
TZOFFSETFROM:-0500
TZOFFSETTO:-0400
TZNAME:EDT
DTSTART:20190310T070000
END:DAYLIGHT
BEGIN:STANDARD
TZOFFSETFROM:-0400
TZOFFSETTO:-0500
TZNAME:EST
DTSTART:20191103T060000
END:STANDARD
BEGIN:DAYLIGHT
TZOFFSETFROM:-0500
TZOFFSETTO:-0400
TZNAME:EDT
DTSTART:20200308T070000
END:DAYLIGHT
BEGIN:STANDARD
TZOFFSETFROM:-0400
TZOFFSETTO:-0500
TZNAME:EST
DTSTART:20201101T060000
END:STANDARD
END:VTIMEZONE
BEGIN:VEVENT
DTSTART;TZID=America/New_York:20191017T070000
DTEND;TZID=America/New_York:20191017T210000
DTSTAMP:20260422T121946
CREATED:20191008T190710Z
LAST-MODIFIED:20191008T190710Z
UID:7266-1571295600-1571346000@springfieldparkingauthority.com
SUMMARY:HEALTHCARE HEROS
DESCRIPTION:Parking is available at the I-91  South Garage – On the Clock \n 
URL:https://springfieldparkingauthority.com/event/healthcare-heros/
LOCATION:Sheraton Hotel\, One Monarch Place\, Springfield\, MA\, 01103\, United States
END:VEVENT
BEGIN:VEVENT
DTSTART;TZID=America/New_York:20191017T070000
DTEND;TZID=America/New_York:20191017T210000
DTSTAMP:20260422T121946
CREATED:20191008T190710Z
LAST-MODIFIED:20191008T190710Z
UID:11988-1571295600-1571346000@springfieldparkingauthority.com
SUMMARY:HEALTHCARE HEROS
DESCRIPTION:Parking is available at the I-91  South Garage – On the Clock \n 
URL:https://springfieldparkingauthority.com/event/healthcare-heros-2/
LOCATION:Sheraton Hotel\, One Monarch Place\, Springfield\, MA\, 01103\, United States
END:VEVENT
BEGIN:VEVENT
DTSTART;TZID=America/New_York:20191017T073000
DTEND;TZID=America/New_York:20191017T200000
DTSTAMP:20260422T121946
CREATED:20191008T191700Z
LAST-MODIFIED:20191008T191700Z
UID:11995-1571297400-1571342400@springfieldparkingauthority.com
SUMMARY:NEW ENGLAND WATER ENVIRONMENT ASSOCIATION
DESCRIPTION:Parking is available at the I-91  South Garage – On the Clock \n 
URL:https://springfieldparkingauthority.com/event/new-england-water-environment-association-2-2/
LOCATION:Sheraton Hotel\, One Monarch Place\, Springfield\, MA\, 01103\, United States
END:VEVENT
BEGIN:VEVENT
DTSTART;TZID=America/New_York:20191017T073000
DTEND;TZID=America/New_York:20191017T200000
DTSTAMP:20260422T121946
CREATED:20191008T191700Z
LAST-MODIFIED:20191008T191700Z
UID:7280-1571297400-1571342400@springfieldparkingauthority.com
SUMMARY:NEW ENGLAND WATER ENVIRONMENT ASSOCIATION
DESCRIPTION:Parking is available at the I-91  South Garage – On the Clock \n 
URL:https://springfieldparkingauthority.com/event/new-england-water-environment-association-2/
LOCATION:Sheraton Hotel\, One Monarch Place\, Springfield\, MA\, 01103\, United States
END:VEVENT
BEGIN:VEVENT
DTSTART;TZID=America/New_York:20191017T080000
DTEND;TZID=America/New_York:20191017T170000
DTSTAMP:20260422T121946
CREATED:20190923T183011Z
LAST-MODIFIED:20190923T183011Z
UID:11967-1571299200-1571331600@springfieldparkingauthority.com
SUMMARY:SNEAPA CONFERENCE
DESCRIPTION:Parking is available at the Civic Center Garage – $10 & 15 Prepay \n 
URL:https://springfieldparkingauthority.com/event/sneapa-conference-3/
LOCATION:MassMutual Center\, 1277 Main Street\, Springfield\, MA\, 01103\, United States
END:VEVENT
BEGIN:VEVENT
DTSTART;TZID=America/New_York:20191017T080000
DTEND;TZID=America/New_York:20191017T170000
DTSTAMP:20260422T121946
CREATED:20190923T183011Z
LAST-MODIFIED:20190923T183011Z
UID:7215-1571299200-1571331600@springfieldparkingauthority.com
SUMMARY:SNEAPA CONFERENCE
DESCRIPTION:Parking is available at the Civic Center Garage – $10 & 15 Prepay \n 
URL:https://springfieldparkingauthority.com/event/sneapa-conference/
LOCATION:MassMutual Center\, 1277 Main Street\, Springfield\, MA\, 01103\, United States
END:VEVENT
BEGIN:VEVENT
DTSTART;TZID=America/New_York:20191017T083000
DTEND;TZID=America/New_York:20191017T171500
DTSTAMP:20260422T121946
CREATED:20191008T191603Z
LAST-MODIFIED:20191008T191603Z
UID:7278-1571301000-1571332500@springfieldparkingauthority.com
SUMMARY:SOUTHERN NEW ENGLAND PLANNING ASSOCIATION
DESCRIPTION:Parking is available at the Civic Center Garage – $10 Post Pay \n 
URL:https://springfieldparkingauthority.com/event/southern-new-england-planning-association/
LOCATION:MassMutual Center\, 1277 Main Street\, Springfield\, MA\, 01103\, United States
END:VEVENT
BEGIN:VEVENT
DTSTART;TZID=America/New_York:20191017T083000
DTEND;TZID=America/New_York:20191017T171500
DTSTAMP:20260422T121946
CREATED:20191008T191603Z
LAST-MODIFIED:20191008T191603Z
UID:11994-1571301000-1571332500@springfieldparkingauthority.com
SUMMARY:SOUTHERN NEW ENGLAND PLANNING ASSOCIATION
DESCRIPTION:Parking is available at the Civic Center Garage – $10 Post Pay \n 
URL:https://springfieldparkingauthority.com/event/southern-new-england-planning-association-3/
LOCATION:MassMutual Center\, 1277 Main Street\, Springfield\, MA\, 01103\, United States
END:VEVENT
END:VCALENDAR