BEGIN:VCALENDAR
VERSION:2.0
PRODID:-//Springfield Parking Authority - ECPv6.15.20//NONSGML v1.0//EN
CALSCALE:GREGORIAN
METHOD:PUBLISH
X-WR-CALNAME:Springfield Parking Authority
X-ORIGINAL-URL:https://springfieldparkingauthority.com
X-WR-CALDESC:Events for Springfield Parking Authority
REFRESH-INTERVAL;VALUE=DURATION:PT1H
X-Robots-Tag:noindex
X-PUBLISHED-TTL:PT1H
BEGIN:VTIMEZONE
TZID:America/New_York
BEGIN:DAYLIGHT
TZOFFSETFROM:-0500
TZOFFSETTO:-0400
TZNAME:EDT
DTSTART:20180311T070000
END:DAYLIGHT
BEGIN:STANDARD
TZOFFSETFROM:-0400
TZOFFSETTO:-0500
TZNAME:EST
DTSTART:20181104T060000
END:STANDARD
BEGIN:DAYLIGHT
TZOFFSETFROM:-0500
TZOFFSETTO:-0400
TZNAME:EDT
DTSTART:20190310T070000
END:DAYLIGHT
BEGIN:STANDARD
TZOFFSETFROM:-0400
TZOFFSETTO:-0500
TZNAME:EST
DTSTART:20191103T060000
END:STANDARD
BEGIN:DAYLIGHT
TZOFFSETFROM:-0500
TZOFFSETTO:-0400
TZNAME:EDT
DTSTART:20200308T070000
END:DAYLIGHT
BEGIN:STANDARD
TZOFFSETFROM:-0400
TZOFFSETTO:-0500
TZNAME:EST
DTSTART:20201101T060000
END:STANDARD
END:VTIMEZONE
BEGIN:VEVENT
DTSTART;TZID=America/New_York:20191025T070000
DTEND;TZID=America/New_York:20191025T170000
DTSTAMP:20260420T024602
CREATED:20190923T184728Z
LAST-MODIFIED:20190923T184728Z
UID:7233-1571986800-1572022800@springfieldparkingauthority.com
SUMMARY:TATE BEHAVIORAL SPEAKER SERIES
DESCRIPTION:Parking is available at the Civic Center Garage – $10 Post Pay \n 
URL:https://springfieldparkingauthority.com/event/tate-behavioral-speaker-series/
LOCATION:MassMutual Center\, 1277 Main Street\, Springfield\, MA\, 01103\, United States
END:VEVENT
BEGIN:VEVENT
DTSTART;TZID=America/New_York:20191025T070000
DTEND;TZID=America/New_York:20191025T170000
DTSTAMP:20260420T024602
CREATED:20190923T184728Z
LAST-MODIFIED:20190923T184728Z
UID:11976-1571986800-1572022800@springfieldparkingauthority.com
SUMMARY:TATE BEHAVIORAL SPEAKER SERIES
DESCRIPTION:Parking is available at the Civic Center Garage – $10 Post Pay \n 
URL:https://springfieldparkingauthority.com/event/tate-behavioral-speaker-series-2/
LOCATION:MassMutual Center\, 1277 Main Street\, Springfield\, MA\, 01103\, United States
END:VEVENT
BEGIN:VEVENT
DTSTART;TZID=America/New_York:20191025T070000
DTEND;TZID=America/New_York:20191025T190000
DTSTAMP:20260420T024602
CREATED:20191022T183656Z
LAST-MODIFIED:20191022T183656Z
UID:12004-1571986800-1572030000@springfieldparkingauthority.com
SUMMARY:MASS FOREIGN LANGUAGE ASSOCIATION
DESCRIPTION:Parking is available at the I-91 North and South Garages – On the Clock \n 
URL:https://springfieldparkingauthority.com/event/mass-foreign-language-association-2-2/
LOCATION:Sheraton Hotel\, One Monarch Place\, Springfield\, MA\, 01103\, United States
END:VEVENT
BEGIN:VEVENT
DTSTART;TZID=America/New_York:20191025T070000
DTEND;TZID=America/New_York:20191025T190000
DTSTAMP:20260420T024602
CREATED:20191022T183656Z
LAST-MODIFIED:20191022T183656Z
UID:7302-1571986800-1572030000@springfieldparkingauthority.com
SUMMARY:MASS FOREIGN LANGUAGE ASSOCIATION
DESCRIPTION:Parking is available at the I-91 North and South Garages – On the Clock \n 
URL:https://springfieldparkingauthority.com/event/mass-foreign-language-association-2/
LOCATION:Sheraton Hotel\, One Monarch Place\, Springfield\, MA\, 01103\, United States
END:VEVENT
BEGIN:VEVENT
DTSTART;TZID=America/New_York:20191025T080000
DTEND;TZID=America/New_York:20191025T160000
DTSTAMP:20260420T024602
CREATED:20190923T184550Z
LAST-MODIFIED:20190923T184550Z
UID:11974-1571990400-1572019200@springfieldparkingauthority.com
SUMMARY:THROUGH HER EYES GIRLS CONFERENCE
DESCRIPTION:Parking is available at the Civic Center Garage – $10 Post Pay \n 
URL:https://springfieldparkingauthority.com/event/through-her-eyes-girls-conference-5-2/
LOCATION:MassMutual Center\, 1277 Main Street\, Springfield\, MA\, 01103\, United States
END:VEVENT
BEGIN:VEVENT
DTSTART;TZID=America/New_York:20191025T080000
DTEND;TZID=America/New_York:20191025T160000
DTSTAMP:20260420T024602
CREATED:20190923T184550Z
LAST-MODIFIED:20190923T184550Z
UID:7229-1571990400-1572019200@springfieldparkingauthority.com
SUMMARY:THROUGH HER EYES GIRLS CONFERENCE
DESCRIPTION:Parking is available at the Civic Center Garage – $10 Post Pay \n 
URL:https://springfieldparkingauthority.com/event/through-her-eyes-girls-conference-5/
LOCATION:MassMutual Center\, 1277 Main Street\, Springfield\, MA\, 01103\, United States
END:VEVENT
BEGIN:VEVENT
DTSTART;TZID=America/New_York:20191025T200000
DTEND;TZID=America/New_York:20191025T220000
DTSTAMP:20260420T024602
CREATED:20190923T184646Z
LAST-MODIFIED:20190923T184646Z
UID:11975-1572033600-1572040800@springfieldparkingauthority.com
SUMMARY:FAMILY FUED LIVE
DESCRIPTION:Parking is available at the I-91  South Garage – On the Clock \n  \n 
URL:https://springfieldparkingauthority.com/event/family-fued-live-2/
LOCATION:Symphony Hall\, 34 Court St.\, Springfield\, MA\, 01103\, United States
END:VEVENT
BEGIN:VEVENT
DTSTART;TZID=America/New_York:20191025T200000
DTEND;TZID=America/New_York:20191025T220000
DTSTAMP:20260420T024602
CREATED:20190923T184646Z
LAST-MODIFIED:20190923T184646Z
UID:7231-1572033600-1572040800@springfieldparkingauthority.com
SUMMARY:FAMILY FUED LIVE
DESCRIPTION:Parking is available at the I-91  South Garage – On the Clock \n  \n 
URL:https://springfieldparkingauthority.com/event/family-fued-live/
LOCATION:Symphony Hall\, 34 Court St.\, Springfield\, MA\, 01103\, United States
END:VEVENT
END:VCALENDAR