BEGIN:VCALENDAR
VERSION:2.0
PRODID:-//Springfield Parking Authority - ECPv6.15.20//NONSGML v1.0//EN
CALSCALE:GREGORIAN
METHOD:PUBLISH
X-WR-CALNAME:Springfield Parking Authority
X-ORIGINAL-URL:https://springfieldparkingauthority.com
X-WR-CALDESC:Events for Springfield Parking Authority
REFRESH-INTERVAL;VALUE=DURATION:PT1H
X-Robots-Tag:noindex
X-PUBLISHED-TTL:PT1H
BEGIN:VTIMEZONE
TZID:America/New_York
BEGIN:DAYLIGHT
TZOFFSETFROM:-0500
TZOFFSETTO:-0400
TZNAME:EDT
DTSTART:20180311T070000
END:DAYLIGHT
BEGIN:STANDARD
TZOFFSETFROM:-0400
TZOFFSETTO:-0500
TZNAME:EST
DTSTART:20181104T060000
END:STANDARD
BEGIN:DAYLIGHT
TZOFFSETFROM:-0500
TZOFFSETTO:-0400
TZNAME:EDT
DTSTART:20190310T070000
END:DAYLIGHT
BEGIN:STANDARD
TZOFFSETFROM:-0400
TZOFFSETTO:-0500
TZNAME:EST
DTSTART:20191103T060000
END:STANDARD
BEGIN:DAYLIGHT
TZOFFSETFROM:-0500
TZOFFSETTO:-0400
TZNAME:EDT
DTSTART:20200308T070000
END:DAYLIGHT
BEGIN:STANDARD
TZOFFSETFROM:-0400
TZOFFSETTO:-0500
TZNAME:EST
DTSTART:20201101T060000
END:STANDARD
END:VTIMEZONE
BEGIN:VEVENT
DTSTART;TZID=America/New_York:20191026T070000
DTEND;TZID=America/New_York:20191026T141500
DTSTAMP:20260420T023927
CREATED:20191022T183751Z
LAST-MODIFIED:20191022T183751Z
UID:7304-1572073200-1572099300@springfieldparkingauthority.com
SUMMARY:MASS FOREIGN LANGUAGE ASSOCIATION
DESCRIPTION:Parking is available at the I-91  South Garage – On the Clock \n 
URL:https://springfieldparkingauthority.com/event/mass-foreign-language-association-3/
LOCATION:Sheraton Hotel\, One Monarch Place\, Springfield\, MA\, 01103\, United States
END:VEVENT
BEGIN:VEVENT
DTSTART;TZID=America/New_York:20191026T070000
DTEND;TZID=America/New_York:20191026T141500
DTSTAMP:20260420T023927
CREATED:20191022T183751Z
LAST-MODIFIED:20191022T183751Z
UID:12005-1572073200-1572099300@springfieldparkingauthority.com
SUMMARY:MASS FOREIGN LANGUAGE ASSOCIATION
DESCRIPTION:Parking is available at the I-91  South Garage – On the Clock \n 
URL:https://springfieldparkingauthority.com/event/mass-foreign-language-association-3-2/
LOCATION:Sheraton Hotel\, One Monarch Place\, Springfield\, MA\, 01103\, United States
END:VEVENT
BEGIN:VEVENT
DTSTART;TZID=America/New_York:20191026T080000
DTEND;TZID=America/New_York:20191027T000000
DTSTAMP:20260420T023927
CREATED:20191022T183936Z
LAST-MODIFIED:20191022T183936Z
UID:7308-1572076800-1572134400@springfieldparkingauthority.com
SUMMARY:80'S & 90'S HALLOWEEN BASH
DESCRIPTION:Parking is available at the I-91  South Garage – On the Clock \n 
URL:https://springfieldparkingauthority.com/event/80s-90s-halloween-bash/
LOCATION:Sheraton Hotel\, One Monarch Place\, Springfield\, MA\, 01103\, United States
END:VEVENT
BEGIN:VEVENT
DTSTART;TZID=America/New_York:20191026T080000
DTEND;TZID=America/New_York:20191027T000000
DTSTAMP:20260420T023927
CREATED:20191022T183936Z
LAST-MODIFIED:20191022T183936Z
UID:12007-1572076800-1572134400@springfieldparkingauthority.com
SUMMARY:80'S & 90'S HALLOWEEN BASH
DESCRIPTION:Parking is available at the I-91  South Garage – On the Clock \n 
URL:https://springfieldparkingauthority.com/event/80s-90s-halloween-bash-2/
LOCATION:Sheraton Hotel\, One Monarch Place\, Springfield\, MA\, 01103\, United States
END:VEVENT
BEGIN:VEVENT
DTSTART;TZID=America/New_York:20191026T160000
DTEND;TZID=America/New_York:20191026T180000
DTSTAMP:20260420T023927
CREATED:20191028T183033Z
LAST-MODIFIED:20191028T183033Z
UID:7379-1572105600-1572112800@springfieldparkingauthority.com
SUMMARY:OK-T-BIRD FEST
DESCRIPTION:Parking is available at the Civic Center Garage – Free with Ticket \n 
URL:https://springfieldparkingauthority.com/event/ok-t-bird-fest/
LOCATION:MassMutual Center\, 1277 Main Street\, Springfield\, MA\, 01103\, United States
END:VEVENT
BEGIN:VEVENT
DTSTART;TZID=America/New_York:20191026T160000
DTEND;TZID=America/New_York:20191026T180000
DTSTAMP:20260420T023927
CREATED:20191028T183033Z
LAST-MODIFIED:20191028T183033Z
UID:12038-1572105600-1572112800@springfieldparkingauthority.com
SUMMARY:OK-T-BIRD FEST
DESCRIPTION:Parking is available at the Civic Center Garage – Free with Ticket \n 
URL:https://springfieldparkingauthority.com/event/ok-t-bird-fest-2/
LOCATION:MassMutual Center\, 1277 Main Street\, Springfield\, MA\, 01103\, United States
END:VEVENT
BEGIN:VEVENT
DTSTART;TZID=America/New_York:20191026T160000
DTEND;TZID=America/New_York:20191026T220000
DTSTAMP:20260420T023927
CREATED:20191022T183835Z
LAST-MODIFIED:20191022T183835Z
UID:7306-1572105600-1572127200@springfieldparkingauthority.com
SUMMARY:MDRF FUNDRAISING DINNER
DESCRIPTION:Parking is available at the I-91  South Garage – On the Clock \n 
URL:https://springfieldparkingauthority.com/event/mdrf-fundraising-dinner-2/
LOCATION:Sheraton Hotel\, One Monarch Place\, Springfield\, MA\, 01103\, United States
END:VEVENT
BEGIN:VEVENT
DTSTART;TZID=America/New_York:20191026T160000
DTEND;TZID=America/New_York:20191026T220000
DTSTAMP:20260420T023927
CREATED:20191022T183835Z
LAST-MODIFIED:20191022T183835Z
UID:12006-1572105600-1572127200@springfieldparkingauthority.com
SUMMARY:MDRF FUNDRAISING DINNER
DESCRIPTION:Parking is available at the I-91  South Garage – On the Clock \n 
URL:https://springfieldparkingauthority.com/event/mdrf-fundraising-dinner-2-2/
LOCATION:Sheraton Hotel\, One Monarch Place\, Springfield\, MA\, 01103\, United States
END:VEVENT
BEGIN:VEVENT
DTSTART;TZID=America/New_York:20191026T180000
DTEND;TZID=America/New_York:20191026T234500
DTSTAMP:20260420T023927
CREATED:20190923T184852Z
LAST-MODIFIED:20190923T184852Z
UID:11978-1572112800-1572133500@springfieldparkingauthority.com
SUMMARY:BLUES CONCERT SOCIAL
DESCRIPTION:Parking is available at the Civic Center Garage – $10 & $15 Prepay  \n 
URL:https://springfieldparkingauthority.com/event/blues-concert-social-2/
LOCATION:MassMutual Center\, 1277 Main Street\, Springfield\, MA\, 01103\, United States
END:VEVENT
BEGIN:VEVENT
DTSTART;TZID=America/New_York:20191026T180000
DTEND;TZID=America/New_York:20191026T234500
DTSTAMP:20260420T023927
CREATED:20190923T184852Z
LAST-MODIFIED:20190923T184852Z
UID:7237-1572112800-1572133500@springfieldparkingauthority.com
SUMMARY:BLUES CONCERT SOCIAL
DESCRIPTION:Parking is available at the Civic Center Garage – $10 & $15 Prepay  \n 
URL:https://springfieldparkingauthority.com/event/blues-concert-social/
LOCATION:MassMutual Center\, 1277 Main Street\, Springfield\, MA\, 01103\, United States
END:VEVENT
BEGIN:VEVENT
DTSTART;TZID=America/New_York:20191026T190000
DTEND;TZID=America/New_York:20191026T220000
DTSTAMP:20260420T023927
CREATED:20190923T184805Z
LAST-MODIFIED:20190923T184805Z
UID:7235-1572116400-1572127200@springfieldparkingauthority.com
SUMMARY:THUNDERBIRDS VS BELLEVILLE
DESCRIPTION:Parking is available at the Civic Center Garage – Free with Ticket \n 
URL:https://springfieldparkingauthority.com/event/thunderbirds-vs-belleville/
LOCATION:MassMutual Center\, 1277 Main Street\, Springfield\, MA\, 01103\, United States
END:VEVENT
BEGIN:VEVENT
DTSTART;TZID=America/New_York:20191026T190000
DTEND;TZID=America/New_York:20191026T220000
DTSTAMP:20260420T023927
CREATED:20190923T184805Z
LAST-MODIFIED:20190923T184805Z
UID:11977-1572116400-1572127200@springfieldparkingauthority.com
SUMMARY:THUNDERBIRDS VS BELLEVILLE
DESCRIPTION:Parking is available at the Civic Center Garage – Free with Ticket \n 
URL:https://springfieldparkingauthority.com/event/thunderbirds-vs-belleville-2/
LOCATION:MassMutual Center\, 1277 Main Street\, Springfield\, MA\, 01103\, United States
END:VEVENT
BEGIN:VEVENT
DTSTART;TZID=America/New_York:20191026T190000
DTEND;TZID=America/New_York:20191026T220000
DTSTAMP:20260420T023927
CREATED:20190923T184939Z
LAST-MODIFIED:20190923T184939Z
UID:11979-1572116400-1572127200@springfieldparkingauthority.com
SUMMARY:GATOR JAZZ PRESENTS ALEX BUGNON
DESCRIPTION:Parking available at Columbus Center Garage
URL:https://springfieldparkingauthority.com/event/gator-jazz-presents-walter-beasley-2/
LOCATION:Columbus Center\, 1 Columbus Center\, Springfield\, MA\, 01103\, United States
END:VEVENT
BEGIN:VEVENT
DTSTART;TZID=America/New_York:20191026T190000
DTEND;TZID=America/New_York:20191026T220000
DTSTAMP:20260420T023927
CREATED:20190923T184939Z
LAST-MODIFIED:20190923T184939Z
UID:7239-1572116400-1572127200@springfieldparkingauthority.com
SUMMARY:GATOR JAZZ PRESENTS ALEX BUGNON
DESCRIPTION:Parking available at Columbus Center Garage
URL:https://springfieldparkingauthority.com/event/gator-jazz-presents-walter-beasley/
LOCATION:Columbus Center\, 1 Columbus Center\, Springfield\, MA\, 01103\, United States
END:VEVENT
END:VCALENDAR