BEGIN:VCALENDAR
VERSION:2.0
PRODID:-//Springfield Parking Authority - ECPv6.15.20//NONSGML v1.0//EN
CALSCALE:GREGORIAN
METHOD:PUBLISH
X-WR-CALNAME:Springfield Parking Authority
X-ORIGINAL-URL:https://springfieldparkingauthority.com
X-WR-CALDESC:Events for Springfield Parking Authority
REFRESH-INTERVAL;VALUE=DURATION:PT1H
X-Robots-Tag:noindex
X-PUBLISHED-TTL:PT1H
BEGIN:VTIMEZONE
TZID:America/New_York
BEGIN:DAYLIGHT
TZOFFSETFROM:-0500
TZOFFSETTO:-0400
TZNAME:EDT
DTSTART:20180311T070000
END:DAYLIGHT
BEGIN:STANDARD
TZOFFSETFROM:-0400
TZOFFSETTO:-0500
TZNAME:EST
DTSTART:20181104T060000
END:STANDARD
BEGIN:DAYLIGHT
TZOFFSETFROM:-0500
TZOFFSETTO:-0400
TZNAME:EDT
DTSTART:20190310T070000
END:DAYLIGHT
BEGIN:STANDARD
TZOFFSETFROM:-0400
TZOFFSETTO:-0500
TZNAME:EST
DTSTART:20191103T060000
END:STANDARD
BEGIN:DAYLIGHT
TZOFFSETFROM:-0500
TZOFFSETTO:-0400
TZNAME:EDT
DTSTART:20200308T070000
END:DAYLIGHT
BEGIN:STANDARD
TZOFFSETFROM:-0400
TZOFFSETTO:-0500
TZNAME:EST
DTSTART:20201101T060000
END:STANDARD
END:VTIMEZONE
BEGIN:VEVENT
DTSTART;TZID=America/New_York:20191027T060000
DTEND;TZID=America/New_York:20191027T235900
DTSTAMP:20260419T134331
CREATED:20191022T184025Z
LAST-MODIFIED:20191022T184025Z
UID:7310-1572156000-1572220740@springfieldparkingauthority.com
SUMMARY:THE HAROLD GRINSPOON FOUNDSTION
DESCRIPTION:Parking is available at the I-91  South Garage – On the Clock \n 
URL:https://springfieldparkingauthority.com/event/the-harold-grinspoon-foundstion/
LOCATION:Sheraton Hotel\, One Monarch Place\, Springfield\, MA\, 01103\, United States
END:VEVENT
BEGIN:VEVENT
DTSTART;TZID=America/New_York:20191027T060000
DTEND;TZID=America/New_York:20191027T235900
DTSTAMP:20260419T134331
CREATED:20191022T184025Z
LAST-MODIFIED:20191022T184025Z
UID:12008-1572156000-1572220740@springfieldparkingauthority.com
SUMMARY:THE HAROLD GRINSPOON FOUNDSTION
DESCRIPTION:Parking is available at the I-91  South Garage – On the Clock \n 
URL:https://springfieldparkingauthority.com/event/the-harold-grinspoon-foundstion-5/
LOCATION:Sheraton Hotel\, One Monarch Place\, Springfield\, MA\, 01103\, United States
END:VEVENT
BEGIN:VEVENT
DTSTART;TZID=America/New_York:20191027T170000
DTEND;TZID=America/New_York:20191027T200000
DTSTAMP:20260419T134331
CREATED:20190923T185027Z
LAST-MODIFIED:20190923T185027Z
UID:7241-1572195600-1572206400@springfieldparkingauthority.com
SUMMARY:THUNDERBIRDS VS ROCHESTER
DESCRIPTION:Parking is available at the Civic Center Garage – Free with Ticket \n 
URL:https://springfieldparkingauthority.com/event/thunderbirds-vs-rochester-7/
LOCATION:MassMutual Center\, 1277 Main Street\, Springfield\, MA\, 01103\, United States
END:VEVENT
BEGIN:VEVENT
DTSTART;TZID=America/New_York:20191027T170000
DTEND;TZID=America/New_York:20191027T200000
DTSTAMP:20260419T134331
CREATED:20190923T185027Z
LAST-MODIFIED:20190923T185027Z
UID:11980-1572195600-1572206400@springfieldparkingauthority.com
SUMMARY:THUNDERBIRDS VS ROCHESTER
DESCRIPTION:Parking is available at the Civic Center Garage – Free with Ticket \n 
URL:https://springfieldparkingauthority.com/event/thunderbirds-vs-rochester-7-2/
LOCATION:MassMutual Center\, 1277 Main Street\, Springfield\, MA\, 01103\, United States
END:VEVENT
END:VCALENDAR