BEGIN:VCALENDAR
VERSION:2.0
PRODID:-//Springfield Parking Authority - ECPv6.15.20//NONSGML v1.0//EN
CALSCALE:GREGORIAN
METHOD:PUBLISH
X-ORIGINAL-URL:https://springfieldparkingauthority.com
X-WR-CALDESC:Events for Springfield Parking Authority
REFRESH-INTERVAL;VALUE=DURATION:PT1H
X-Robots-Tag:noindex
X-PUBLISHED-TTL:PT1H
BEGIN:VTIMEZONE
TZID:America/New_York
BEGIN:DAYLIGHT
TZOFFSETFROM:-0500
TZOFFSETTO:-0400
TZNAME:EDT
DTSTART:20180311T070000
END:DAYLIGHT
BEGIN:STANDARD
TZOFFSETFROM:-0400
TZOFFSETTO:-0500
TZNAME:EST
DTSTART:20181104T060000
END:STANDARD
BEGIN:DAYLIGHT
TZOFFSETFROM:-0500
TZOFFSETTO:-0400
TZNAME:EDT
DTSTART:20190310T070000
END:DAYLIGHT
BEGIN:STANDARD
TZOFFSETFROM:-0400
TZOFFSETTO:-0500
TZNAME:EST
DTSTART:20191103T060000
END:STANDARD
BEGIN:DAYLIGHT
TZOFFSETFROM:-0500
TZOFFSETTO:-0400
TZNAME:EDT
DTSTART:20200308T070000
END:DAYLIGHT
BEGIN:STANDARD
TZOFFSETFROM:-0400
TZOFFSETTO:-0500
TZNAME:EST
DTSTART:20201101T060000
END:STANDARD
END:VTIMEZONE
BEGIN:VEVENT
DTSTART;TZID=America/New_York:20191113T080000
DTEND;TZID=America/New_York:20191113T110000
DTSTAMP:20260419T134440
CREATED:20191112T183821Z
LAST-MODIFIED:20191112T183821Z
UID:12060-1573632000-1573642800@springfieldparkingauthority.com
SUMMARY:GSCVB ANNUAL MEETING
DESCRIPTION:Parking is available at the Civic Center Garage – $10 Post Pay \n 
URL:https://springfieldparkingauthority.com/event/gscvb-annual-meeting-2/
LOCATION:MassMutual Center\, 1277 Main Street\, Springfield\, MA\, 01103\, United States
END:VEVENT
BEGIN:VEVENT
DTSTART;TZID=America/New_York:20191113T080000
DTEND;TZID=America/New_York:20191113T110000
DTSTAMP:20260419T134440
CREATED:20191112T183821Z
LAST-MODIFIED:20191112T183821Z
UID:7432-1573632000-1573642800@springfieldparkingauthority.com
SUMMARY:GSCVB ANNUAL MEETING
DESCRIPTION:Parking is available at the Civic Center Garage – $10 Post Pay \n 
URL:https://springfieldparkingauthority.com/event/gscvb-annual-meeting/
LOCATION:MassMutual Center\, 1277 Main Street\, Springfield\, MA\, 01103\, United States
END:VEVENT
BEGIN:VEVENT
DTSTART;TZID=America/New_York:20191113T080000
DTEND;TZID=America/New_York:20191113T130000
DTSTAMP:20260419T134440
CREATED:20191105T161533Z
LAST-MODIFIED:20191105T161533Z
UID:12052-1573632000-1573650000@springfieldparkingauthority.com
SUMMARY:UNITED STATES PIONEER VALLEY
DESCRIPTION:Parking is available at the I-91  South Garage – On the Clock \n 
URL:https://springfieldparkingauthority.com/event/united-states-pioneer-valley-2/
LOCATION:Sheraton Hotel\, One Monarch Place\, Springfield\, MA\, 01103\, United States
END:VEVENT
BEGIN:VEVENT
DTSTART;TZID=America/New_York:20191113T080000
DTEND;TZID=America/New_York:20191113T130000
DTSTAMP:20260419T134440
CREATED:20191105T161533Z
LAST-MODIFIED:20191105T161533Z
UID:7412-1573632000-1573650000@springfieldparkingauthority.com
SUMMARY:UNITED STATES PIONEER VALLEY
DESCRIPTION:Parking is available at the I-91  South Garage – On the Clock \n 
URL:https://springfieldparkingauthority.com/event/united-states-pioneer-valley/
LOCATION:Sheraton Hotel\, One Monarch Place\, Springfield\, MA\, 01103\, United States
END:VEVENT
BEGIN:VEVENT
DTSTART;TZID=America/New_York:20191113T080000
DTEND;TZID=America/New_York:20191113T183000
DTSTAMP:20260419T134440
CREATED:20191112T183752Z
LAST-MODIFIED:20191112T183752Z
UID:12059-1573632000-1573669800@springfieldparkingauthority.com
SUMMARY:FOOTLOCKER HOLIDAY MEETING
DESCRIPTION:Parking is available at the Civic Center Garage – $10 Post Pay \n 
URL:https://springfieldparkingauthority.com/event/footlocker-holiday-meeting-2/
LOCATION:MassMutual Center\, 1277 Main Street\, Springfield\, MA\, 01103\, United States
END:VEVENT
BEGIN:VEVENT
DTSTART;TZID=America/New_York:20191113T080000
DTEND;TZID=America/New_York:20191113T183000
DTSTAMP:20260419T134440
CREATED:20191112T183752Z
LAST-MODIFIED:20191112T183752Z
UID:7430-1573632000-1573669800@springfieldparkingauthority.com
SUMMARY:FOOTLOCKER HOLIDAY MEETING
DESCRIPTION:Parking is available at the Civic Center Garage – $10 Post Pay \n 
URL:https://springfieldparkingauthority.com/event/footlocker-holiday-meeting/
LOCATION:MassMutual Center\, 1277 Main Street\, Springfield\, MA\, 01103\, United States
END:VEVENT
BEGIN:VEVENT
DTSTART;TZID=America/New_York:20191113T103000
DTEND;TZID=America/New_York:20191113T133000
DTSTAMP:20260419T134440
CREATED:20191022T185502Z
LAST-MODIFIED:20191022T185502Z
UID:12022-1573641000-1573651800@springfieldparkingauthority.com
SUMMARY:THUNDERBIRDS VS LEHIGH VALLEY
DESCRIPTION:Parking is available at the Civic Center Garage
URL:https://springfieldparkingauthority.com/event/thunderbirds-vs-lehigh-valley-7-2/
LOCATION:MassMutual Center\, 1277 Main Street\, Springfield\, MA\, 01103\, United States
END:VEVENT
BEGIN:VEVENT
DTSTART;TZID=America/New_York:20191113T103000
DTEND;TZID=America/New_York:20191113T133000
DTSTAMP:20260419T134440
CREATED:20191022T185502Z
LAST-MODIFIED:20191022T185502Z
UID:7338-1573641000-1573651800@springfieldparkingauthority.com
SUMMARY:THUNDERBIRDS VS LEHIGH VALLEY
DESCRIPTION:Parking is available at the Civic Center Garage
URL:https://springfieldparkingauthority.com/event/thunderbirds-vs-lehigh-valley-7/
LOCATION:MassMutual Center\, 1277 Main Street\, Springfield\, MA\, 01103\, United States
END:VEVENT
BEGIN:VEVENT
DTSTART;TZID=America/New_York:20191113T170000
DTEND;TZID=America/New_York:20191113T200000
DTSTAMP:20260419T134440
CREATED:20191105T161501Z
LAST-MODIFIED:20191105T161501Z
UID:12051-1573664400-1573675200@springfieldparkingauthority.com
SUMMARY:MASFAA 2019 ANNUAL CONFERENCE
DESCRIPTION:Parking is available at the I-91  South Garage – On the Clock \n 
URL:https://springfieldparkingauthority.com/event/masfaa-2019-annual-conference-4/
LOCATION:Sheraton Hotel\, One Monarch Place\, Springfield\, MA\, 01103\, United States
END:VEVENT
BEGIN:VEVENT
DTSTART;TZID=America/New_York:20191113T170000
DTEND;TZID=America/New_York:20191113T200000
DTSTAMP:20260419T134440
CREATED:20191105T161501Z
LAST-MODIFIED:20191105T161501Z
UID:7410-1573664400-1573675200@springfieldparkingauthority.com
SUMMARY:MASFAA 2019 ANNUAL CONFERENCE
DESCRIPTION:Parking is available at the I-91  South Garage – On the Clock \n 
URL:https://springfieldparkingauthority.com/event/masfaa-2019-annual-conference/
LOCATION:Sheraton Hotel\, One Monarch Place\, Springfield\, MA\, 01103\, United States
END:VEVENT
END:VCALENDAR