BEGIN:VCALENDAR
VERSION:2.0
PRODID:-//Springfield Parking Authority - ECPv6.15.20//NONSGML v1.0//EN
CALSCALE:GREGORIAN
METHOD:PUBLISH
X-ORIGINAL-URL:https://springfieldparkingauthority.com
X-WR-CALDESC:Events for Springfield Parking Authority
REFRESH-INTERVAL;VALUE=DURATION:PT1H
X-Robots-Tag:noindex
X-PUBLISHED-TTL:PT1H
BEGIN:VTIMEZONE
TZID:America/New_York
BEGIN:DAYLIGHT
TZOFFSETFROM:-0500
TZOFFSETTO:-0400
TZNAME:EDT
DTSTART:20180311T070000
END:DAYLIGHT
BEGIN:STANDARD
TZOFFSETFROM:-0400
TZOFFSETTO:-0500
TZNAME:EST
DTSTART:20181104T060000
END:STANDARD
BEGIN:DAYLIGHT
TZOFFSETFROM:-0500
TZOFFSETTO:-0400
TZNAME:EDT
DTSTART:20190310T070000
END:DAYLIGHT
BEGIN:STANDARD
TZOFFSETFROM:-0400
TZOFFSETTO:-0500
TZNAME:EST
DTSTART:20191103T060000
END:STANDARD
BEGIN:DAYLIGHT
TZOFFSETFROM:-0500
TZOFFSETTO:-0400
TZNAME:EDT
DTSTART:20200308T070000
END:DAYLIGHT
BEGIN:STANDARD
TZOFFSETFROM:-0400
TZOFFSETTO:-0500
TZNAME:EST
DTSTART:20201101T060000
END:STANDARD
END:VTIMEZONE
BEGIN:VEVENT
DTSTART;TZID=America/New_York:20191114T070000
DTEND;TZID=America/New_York:20191114T210000
DTSTAMP:20260419T150214
CREATED:20191105T161605Z
LAST-MODIFIED:20191105T161605Z
UID:12053-1573714800-1573765200@springfieldparkingauthority.com
SUMMARY:MASFAA 2019 ANNUAL CONFERENCE
DESCRIPTION:Parking is available at the I-91  South Garage – On the Clock \n 
URL:https://springfieldparkingauthority.com/event/masfaa-2019-annual-conference-2-2/
LOCATION:Sheraton Hotel\, One Monarch Place\, Springfield\, MA\, 01103\, United States
END:VEVENT
BEGIN:VEVENT
DTSTART;TZID=America/New_York:20191114T070000
DTEND;TZID=America/New_York:20191114T210000
DTSTAMP:20260419T150214
CREATED:20191105T161605Z
LAST-MODIFIED:20191105T161605Z
UID:7414-1573714800-1573765200@springfieldparkingauthority.com
SUMMARY:MASFAA 2019 ANNUAL CONFERENCE
DESCRIPTION:Parking is available at the I-91  South Garage – On the Clock \n 
URL:https://springfieldparkingauthority.com/event/masfaa-2019-annual-conference-2/
LOCATION:Sheraton Hotel\, One Monarch Place\, Springfield\, MA\, 01103\, United States
END:VEVENT
BEGIN:VEVENT
DTSTART;TZID=America/New_York:20191114T130000
DTEND;TZID=America/New_York:20191114T203000
DTSTAMP:20260419T150214
CREATED:20191022T185551Z
LAST-MODIFIED:20191022T185551Z
UID:7340-1573736400-1573763400@springfieldparkingauthority.com
SUMMARY:MASSACHUSETTS PHARMACISTS CONFERENCE
DESCRIPTION:Parking is available at the Civic Center Garage – $10 Post Pay \n 
URL:https://springfieldparkingauthority.com/event/massachusetts-pharmacists-conference/
LOCATION:MassMutual Center\, 1277 Main Street\, Springfield\, MA\, 01103\, United States
END:VEVENT
BEGIN:VEVENT
DTSTART;TZID=America/New_York:20191114T130000
DTEND;TZID=America/New_York:20191114T203000
DTSTAMP:20260419T150214
CREATED:20191022T185551Z
LAST-MODIFIED:20191022T185551Z
UID:12023-1573736400-1573763400@springfieldparkingauthority.com
SUMMARY:MASSACHUSETTS PHARMACISTS CONFERENCE
DESCRIPTION:Parking is available at the Civic Center Garage – $10 Post Pay \n 
URL:https://springfieldparkingauthority.com/event/massachusetts-pharmacists-conference-3/
LOCATION:MassMutual Center\, 1277 Main Street\, Springfield\, MA\, 01103\, United States
END:VEVENT
END:VCALENDAR