BEGIN:VCALENDAR
VERSION:2.0
PRODID:-//Springfield Parking Authority - ECPv6.15.20//NONSGML v1.0//EN
CALSCALE:GREGORIAN
METHOD:PUBLISH
X-ORIGINAL-URL:https://springfieldparkingauthority.com
X-WR-CALDESC:Events for Springfield Parking Authority
REFRESH-INTERVAL;VALUE=DURATION:PT1H
X-Robots-Tag:noindex
X-PUBLISHED-TTL:PT1H
BEGIN:VTIMEZONE
TZID:America/New_York
BEGIN:DAYLIGHT
TZOFFSETFROM:-0500
TZOFFSETTO:-0400
TZNAME:EDT
DTSTART:20180311T070000
END:DAYLIGHT
BEGIN:STANDARD
TZOFFSETFROM:-0400
TZOFFSETTO:-0500
TZNAME:EST
DTSTART:20181104T060000
END:STANDARD
BEGIN:DAYLIGHT
TZOFFSETFROM:-0500
TZOFFSETTO:-0400
TZNAME:EDT
DTSTART:20190310T070000
END:DAYLIGHT
BEGIN:STANDARD
TZOFFSETFROM:-0400
TZOFFSETTO:-0500
TZNAME:EST
DTSTART:20191103T060000
END:STANDARD
BEGIN:DAYLIGHT
TZOFFSETFROM:-0500
TZOFFSETTO:-0400
TZNAME:EDT
DTSTART:20200308T070000
END:DAYLIGHT
BEGIN:STANDARD
TZOFFSETFROM:-0400
TZOFFSETTO:-0500
TZNAME:EST
DTSTART:20201101T060000
END:STANDARD
END:VTIMEZONE
BEGIN:VEVENT
DTSTART;TZID=America/New_York:20191123T070000
DTEND;TZID=America/New_York:20191123T120000
DTSTAMP:20260420T071231
CREATED:20191112T184150Z
LAST-MODIFIED:20191112T184150Z
UID:12065-1574492400-1574510400@springfieldparkingauthority.com
SUMMARY:BRIGHAM UNIVERSITY FOOTBALL
DESCRIPTION:Parking is available at the I-91  South Garage – On the Clock \n 
URL:https://springfieldparkingauthority.com/event/brigham-university-football-2/
LOCATION:Sheraton Hotel\, One Monarch Place\, Springfield\, MA\, 01103\, United States
END:VEVENT
BEGIN:VEVENT
DTSTART;TZID=America/New_York:20191123T070000
DTEND;TZID=America/New_York:20191123T120000
DTSTAMP:20260420T071231
CREATED:20191112T184150Z
LAST-MODIFIED:20191112T184150Z
UID:7442-1574492400-1574510400@springfieldparkingauthority.com
SUMMARY:BRIGHAM UNIVERSITY FOOTBALL
DESCRIPTION:Parking is available at the I-91  South Garage – On the Clock \n 
URL:https://springfieldparkingauthority.com/event/brigham-university-football/
LOCATION:Sheraton Hotel\, One Monarch Place\, Springfield\, MA\, 01103\, United States
END:VEVENT
BEGIN:VEVENT
DTSTART;TZID=America/New_York:20191123T080000
DTEND;TZID=America/New_York:20191123T180000
DTSTAMP:20260420T071231
CREATED:20191022T185902Z
LAST-MODIFIED:20191022T185902Z
UID:7347-1574496000-1574532000@springfieldparkingauthority.com
SUMMARY:SPRINGFIELD MARTIAL ARTS
DESCRIPTION:Parking is available at the Civic Center Garage – $10 & $15 Prepay  \n 
URL:https://springfieldparkingauthority.com/event/springfield-martial-arts-3/
LOCATION:MassMutual Center\, 1277 Main Street\, Springfield\, MA\, 01103\, United States
END:VEVENT
BEGIN:VEVENT
DTSTART;TZID=America/New_York:20191123T080000
DTEND;TZID=America/New_York:20191123T180000
DTSTAMP:20260420T071231
CREATED:20191022T185902Z
LAST-MODIFIED:20191022T185902Z
UID:12026-1574496000-1574532000@springfieldparkingauthority.com
SUMMARY:SPRINGFIELD MARTIAL ARTS
DESCRIPTION:Parking is available at the Civic Center Garage – $10 & $15 Prepay  \n 
URL:https://springfieldparkingauthority.com/event/springfield-martial-arts-3-2/
LOCATION:MassMutual Center\, 1277 Main Street\, Springfield\, MA\, 01103\, United States
END:VEVENT
BEGIN:VEVENT
DTSTART;TZID=America/New_York:20191123T190000
DTEND;TZID=America/New_York:20191123T220000
DTSTAMP:20260420T071231
CREATED:20191022T185938Z
LAST-MODIFIED:20191022T185938Z
UID:7349-1574535600-1574546400@springfieldparkingauthority.com
SUMMARY:THUNDERBIRDS VS PROVIDENCE
DESCRIPTION:Parking is available at the Civic Center Garage – Free with Ticket \n 
URL:https://springfieldparkingauthority.com/event/thunderbirds-vs-providence-20/
LOCATION:MassMutual Center\, 1277 Main Street\, Springfield\, MA\, 01103\, United States
END:VEVENT
BEGIN:VEVENT
DTSTART;TZID=America/New_York:20191123T190000
DTEND;TZID=America/New_York:20191123T220000
DTSTAMP:20260420T071231
CREATED:20191022T185938Z
LAST-MODIFIED:20191022T185938Z
UID:12027-1574535600-1574546400@springfieldparkingauthority.com
SUMMARY:THUNDERBIRDS VS PROVIDENCE
DESCRIPTION:Parking is available at the Civic Center Garage – Free with Ticket \n 
URL:https://springfieldparkingauthority.com/event/thunderbirds-vs-providence-20-2/
LOCATION:MassMutual Center\, 1277 Main Street\, Springfield\, MA\, 01103\, United States
END:VEVENT
END:VCALENDAR