BEGIN:VCALENDAR
VERSION:2.0
PRODID:-//Springfield Parking Authority - ECPv6.15.20//NONSGML v1.0//EN
CALSCALE:GREGORIAN
METHOD:PUBLISH
X-WR-CALNAME:Springfield Parking Authority
X-ORIGINAL-URL:https://springfieldparkingauthority.com
X-WR-CALDESC:Events for Springfield Parking Authority
REFRESH-INTERVAL;VALUE=DURATION:PT1H
X-Robots-Tag:noindex
X-PUBLISHED-TTL:PT1H
BEGIN:VTIMEZONE
TZID:America/New_York
BEGIN:DAYLIGHT
TZOFFSETFROM:-0500
TZOFFSETTO:-0400
TZNAME:EDT
DTSTART:20180311T070000
END:DAYLIGHT
BEGIN:STANDARD
TZOFFSETFROM:-0400
TZOFFSETTO:-0500
TZNAME:EST
DTSTART:20181104T060000
END:STANDARD
BEGIN:DAYLIGHT
TZOFFSETFROM:-0500
TZOFFSETTO:-0400
TZNAME:EDT
DTSTART:20190310T070000
END:DAYLIGHT
BEGIN:STANDARD
TZOFFSETFROM:-0400
TZOFFSETTO:-0500
TZNAME:EST
DTSTART:20191103T060000
END:STANDARD
BEGIN:DAYLIGHT
TZOFFSETFROM:-0500
TZOFFSETTO:-0400
TZNAME:EDT
DTSTART:20200308T070000
END:DAYLIGHT
BEGIN:STANDARD
TZOFFSETFROM:-0400
TZOFFSETTO:-0500
TZNAME:EST
DTSTART:20201101T060000
END:STANDARD
END:VTIMEZONE
BEGIN:VEVENT
DTSTART;TZID=America/New_York:20191212T100000
DTEND;TZID=America/New_York:20191212T200000
DTSTAMP:20260421T014016
CREATED:20191119T192652Z
LAST-MODIFIED:20191119T192652Z
UID:12089-1576144800-1576180800@springfieldparkingauthority.com
SUMMARY:FESTIVAL OF TREES
DESCRIPTION:Parking is available at the Civic Center Garage – On the Clock \n 
URL:https://springfieldparkingauthority.com/event/festival-of-trees-17-2/
LOCATION:MassMutual Center\, 1277 Main Street\, Springfield\, MA\, 01103\, United States
END:VEVENT
BEGIN:VEVENT
DTSTART;TZID=America/New_York:20191212T100000
DTEND;TZID=America/New_York:20191212T200000
DTSTAMP:20260421T014016
CREATED:20191119T192652Z
LAST-MODIFIED:20191119T192652Z
UID:7495-1576144800-1576180800@springfieldparkingauthority.com
SUMMARY:FESTIVAL OF TREES
DESCRIPTION:Parking is available at the Civic Center Garage – On the Clock \n 
URL:https://springfieldparkingauthority.com/event/festival-of-trees-17/
LOCATION:MassMutual Center\, 1277 Main Street\, Springfield\, MA\, 01103\, United States
END:VEVENT
BEGIN:VEVENT
DTSTART;TZID=America/New_York:20191212T110000
DTEND;TZID=America/New_York:20191212T170000
DTSTAMP:20260421T014016
CREATED:20191204T135254Z
LAST-MODIFIED:20191204T135254Z
UID:12119-1576148400-1576170000@springfieldparkingauthority.com
SUMMARY:SODEXO
DESCRIPTION:Parking is available at the I-91  South Garage – On the Clock \n 
URL:https://springfieldparkingauthority.com/event/sodexo-2-2/
LOCATION:Sheraton Hotel\, One Monarch Place\, Springfield\, MA\, 01103\, United States
END:VEVENT
BEGIN:VEVENT
DTSTART;TZID=America/New_York:20191212T110000
DTEND;TZID=America/New_York:20191212T170000
DTSTAMP:20260421T014016
CREATED:20191204T135254Z
LAST-MODIFIED:20191204T135254Z
UID:7574-1576148400-1576170000@springfieldparkingauthority.com
SUMMARY:SODEXO
DESCRIPTION:Parking is available at the I-91  South Garage – On the Clock \n 
URL:https://springfieldparkingauthority.com/event/sodexo-2/
LOCATION:Sheraton Hotel\, One Monarch Place\, Springfield\, MA\, 01103\, United States
END:VEVENT
END:VCALENDAR