BEGIN:VCALENDAR
VERSION:2.0
PRODID:-//Springfield Parking Authority - ECPv6.15.20//NONSGML v1.0//EN
CALSCALE:GREGORIAN
METHOD:PUBLISH
X-ORIGINAL-URL:https://springfieldparkingauthority.com
X-WR-CALDESC:Events for Springfield Parking Authority
REFRESH-INTERVAL;VALUE=DURATION:PT1H
X-Robots-Tag:noindex
X-PUBLISHED-TTL:PT1H
BEGIN:VTIMEZONE
TZID:America/New_York
BEGIN:DAYLIGHT
TZOFFSETFROM:-0500
TZOFFSETTO:-0400
TZNAME:EDT
DTSTART:20190310T070000
END:DAYLIGHT
BEGIN:STANDARD
TZOFFSETFROM:-0400
TZOFFSETTO:-0500
TZNAME:EST
DTSTART:20191103T060000
END:STANDARD
BEGIN:DAYLIGHT
TZOFFSETFROM:-0500
TZOFFSETTO:-0400
TZNAME:EDT
DTSTART:20200308T070000
END:DAYLIGHT
BEGIN:STANDARD
TZOFFSETFROM:-0400
TZOFFSETTO:-0500
TZNAME:EST
DTSTART:20201101T060000
END:STANDARD
BEGIN:DAYLIGHT
TZOFFSETFROM:-0500
TZOFFSETTO:-0400
TZNAME:EDT
DTSTART:20210314T070000
END:DAYLIGHT
BEGIN:STANDARD
TZOFFSETFROM:-0400
TZOFFSETTO:-0500
TZNAME:EST
DTSTART:20211107T060000
END:STANDARD
END:VTIMEZONE
BEGIN:VEVENT
DTSTART;TZID=America/New_York:20200208T080000
DTEND;TZID=America/New_York:20200208T170000
DTSTAMP:20260419T180432
CREATED:20200128T170314Z
LAST-MODIFIED:20200128T170314Z
UID:12184-1581148800-1581181200@springfieldparkingauthority.com
SUMMARY:NEW ENGLAND FENCE ASSOCIATION
DESCRIPTION:Parking is available at the Civic Center Garage – $10 & $15 Prepay  \n 
URL:https://springfieldparkingauthority.com/event/new-england-fence-association-2-2/
LOCATION:MassMutual Center\, 1277 Main Street\, Springfield\, MA\, 01103\, United States
END:VEVENT
BEGIN:VEVENT
DTSTART;TZID=America/New_York:20200208T080000
DTEND;TZID=America/New_York:20200208T170000
DTSTAMP:20260419T180432
CREATED:20200128T170314Z
LAST-MODIFIED:20200128T170314Z
UID:7764-1581148800-1581181200@springfieldparkingauthority.com
SUMMARY:NEW ENGLAND FENCE ASSOCIATION
DESCRIPTION:Parking is available at the Civic Center Garage – $10 & $15 Prepay  \n 
URL:https://springfieldparkingauthority.com/event/new-england-fence-association-2/
LOCATION:MassMutual Center\, 1277 Main Street\, Springfield\, MA\, 01103\, United States
END:VEVENT
BEGIN:VEVENT
DTSTART;TZID=America/New_York:20200208T160000
DTEND;TZID=America/New_York:20200208T230000
DTSTAMP:20260419T180432
CREATED:20200128T170510Z
LAST-MODIFIED:20200128T170510Z
UID:12186-1581177600-1581202800@springfieldparkingauthority.com
SUMMARY:SPRINGFIELD COLLEEN BALL
DESCRIPTION:  \n  \n \n 
URL:https://springfieldparkingauthority.com/event/springfield-colleen-ball-2/
LOCATION:Sheraton Hotel\, One Monarch Place\, Springfield\, MA\, 01103\, United States
END:VEVENT
BEGIN:VEVENT
DTSTART;TZID=America/New_York:20200208T160000
DTEND;TZID=America/New_York:20200208T230000
DTSTAMP:20260419T180432
CREATED:20200128T170510Z
LAST-MODIFIED:20200128T170510Z
UID:7768-1581177600-1581202800@springfieldparkingauthority.com
SUMMARY:SPRINGFIELD COLLEEN BALL
DESCRIPTION:  \n  \n \n 
URL:https://springfieldparkingauthority.com/event/springfield-colleen-ball/
LOCATION:Sheraton Hotel\, One Monarch Place\, Springfield\, MA\, 01103\, United States
END:VEVENT
BEGIN:VEVENT
DTSTART;TZID=America/New_York:20200208T193000
DTEND;TZID=America/New_York:20200208T220000
DTSTAMP:20260419T180432
CREATED:20200128T170404Z
LAST-MODIFIED:20200128T170404Z
UID:12185-1581190200-1581199200@springfieldparkingauthority.com
SUMMARY:MOZART'S CONCERTO FOR FLUTE AND HARP
DESCRIPTION:Parking is available at the I-91  South Garage – Free with Ticket \n 
URL:https://springfieldparkingauthority.com/event/mozarts-concerto-for-flute-and-harp-2/
LOCATION:Symphony Hall\, 34 Court St.\, Springfield\, MA\, 01103\, United States
END:VEVENT
BEGIN:VEVENT
DTSTART;TZID=America/New_York:20200208T193000
DTEND;TZID=America/New_York:20200208T220000
DTSTAMP:20260419T180432
CREATED:20200128T170404Z
LAST-MODIFIED:20200128T170404Z
UID:7766-1581190200-1581199200@springfieldparkingauthority.com
SUMMARY:MOZART'S CONCERTO FOR FLUTE AND HARP
DESCRIPTION:Parking is available at the I-91  South Garage – Free with Ticket \n 
URL:https://springfieldparkingauthority.com/event/mozarts-concerto-for-flute-and-harp/
LOCATION:Symphony Hall\, 34 Court St.\, Springfield\, MA\, 01103\, United States
END:VEVENT
END:VCALENDAR