BEGIN:VCALENDAR
VERSION:2.0
PRODID:-//Springfield Parking Authority - ECPv6.15.20//NONSGML v1.0//EN
CALSCALE:GREGORIAN
METHOD:PUBLISH
X-WR-CALNAME:Springfield Parking Authority
X-ORIGINAL-URL:https://springfieldparkingauthority.com
X-WR-CALDESC:Events for Springfield Parking Authority
REFRESH-INTERVAL;VALUE=DURATION:PT1H
X-Robots-Tag:noindex
X-PUBLISHED-TTL:PT1H
BEGIN:VTIMEZONE
TZID:America/New_York
BEGIN:DAYLIGHT
TZOFFSETFROM:-0500
TZOFFSETTO:-0400
TZNAME:EDT
DTSTART:20190310T070000
END:DAYLIGHT
BEGIN:STANDARD
TZOFFSETFROM:-0400
TZOFFSETTO:-0500
TZNAME:EST
DTSTART:20191103T060000
END:STANDARD
BEGIN:DAYLIGHT
TZOFFSETFROM:-0500
TZOFFSETTO:-0400
TZNAME:EDT
DTSTART:20200308T070000
END:DAYLIGHT
BEGIN:STANDARD
TZOFFSETFROM:-0400
TZOFFSETTO:-0500
TZNAME:EST
DTSTART:20201101T060000
END:STANDARD
BEGIN:DAYLIGHT
TZOFFSETFROM:-0500
TZOFFSETTO:-0400
TZNAME:EDT
DTSTART:20210314T070000
END:DAYLIGHT
BEGIN:STANDARD
TZOFFSETFROM:-0400
TZOFFSETTO:-0500
TZNAME:EST
DTSTART:20211107T060000
END:STANDARD
END:VTIMEZONE
BEGIN:VEVENT
DTSTART;TZID=America/New_York:20200222T080000
DTEND;TZID=America/New_York:20200222T220000
DTSTAMP:20260419T122345
CREATED:20200128T171330Z
LAST-MODIFIED:20200128T171330Z
UID:12191-1582358400-1582408800@springfieldparkingauthority.com
SUMMARY:BEYOND THE STARS TALENT COMPETITION\, LLC
DESCRIPTION:Parking is available at the Civic Center Garage – $10 & $15 Prepay  \n 
URL:https://springfieldparkingauthority.com/event/beyond-the-stars-talent-competition-llc-2-2/
LOCATION:MassMutual Center\, 1277 Main Street\, Springfield\, MA\, 01103\, United States
END:VEVENT
BEGIN:VEVENT
DTSTART;TZID=America/New_York:20200222T080000
DTEND;TZID=America/New_York:20200222T220000
DTSTAMP:20260419T122345
CREATED:20200128T171330Z
LAST-MODIFIED:20200128T171330Z
UID:7778-1582358400-1582408800@springfieldparkingauthority.com
SUMMARY:BEYOND THE STARS TALENT COMPETITION\, LLC
DESCRIPTION:Parking is available at the Civic Center Garage – $10 & $15 Prepay  \n 
URL:https://springfieldparkingauthority.com/event/beyond-the-stars-talent-competition-llc-2/
LOCATION:MassMutual Center\, 1277 Main Street\, Springfield\, MA\, 01103\, United States
END:VEVENT
BEGIN:VEVENT
DTSTART;TZID=America/New_York:20200222T190000
DTEND;TZID=America/New_York:20200222T220000
DTSTAMP:20260419T122345
CREATED:20200114T185509Z
LAST-MODIFIED:20200114T185509Z
UID:7725-1582398000-1582408800@springfieldparkingauthority.com
SUMMARY:AIC VS HOLYCROSS
DESCRIPTION:Parking is available at the Civic Center Garage – $10 & $15 Prepay  \n 
URL:https://springfieldparkingauthority.com/event/aic-vs-holycross/
LOCATION:MassMutual Center\, 1277 Main Street\, Springfield\, MA\, 01103\, United States
END:VEVENT
BEGIN:VEVENT
DTSTART;TZID=America/New_York:20200222T190000
DTEND;TZID=America/New_York:20200222T220000
DTSTAMP:20260419T122345
CREATED:20200114T185509Z
LAST-MODIFIED:20200114T185509Z
UID:12171-1582398000-1582408800@springfieldparkingauthority.com
SUMMARY:AIC VS HOLYCROSS
DESCRIPTION:Parking is available at the Civic Center Garage – $10 & $15 Prepay  \n 
URL:https://springfieldparkingauthority.com/event/aic-vs-holycross-2/
LOCATION:MassMutual Center\, 1277 Main Street\, Springfield\, MA\, 01103\, United States
END:VEVENT
BEGIN:VEVENT
DTSTART;TZID=America/New_York:20200222T193000
DTEND;TZID=America/New_York:20200222T220000
DTSTAMP:20260419T122345
CREATED:20200128T171432Z
LAST-MODIFIED:20200128T171432Z
UID:12192-1582399800-1582408800@springfieldparkingauthority.com
SUMMARY:LOVE ON BROADWAY-MAESTRO RHODES
DESCRIPTION:Parking is available at the I-91  South Garage  FREE WITH TICKET
URL:https://springfieldparkingauthority.com/event/love-on-broadway-maestro-rhodes-2/
LOCATION:Symphony Hall\, 34 Court St.\, Springfield\, MA\, 01103\, United States
END:VEVENT
BEGIN:VEVENT
DTSTART;TZID=America/New_York:20200222T193000
DTEND;TZID=America/New_York:20200222T220000
DTSTAMP:20260419T122345
CREATED:20200128T171432Z
LAST-MODIFIED:20200128T171432Z
UID:7780-1582399800-1582408800@springfieldparkingauthority.com
SUMMARY:LOVE ON BROADWAY-MAESTRO RHODES
DESCRIPTION:Parking is available at the I-91  South Garage  FREE WITH TICKET
URL:https://springfieldparkingauthority.com/event/love-on-broadway-maestro-rhodes/
LOCATION:Symphony Hall\, 34 Court St.\, Springfield\, MA\, 01103\, United States
END:VEVENT
END:VCALENDAR