BEGIN:VCALENDAR
VERSION:2.0
PRODID:-//Springfield Parking Authority - ECPv6.15.20//NONSGML v1.0//EN
CALSCALE:GREGORIAN
METHOD:PUBLISH
X-ORIGINAL-URL:https://springfieldparkingauthority.com
X-WR-CALDESC:Events for Springfield Parking Authority
REFRESH-INTERVAL;VALUE=DURATION:PT1H
X-Robots-Tag:noindex
X-PUBLISHED-TTL:PT1H
BEGIN:VTIMEZONE
TZID:America/New_York
BEGIN:DAYLIGHT
TZOFFSETFROM:-0500
TZOFFSETTO:-0400
TZNAME:EDT
DTSTART:20190310T070000
END:DAYLIGHT
BEGIN:STANDARD
TZOFFSETFROM:-0400
TZOFFSETTO:-0500
TZNAME:EST
DTSTART:20191103T060000
END:STANDARD
BEGIN:DAYLIGHT
TZOFFSETFROM:-0500
TZOFFSETTO:-0400
TZNAME:EDT
DTSTART:20200308T070000
END:DAYLIGHT
BEGIN:STANDARD
TZOFFSETFROM:-0400
TZOFFSETTO:-0500
TZNAME:EST
DTSTART:20201101T060000
END:STANDARD
BEGIN:DAYLIGHT
TZOFFSETFROM:-0500
TZOFFSETTO:-0400
TZNAME:EDT
DTSTART:20210314T070000
END:DAYLIGHT
BEGIN:STANDARD
TZOFFSETFROM:-0400
TZOFFSETTO:-0500
TZNAME:EST
DTSTART:20211107T060000
END:STANDARD
END:VTIMEZONE
BEGIN:VEVENT
DTSTART;TZID=America/New_York:20200223T080000
DTEND;TZID=America/New_York:20200223T200000
DTSTAMP:20260419T234844
CREATED:20200128T171513Z
LAST-MODIFIED:20200128T171513Z
UID:12193-1582444800-1582488000@springfieldparkingauthority.com
SUMMARY:BEYOND THE STARS TALENT COMPETITION\, LLC
DESCRIPTION:Parking is available at the Civic Center Garage – $10 & $15 Prepay  \n 
URL:https://springfieldparkingauthority.com/event/beyond-the-stars-talent-competition-llc-3-2/
LOCATION:MassMutual Center\, 1277 Main Street\, Springfield\, MA\, 01103\, United States
END:VEVENT
BEGIN:VEVENT
DTSTART;TZID=America/New_York:20200223T080000
DTEND;TZID=America/New_York:20200223T200000
DTSTAMP:20260419T234844
CREATED:20200128T171513Z
LAST-MODIFIED:20200128T171513Z
UID:7782-1582444800-1582488000@springfieldparkingauthority.com
SUMMARY:BEYOND THE STARS TALENT COMPETITION\, LLC
DESCRIPTION:Parking is available at the Civic Center Garage – $10 & $15 Prepay  \n 
URL:https://springfieldparkingauthority.com/event/beyond-the-stars-talent-competition-llc-3/
LOCATION:MassMutual Center\, 1277 Main Street\, Springfield\, MA\, 01103\, United States
END:VEVENT
BEGIN:VEVENT
DTSTART;TZID=America/New_York:20200223T170000
DTEND;TZID=America/New_York:20200223T200000
DTSTAMP:20260419T234844
CREATED:20200114T185545Z
LAST-MODIFIED:20200114T185545Z
UID:7727-1582477200-1582488000@springfieldparkingauthority.com
SUMMARY:THUNDERBIRDS VS SYRACUSE CRUNCH
DESCRIPTION:Parking is available at the Civic Center Garage – Free with Ticket \n 
URL:https://springfieldparkingauthority.com/event/thunderbirds-vs-syracuse-crunch/
LOCATION:MassMutual Center\, 1277 Main Street\, Springfield\, MA\, 01103\, United States
END:VEVENT
BEGIN:VEVENT
DTSTART;TZID=America/New_York:20200223T170000
DTEND;TZID=America/New_York:20200223T200000
DTSTAMP:20260419T234844
CREATED:20200114T185545Z
LAST-MODIFIED:20200114T185545Z
UID:12172-1582477200-1582488000@springfieldparkingauthority.com
SUMMARY:THUNDERBIRDS VS SYRACUSE CRUNCH
DESCRIPTION:Parking is available at the Civic Center Garage – Free with Ticket \n 
URL:https://springfieldparkingauthority.com/event/thunderbirds-vs-syracuse-crunch-3/
LOCATION:MassMutual Center\, 1277 Main Street\, Springfield\, MA\, 01103\, United States
END:VEVENT
END:VCALENDAR