BEGIN:VCALENDAR
VERSION:2.0
PRODID:-//Springfield Parking Authority - ECPv6.15.20//NONSGML v1.0//EN
CALSCALE:GREGORIAN
METHOD:PUBLISH
X-ORIGINAL-URL:https://springfieldparkingauthority.com
X-WR-CALDESC:Events for Springfield Parking Authority
REFRESH-INTERVAL;VALUE=DURATION:PT1H
X-Robots-Tag:noindex
X-PUBLISHED-TTL:PT1H
BEGIN:VTIMEZONE
TZID:America/New_York
BEGIN:DAYLIGHT
TZOFFSETFROM:-0500
TZOFFSETTO:-0400
TZNAME:EDT
DTSTART:20190310T070000
END:DAYLIGHT
BEGIN:STANDARD
TZOFFSETFROM:-0400
TZOFFSETTO:-0500
TZNAME:EST
DTSTART:20191103T060000
END:STANDARD
BEGIN:DAYLIGHT
TZOFFSETFROM:-0500
TZOFFSETTO:-0400
TZNAME:EDT
DTSTART:20200308T070000
END:DAYLIGHT
BEGIN:STANDARD
TZOFFSETFROM:-0400
TZOFFSETTO:-0500
TZNAME:EST
DTSTART:20201101T060000
END:STANDARD
BEGIN:DAYLIGHT
TZOFFSETFROM:-0500
TZOFFSETTO:-0400
TZNAME:EDT
DTSTART:20210314T070000
END:DAYLIGHT
BEGIN:STANDARD
TZOFFSETFROM:-0400
TZOFFSETTO:-0500
TZNAME:EST
DTSTART:20211107T060000
END:STANDARD
END:VTIMEZONE
BEGIN:VEVENT
DTSTART;TZID=America/New_York:20200225T073000
DTEND;TZID=America/New_York:20200225T150000
DTSTAMP:20260419T234840
CREATED:20200130T175421Z
LAST-MODIFIED:20200130T175421Z
UID:7794-1582615800-1582642800@springfieldparkingauthority.com
SUMMARY:COGNIA
DESCRIPTION:Parking is available at the Civic Center Garage – On the Clock \n 
URL:https://springfieldparkingauthority.com/event/cognia-2/
LOCATION:MassMutual Center\, 1277 Main Street\, Springfield\, MA\, 01103\, United States
END:VEVENT
BEGIN:VEVENT
DTSTART;TZID=America/New_York:20200225T073000
DTEND;TZID=America/New_York:20200225T150000
DTSTAMP:20260419T234840
CREATED:20200130T175421Z
LAST-MODIFIED:20200130T175421Z
UID:12198-1582615800-1582642800@springfieldparkingauthority.com
SUMMARY:COGNIA
DESCRIPTION:Parking is available at the Civic Center Garage – On the Clock \n 
URL:https://springfieldparkingauthority.com/event/cognia-2-2/
LOCATION:MassMutual Center\, 1277 Main Street\, Springfield\, MA\, 01103\, United States
END:VEVENT
BEGIN:VEVENT
DTSTART;TZID=America/New_York:20200225T080000
DTEND;TZID=America/New_York:20200225T220000
DTSTAMP:20260419T234840
CREATED:20200218T155640Z
LAST-MODIFIED:20200218T155640Z
UID:7842-1582617600-1582668000@springfieldparkingauthority.com
SUMMARY:CV REGIONAL MEETING
DESCRIPTION:Parking is available at the I-91 South Garage – On the Clock
URL:https://springfieldparkingauthority.com/event/cv-regional-meeting-2/
LOCATION:Sheraton Hotel\, One Monarch Place\, Springfield\, MA\, 01103\, United States
END:VEVENT
BEGIN:VEVENT
DTSTART;TZID=America/New_York:20200225T080000
DTEND;TZID=America/New_York:20200225T220000
DTSTAMP:20260419T234840
CREATED:20200218T155640Z
LAST-MODIFIED:20200218T155640Z
UID:12219-1582617600-1582668000@springfieldparkingauthority.com
SUMMARY:CV REGIONAL MEETING
DESCRIPTION:Parking is available at the I-91 South Garage – On the Clock
URL:https://springfieldparkingauthority.com/event/cv-regional-meeting-2-2/
LOCATION:Sheraton Hotel\, One Monarch Place\, Springfield\, MA\, 01103\, United States
END:VEVENT
END:VCALENDAR