BEGIN:VCALENDAR
VERSION:2.0
PRODID:-//Springfield Parking Authority - ECPv6.15.20//NONSGML v1.0//EN
CALSCALE:GREGORIAN
METHOD:PUBLISH
X-ORIGINAL-URL:https://springfieldparkingauthority.com
X-WR-CALDESC:Events for Springfield Parking Authority
REFRESH-INTERVAL;VALUE=DURATION:PT1H
X-Robots-Tag:noindex
X-PUBLISHED-TTL:PT1H
BEGIN:VTIMEZONE
TZID:America/New_York
BEGIN:DAYLIGHT
TZOFFSETFROM:-0500
TZOFFSETTO:-0400
TZNAME:EDT
DTSTART:20190310T070000
END:DAYLIGHT
BEGIN:STANDARD
TZOFFSETFROM:-0400
TZOFFSETTO:-0500
TZNAME:EST
DTSTART:20191103T060000
END:STANDARD
BEGIN:DAYLIGHT
TZOFFSETFROM:-0500
TZOFFSETTO:-0400
TZNAME:EDT
DTSTART:20200308T070000
END:DAYLIGHT
BEGIN:STANDARD
TZOFFSETFROM:-0400
TZOFFSETTO:-0500
TZNAME:EST
DTSTART:20201101T060000
END:STANDARD
BEGIN:DAYLIGHT
TZOFFSETFROM:-0500
TZOFFSETTO:-0400
TZNAME:EDT
DTSTART:20210314T070000
END:DAYLIGHT
BEGIN:STANDARD
TZOFFSETFROM:-0400
TZOFFSETTO:-0500
TZNAME:EST
DTSTART:20211107T060000
END:STANDARD
END:VTIMEZONE
BEGIN:VEVENT
DTSTART;TZID=America/New_York:20200228T080000
DTEND;TZID=America/New_York:20200228T230000
DTSTAMP:20260419T234850
CREATED:20200218T155909Z
LAST-MODIFIED:20200218T155909Z
UID:12223-1582876800-1582930800@springfieldparkingauthority.com
SUMMARY:KIDS OF COURAGE SKI WEEKEND
DESCRIPTION:Parking is available at the I-91  South Garage – On the Clock \n 
URL:https://springfieldparkingauthority.com/event/kids-of-courage-ski-weekend-2-2/
LOCATION:Sheraton Hotel\, One Monarch Place\, Springfield\, MA\, 01103\, United States
END:VEVENT
BEGIN:VEVENT
DTSTART;TZID=America/New_York:20200228T080000
DTEND;TZID=America/New_York:20200228T230000
DTSTAMP:20260419T234850
CREATED:20200218T155909Z
LAST-MODIFIED:20200218T155909Z
UID:7850-1582876800-1582930800@springfieldparkingauthority.com
SUMMARY:KIDS OF COURAGE SKI WEEKEND
DESCRIPTION:Parking is available at the I-91  South Garage – On the Clock \n 
URL:https://springfieldparkingauthority.com/event/kids-of-courage-ski-weekend-2/
LOCATION:Sheraton Hotel\, One Monarch Place\, Springfield\, MA\, 01103\, United States
END:VEVENT
BEGIN:VEVENT
DTSTART;TZID=America/New_York:20200228T190000
DTEND;TZID=America/New_York:20200228T220000
DTSTAMP:20260419T234850
CREATED:20200114T185622Z
LAST-MODIFIED:20200114T185622Z
UID:7729-1582916400-1582927200@springfieldparkingauthority.com
SUMMARY:THUNDERBIRDS VS BRIDGEPORT SOUND TIGERS
DESCRIPTION:Parking is available at the Civic Center Garage – Free with Ticket \n 
URL:https://springfieldparkingauthority.com/event/thunderbirds-vs-bridgeport-sound-tigers/
LOCATION:MassMutual Center\, 1277 Main Street\, Springfield\, MA\, 01103\, United States
END:VEVENT
BEGIN:VEVENT
DTSTART;TZID=America/New_York:20200228T190000
DTEND;TZID=America/New_York:20200228T220000
DTSTAMP:20260419T234850
CREATED:20200114T185622Z
LAST-MODIFIED:20200114T185622Z
UID:12173-1582916400-1582927200@springfieldparkingauthority.com
SUMMARY:THUNDERBIRDS VS BRIDGEPORT SOUND TIGERS
DESCRIPTION:Parking is available at the Civic Center Garage – Free with Ticket \n 
URL:https://springfieldparkingauthority.com/event/thunderbirds-vs-bridgeport-sound-tigers-2/
LOCATION:MassMutual Center\, 1277 Main Street\, Springfield\, MA\, 01103\, United States
END:VEVENT
BEGIN:VEVENT
DTSTART;TZID=America/New_York:20200228T193000
DTEND;TZID=America/New_York:20200228T213000
DTSTAMP:20260419T234850
CREATED:20200226T125231Z
LAST-MODIFIED:20200226T125231Z
UID:12247-1582918200-1582925400@springfieldparkingauthority.com
SUMMARY:BERNIE SANDERS 2020 COMPAIGN RALLY
DESCRIPTION:Parking is available at the Civic Center Garage and at the I-91 South and North Garage – $10 Prepay \n  \n 
URL:https://springfieldparkingauthority.com/event/bernie-sanders-2020-compaign-rally-2/
LOCATION:MassMutual Center\, 1277 Main Street\, Springfield\, MA\, 01103\, United States
END:VEVENT
BEGIN:VEVENT
DTSTART;TZID=America/New_York:20200228T193000
DTEND;TZID=America/New_York:20200228T213000
DTSTAMP:20260419T234850
CREATED:20200226T125231Z
LAST-MODIFIED:20200226T125231Z
UID:7902-1582918200-1582925400@springfieldparkingauthority.com
SUMMARY:BERNIE SANDERS 2020 COMPAIGN RALLY
DESCRIPTION:Parking is available at the Civic Center Garage and at the I-91 South and North Garage – $10 Prepay \n  \n 
URL:https://springfieldparkingauthority.com/event/bernie-sanders-2020-compaign-rally/
LOCATION:MassMutual Center\, 1277 Main Street\, Springfield\, MA\, 01103\, United States
END:VEVENT
END:VCALENDAR