BEGIN:VCALENDAR
VERSION:2.0
PRODID:-//Springfield Parking Authority - ECPv6.15.20//NONSGML v1.0//EN
CALSCALE:GREGORIAN
METHOD:PUBLISH
X-ORIGINAL-URL:https://springfieldparkingauthority.com
X-WR-CALDESC:Events for Springfield Parking Authority
REFRESH-INTERVAL;VALUE=DURATION:PT1H
X-Robots-Tag:noindex
X-PUBLISHED-TTL:PT1H
BEGIN:VTIMEZONE
TZID:America/New_York
BEGIN:DAYLIGHT
TZOFFSETFROM:-0500
TZOFFSETTO:-0400
TZNAME:EDT
DTSTART:20240310T070000
END:DAYLIGHT
BEGIN:STANDARD
TZOFFSETFROM:-0400
TZOFFSETTO:-0500
TZNAME:EST
DTSTART:20241103T060000
END:STANDARD
BEGIN:DAYLIGHT
TZOFFSETFROM:-0500
TZOFFSETTO:-0400
TZNAME:EDT
DTSTART:20250309T070000
END:DAYLIGHT
BEGIN:STANDARD
TZOFFSETFROM:-0400
TZOFFSETTO:-0500
TZNAME:EST
DTSTART:20251102T060000
END:STANDARD
BEGIN:DAYLIGHT
TZOFFSETFROM:-0500
TZOFFSETTO:-0400
TZNAME:EDT
DTSTART:20260308T070000
END:DAYLIGHT
BEGIN:STANDARD
TZOFFSETFROM:-0400
TZOFFSETTO:-0500
TZNAME:EST
DTSTART:20261101T060000
END:STANDARD
END:VTIMEZONE
BEGIN:VEVENT
DTSTART;TZID=America/New_York:20250927T100000
DTEND;TZID=America/New_York:20250927T180000
DTSTAMP:20260423T210301
CREATED:20250730T131531Z
LAST-MODIFIED:20250923T160815Z
UID:14602-1758967200-1758996000@springfieldparkingauthority.com
SUMMARY:2025 New England Grooming Show
DESCRIPTION:Parking is available at the I-91   South Garage-On the Clock
URL:https://springfieldparkingauthority.com/event/new-england-grooming-show-3/
LOCATION:MassMutual Center\, 1277 Main Street\, Springfield\, MA\, 01103\, United States
END:VEVENT
BEGIN:VEVENT
DTSTART;TZID=America/New_York:20250927T180000
DTEND;TZID=America/New_York:20250927T220000
DTSTAMP:20260423T210301
CREATED:20250908T152639Z
LAST-MODIFIED:20250923T120237Z
UID:14675-1758996000-1759010400@springfieldparkingauthority.com
SUMMARY:Sweet Honey in the Rock
DESCRIPTION:Parking is available at the Arts Center Columbus Center Garage $5.00 Prepay \n150 Bridge St.
URL:https://springfieldparkingauthority.com/event/sweet-honey-in-the-rock/
LOCATION:Columbus Center\, 1 Columbus Center\, Springfield\, MA\, 01103\, United States
END:VEVENT
BEGIN:VEVENT
DTSTART;TZID=America/New_York:20250927T193000
DTEND;TZID=America/New_York:20250927T220000
DTSTAMP:20260423T210301
CREATED:20250716T133821Z
LAST-MODIFIED:20250923T160914Z
UID:14571-1759001400-1759010400@springfieldparkingauthority.com
SUMMARY:A Taste of Ireland
DESCRIPTION:Parking is available at the I-91   South Garage-on the clock
URL:https://springfieldparkingauthority.com/event/a-taste-of-ireland/
LOCATION:Symphony Hall\, 34 Court St.\, Springfield\, MA\, 01103\, United States
END:VEVENT
END:VCALENDAR