BEGIN:VCALENDAR
VERSION:2.0
PRODID:-//Springfield Parking Authority - ECPv6.15.20//NONSGML v1.0//EN
CALSCALE:GREGORIAN
METHOD:PUBLISH
X-ORIGINAL-URL:https://springfieldparkingauthority.com
X-WR-CALDESC:Events for Springfield Parking Authority
REFRESH-INTERVAL;VALUE=DURATION:PT1H
X-Robots-Tag:noindex
X-PUBLISHED-TTL:PT1H
BEGIN:VTIMEZONE
TZID:America/New_York
BEGIN:DAYLIGHT
TZOFFSETFROM:-0500
TZOFFSETTO:-0400
TZNAME:EDT
DTSTART:20240310T070000
END:DAYLIGHT
BEGIN:STANDARD
TZOFFSETFROM:-0400
TZOFFSETTO:-0500
TZNAME:EST
DTSTART:20241103T060000
END:STANDARD
BEGIN:DAYLIGHT
TZOFFSETFROM:-0500
TZOFFSETTO:-0400
TZNAME:EDT
DTSTART:20250309T070000
END:DAYLIGHT
BEGIN:STANDARD
TZOFFSETFROM:-0400
TZOFFSETTO:-0500
TZNAME:EST
DTSTART:20251102T060000
END:STANDARD
BEGIN:DAYLIGHT
TZOFFSETFROM:-0500
TZOFFSETTO:-0400
TZNAME:EDT
DTSTART:20260308T070000
END:DAYLIGHT
BEGIN:STANDARD
TZOFFSETFROM:-0400
TZOFFSETTO:-0500
TZNAME:EST
DTSTART:20261101T060000
END:STANDARD
END:VTIMEZONE
BEGIN:VEVENT
DTSTART;TZID=America/New_York:20251011T083000
DTEND;TZID=America/New_York:20251011T153000
DTSTAMP:20260424T061610
CREATED:20250905T132519Z
LAST-MODIFIED:20250923T162830Z
UID:14661-1760171400-1760196600@springfieldparkingauthority.com
SUMMARY:THE 413 CARD SHOW
DESCRIPTION:Parking is available at the I-91   South Garage – On the Clock
URL:https://springfieldparkingauthority.com/event/the-413-card-show/
LOCATION:MassMutual Center\, 1277 Main Street\, Springfield\, MA\, 01103\, United States
END:VEVENT
BEGIN:VEVENT
DTSTART;TZID=America/New_York:20251011T180000
DTEND;TZID=America/New_York:20251011T210000
DTSTAMP:20260424T061610
CREATED:20250716T132901Z
LAST-MODIFIED:20250930T160211Z
UID:14565-1760205600-1760216400@springfieldparkingauthority.com
SUMMARY:Springfield Thunderbirds Vs Charlotte Checkers
DESCRIPTION:Parking is available at the I-91   South Garage-on the Clock \nBlock Party on Landing 3pm-6pm
URL:https://springfieldparkingauthority.com/event/springfield-thunderbirds-vs-charlotte-checkers-5/
LOCATION:MassMutual Center\, 1277 Main Street\, Springfield\, MA\, 01103\, United States
END:VEVENT
BEGIN:VEVENT
DTSTART;TZID=America/New_York:20251011T193000
DTEND;TZID=America/New_York:20251011T230000
DTSTAMP:20260424T061610
CREATED:20250905T132934Z
LAST-MODIFIED:20250923T163009Z
UID:14665-1760211000-1760223600@springfieldparkingauthority.com
SUMMARY:A Night In Italy: Verdi\, Respighi\, & Rota
DESCRIPTION:Parking is available at the I-91   South Garage-$10.00 prepay
URL:https://springfieldparkingauthority.com/event/a-night-in-italy-verdi-respighi-rota/
LOCATION:Symphony Hall\, 34 Court St.\, Springfield\, MA\, 01103\, United States
END:VEVENT
END:VCALENDAR