BEGIN:VCALENDAR
VERSION:2.0
PRODID:-//Springfield Parking Authority - ECPv6.15.20//NONSGML v1.0//EN
CALSCALE:GREGORIAN
METHOD:PUBLISH
X-ORIGINAL-URL:https://springfieldparkingauthority.com
X-WR-CALDESC:Events for Springfield Parking Authority
REFRESH-INTERVAL;VALUE=DURATION:PT1H
X-Robots-Tag:noindex
X-PUBLISHED-TTL:PT1H
BEGIN:VTIMEZONE
TZID:America/New_York
BEGIN:DAYLIGHT
TZOFFSETFROM:-0500
TZOFFSETTO:-0400
TZNAME:EDT
DTSTART:20240310T070000
END:DAYLIGHT
BEGIN:STANDARD
TZOFFSETFROM:-0400
TZOFFSETTO:-0500
TZNAME:EST
DTSTART:20241103T060000
END:STANDARD
BEGIN:DAYLIGHT
TZOFFSETFROM:-0500
TZOFFSETTO:-0400
TZNAME:EDT
DTSTART:20250309T070000
END:DAYLIGHT
BEGIN:STANDARD
TZOFFSETFROM:-0400
TZOFFSETTO:-0500
TZNAME:EST
DTSTART:20251102T060000
END:STANDARD
BEGIN:DAYLIGHT
TZOFFSETFROM:-0500
TZOFFSETTO:-0400
TZNAME:EDT
DTSTART:20260308T070000
END:DAYLIGHT
BEGIN:STANDARD
TZOFFSETFROM:-0400
TZOFFSETTO:-0500
TZNAME:EST
DTSTART:20261101T060000
END:STANDARD
END:VTIMEZONE
BEGIN:VEVENT
DTSTART;TZID=America/New_York:20251025T080000
DTEND;TZID=America/New_York:20251025T160000
DTSTAMP:20260424T061618
CREATED:20250917T132635Z
LAST-MODIFIED:20250923T161826Z
UID:14735-1761379200-1761408000@springfieldparkingauthority.com
SUMMARY:45th Annual Yankee Security Convention
DESCRIPTION:Parking is available at the I-91   South Garage – On the Clock
URL:https://springfieldparkingauthority.com/event/45th-annual-yankee-security-convention-5/
LOCATION:MassMutual Center\, 1277 Main Street\, Springfield\, MA\, 01103\, United States
END:VEVENT
BEGIN:VEVENT
DTSTART;TZID=America/New_York:20251025T180000
DTEND;TZID=America/New_York:20251025T210000
DTSTAMP:20260424T061618
CREATED:20250716T133000Z
LAST-MODIFIED:20250930T160544Z
UID:14567-1761415200-1761426000@springfieldparkingauthority.com
SUMMARY:Springfield Thunderbirds Vs Hartford Wolf Pack
DESCRIPTION:Parking is available at the I-91   South Garage- on the clock \nBlock Party on Landing 3pm-6pm
URL:https://springfieldparkingauthority.com/event/springfield-thunderbirds-vs-hartford-wolf-pack-6/
LOCATION:MassMutual Center\, 1277 Main Street\, Springfield\, MA\, 01103\, United States
END:VEVENT
END:VCALENDAR