BEGIN:VCALENDAR
VERSION:2.0
PRODID:-//Springfield Parking Authority - ECPv6.15.20//NONSGML v1.0//EN
CALSCALE:GREGORIAN
METHOD:PUBLISH
X-WR-CALNAME:Springfield Parking Authority
X-ORIGINAL-URL:https://springfieldparkingauthority.com
X-WR-CALDESC:Events for Springfield Parking Authority
REFRESH-INTERVAL;VALUE=DURATION:PT1H
X-Robots-Tag:noindex
X-PUBLISHED-TTL:PT1H
BEGIN:VTIMEZONE
TZID:America/New_York
BEGIN:DAYLIGHT
TZOFFSETFROM:-0500
TZOFFSETTO:-0400
TZNAME:EDT
DTSTART:20250309T070000
END:DAYLIGHT
BEGIN:STANDARD
TZOFFSETFROM:-0400
TZOFFSETTO:-0500
TZNAME:EST
DTSTART:20251102T060000
END:STANDARD
BEGIN:DAYLIGHT
TZOFFSETFROM:-0500
TZOFFSETTO:-0400
TZNAME:EDT
DTSTART:20260308T070000
END:DAYLIGHT
BEGIN:STANDARD
TZOFFSETFROM:-0400
TZOFFSETTO:-0500
TZNAME:EST
DTSTART:20261101T060000
END:STANDARD
BEGIN:DAYLIGHT
TZOFFSETFROM:-0500
TZOFFSETTO:-0400
TZNAME:EDT
DTSTART:20270314T070000
END:DAYLIGHT
BEGIN:STANDARD
TZOFFSETFROM:-0400
TZOFFSETTO:-0500
TZNAME:EST
DTSTART:20271107T060000
END:STANDARD
END:VTIMEZONE
BEGIN:VEVENT
DTSTART;TZID=America/New_York:20260419T080000
DTEND;TZID=America/New_York:20260419T210000
DTSTAMP:20260419T144700
CREATED:20260317T152631Z
LAST-MODIFIED:20260317T152631Z
UID:15297-1776585600-1776632400@springfieldparkingauthority.com
SUMMARY:USA Gymnastics Region 6 – Level 6/7/8 Regional Championship
DESCRIPTION:Parking is available at the I-91   South Garage – On the Clock
URL:https://springfieldparkingauthority.com/event/usa-gymnastics-region-6-level-6-7-8-regional-championship-3/
LOCATION:MassMutual Center\, 1277 Main Street\, Springfield\, MA\, 01103\, United States
END:VEVENT
END:VCALENDAR