BEGIN:VCALENDAR
VERSION:2.0
PRODID:-//Springfield Parking Authority - ECPv6.15.20//NONSGML v1.0//EN
CALSCALE:GREGORIAN
METHOD:PUBLISH
X-WR-CALNAME:Springfield Parking Authority
X-ORIGINAL-URL:https://springfieldparkingauthority.com
X-WR-CALDESC:Events for Springfield Parking Authority
REFRESH-INTERVAL;VALUE=DURATION:PT1H
X-Robots-Tag:noindex
X-PUBLISHED-TTL:PT1H
BEGIN:VTIMEZONE
TZID:America/New_York
BEGIN:DAYLIGHT
TZOFFSETFROM:-0500
TZOFFSETTO:-0400
TZNAME:EDT
DTSTART:20160313T070000
END:DAYLIGHT
BEGIN:STANDARD
TZOFFSETFROM:-0400
TZOFFSETTO:-0500
TZNAME:EST
DTSTART:20161106T060000
END:STANDARD
BEGIN:DAYLIGHT
TZOFFSETFROM:-0500
TZOFFSETTO:-0400
TZNAME:EDT
DTSTART:20170312T070000
END:DAYLIGHT
BEGIN:STANDARD
TZOFFSETFROM:-0400
TZOFFSETTO:-0500
TZNAME:EST
DTSTART:20171105T060000
END:STANDARD
BEGIN:DAYLIGHT
TZOFFSETFROM:-0500
TZOFFSETTO:-0400
TZNAME:EDT
DTSTART:20180311T070000
END:DAYLIGHT
BEGIN:STANDARD
TZOFFSETFROM:-0400
TZOFFSETTO:-0500
TZNAME:EST
DTSTART:20181104T060000
END:STANDARD
END:VTIMEZONE
BEGIN:VEVENT
DTSTART;TZID=America/New_York:20170329T080000
DTEND;TZID=America/New_York:20170329T170000
DTSTAMP:20260420T115240
CREATED:20170301T165001Z
LAST-MODIFIED:20170301T165001Z
UID:3328-1490774400-1490806800@springfieldparkingauthority.com
SUMMARY:UNTIMATE MOWER UNIVERSITY OF 2017 FOR SEARS
DESCRIPTION:Parking is available at the Civic Center Garage – $7  Prepay \n 
URL:https://springfieldparkingauthority.com/event/untimate-mower-university-of-2017-for-sears/
LOCATION:MassMutual Center\, 1277 Main Street\, Springfield\, MA\, 01103\, United States
END:VEVENT
BEGIN:VEVENT
DTSTART;TZID=America/New_York:20170329T080000
DTEND;TZID=America/New_York:20170329T170000
DTSTAMP:20260420T115240
CREATED:20170301T165001Z
LAST-MODIFIED:20170301T165001Z
UID:10482-1490774400-1490806800@springfieldparkingauthority.com
SUMMARY:UNTIMATE MOWER UNIVERSITY OF 2017 FOR SEARS
DESCRIPTION:Parking is available at the Civic Center Garage – $7  Prepay \n 
URL:https://springfieldparkingauthority.com/event/untimate-mower-university-of-2017-for-sears-2/
LOCATION:MassMutual Center\, 1277 Main Street\, Springfield\, MA\, 01103\, United States
END:VEVENT
BEGIN:VEVENT
DTSTART;TZID=America/New_York:20170329T190000
DTEND;TZID=America/New_York:20170329T210000
DTSTAMP:20260420T115240
CREATED:20170301T165056Z
LAST-MODIFIED:20170301T165056Z
UID:3330-1490814000-1490821200@springfieldparkingauthority.com
SUMMARY:THUNDERBIRDS VS BRIDGEPORT
DESCRIPTION:Parking is available at the Civic Center Garage – Free with Ticket \n 
URL:https://springfieldparkingauthority.com/event/thunderbirds-vs-bridgeport-5/
LOCATION:MassMutual Center\, 1277 Main Street\, Springfield\, MA\, 01103\, United States
END:VEVENT
BEGIN:VEVENT
DTSTART;TZID=America/New_York:20170329T190000
DTEND;TZID=America/New_York:20170329T210000
DTSTAMP:20260420T115240
CREATED:20170301T165056Z
LAST-MODIFIED:20170301T165056Z
UID:10483-1490814000-1490821200@springfieldparkingauthority.com
SUMMARY:THUNDERBIRDS VS BRIDGEPORT
DESCRIPTION:Parking is available at the Civic Center Garage – Free with Ticket \n 
URL:https://springfieldparkingauthority.com/event/thunderbirds-vs-bridgeport-5-2/
LOCATION:MassMutual Center\, 1277 Main Street\, Springfield\, MA\, 01103\, United States
END:VEVENT
BEGIN:VEVENT
DTSTART;TZID=America/New_York:20170331T060000
DTEND;TZID=America/New_York:20170331T120000
DTSTAMP:20260420T115240
CREATED:20170328T141255Z
LAST-MODIFIED:20170328T141255Z
UID:3466-1490940000-1490961600@springfieldparkingauthority.com
SUMMARY:Lowes/Lowe's Meeting
DESCRIPTION:Parking is available at the I-91 North and South Garages – On the Clock \n 
URL:https://springfieldparkingauthority.com/event/loweslowes-meeting/
LOCATION:Sheraton Hotel\, One Monarch Place\, Springfield\, MA\, 01103\, United States
END:VEVENT
BEGIN:VEVENT
DTSTART;TZID=America/New_York:20170331T060000
DTEND;TZID=America/New_York:20170331T120000
DTSTAMP:20260420T115240
CREATED:20170328T141255Z
LAST-MODIFIED:20170328T141255Z
UID:10533-1490940000-1490961600@springfieldparkingauthority.com
SUMMARY:Lowes/Lowe's Meeting
DESCRIPTION:Parking is available at the I-91 North and South Garages – On the Clock \n 
URL:https://springfieldparkingauthority.com/event/loweslowes-meeting-2/
LOCATION:Sheraton Hotel\, One Monarch Place\, Springfield\, MA\, 01103\, United States
END:VEVENT
BEGIN:VEVENT
DTSTART;TZID=America/New_York:20170331T070000
DTEND;TZID=America/New_York:20170331T170000
DTSTAMP:20260420T115240
CREATED:20170301T165302Z
LAST-MODIFIED:20170301T165302Z
UID:3334-1490943600-1490979600@springfieldparkingauthority.com
SUMMARY:BAY PATH UNIVERSITY WOMEN'S CONFERENCE
DESCRIPTION:Parking is available at the Civic Center Garage – $7 Prepay \n 
URL:https://springfieldparkingauthority.com/event/bay-path-university-womens-conference/
LOCATION:MassMutual Center\, 1277 Main Street\, Springfield\, MA\, 01103\, United States
END:VEVENT
BEGIN:VEVENT
DTSTART;TZID=America/New_York:20170331T070000
DTEND;TZID=America/New_York:20170331T170000
DTSTAMP:20260420T115240
CREATED:20170301T165302Z
LAST-MODIFIED:20170301T165302Z
UID:10485-1490943600-1490979600@springfieldparkingauthority.com
SUMMARY:BAY PATH UNIVERSITY WOMEN'S CONFERENCE
DESCRIPTION:Parking is available at the Civic Center Garage – $7 Prepay \n 
URL:https://springfieldparkingauthority.com/event/bay-path-university-womens-conference-2/
LOCATION:MassMutual Center\, 1277 Main Street\, Springfield\, MA\, 01103\, United States
END:VEVENT
BEGIN:VEVENT
DTSTART;TZID=America/New_York:20170331T080000
DTEND;TZID=America/New_York:20170331T220000
DTSTAMP:20260420T115240
CREATED:20170328T141408Z
LAST-MODIFIED:20170328T141408Z
UID:3469-1490947200-1490997600@springfieldparkingauthority.com
SUMMARY:The New England District Key Club Convention
DESCRIPTION:Parking is available at the I-91 North and South Garages – On the Clock \n 
URL:https://springfieldparkingauthority.com/event/the-new-england-district-key-club-convention-3/
LOCATION:Sheraton Hotel\, One Monarch Place\, Springfield\, MA\, 01103\, United States
END:VEVENT
BEGIN:VEVENT
DTSTART;TZID=America/New_York:20170331T080000
DTEND;TZID=America/New_York:20170331T220000
DTSTAMP:20260420T115240
CREATED:20170328T141408Z
LAST-MODIFIED:20170328T141408Z
UID:10534-1490947200-1490997600@springfieldparkingauthority.com
SUMMARY:The New England District Key Club Convention
DESCRIPTION:Parking is available at the I-91 North and South Garages – On the Clock \n 
URL:https://springfieldparkingauthority.com/event/the-new-england-district-key-club-convention-3-2/
LOCATION:Sheraton Hotel\, One Monarch Place\, Springfield\, MA\, 01103\, United States
END:VEVENT
BEGIN:VEVENT
DTSTART;TZID=America/New_York:20170331T130000
DTEND;TZID=America/New_York:20170331T200000
DTSTAMP:20260420T115240
CREATED:20170330T141355Z
LAST-MODIFIED:20170330T141355Z
UID:10536-1490965200-1490990400@springfieldparkingauthority.com
SUMMARY:Lowes / Lowe's Meeting
DESCRIPTION:Parking is available at the I-91 North and South Garages – On the Clock \n 
URL:https://springfieldparkingauthority.com/event/lowes-lowes-meeting-2/
LOCATION:Sheraton Hotel\, One Monarch Place\, Springfield\, MA\, 01103\, United States
END:VEVENT
BEGIN:VEVENT
DTSTART;TZID=America/New_York:20170331T130000
DTEND;TZID=America/New_York:20170331T200000
DTSTAMP:20260420T115240
CREATED:20170330T141355Z
LAST-MODIFIED:20170330T141355Z
UID:3476-1490965200-1490990400@springfieldparkingauthority.com
SUMMARY:Lowes / Lowe's Meeting
DESCRIPTION:Parking is available at the I-91 North and South Garages – On the Clock \n 
URL:https://springfieldparkingauthority.com/event/lowes-lowes-meeting/
LOCATION:Sheraton Hotel\, One Monarch Place\, Springfield\, MA\, 01103\, United States
END:VEVENT
BEGIN:VEVENT
DTSTART;TZID=America/New_York:20170331T190000
DTEND;TZID=America/New_York:20170331T210000
DTSTAMP:20260420T115240
CREATED:20170301T165152Z
LAST-MODIFIED:20170301T165152Z
UID:10484-1490986800-1490994000@springfieldparkingauthority.com
SUMMARY:THUNDERBIRDS VS WILKES-BARRE
DESCRIPTION:Parking is available at the Civic Center Garage – Free with Ticket \n 
URL:https://springfieldparkingauthority.com/event/thunderbirds-vs-wilkes-barre-2-2/
LOCATION:MassMutual Center\, 1277 Main Street\, Springfield\, MA\, 01103\, United States
END:VEVENT
BEGIN:VEVENT
DTSTART;TZID=America/New_York:20170331T190000
DTEND;TZID=America/New_York:20170331T210000
DTSTAMP:20260420T115240
CREATED:20170301T165152Z
LAST-MODIFIED:20170301T165152Z
UID:3332-1490986800-1490994000@springfieldparkingauthority.com
SUMMARY:THUNDERBIRDS VS WILKES-BARRE
DESCRIPTION:Parking is available at the Civic Center Garage – Free with Ticket \n 
URL:https://springfieldparkingauthority.com/event/thunderbirds-vs-wilkes-barre-2/
LOCATION:MassMutual Center\, 1277 Main Street\, Springfield\, MA\, 01103\, United States
END:VEVENT
BEGIN:VEVENT
DTSTART;TZID=America/New_York:20170401T073000
DTEND;TZID=America/New_York:20170401T203000
DTSTAMP:20260420T115240
CREATED:20170327T171716Z
LAST-MODIFIED:20170327T171716Z
UID:3352-1491031800-1491078600@springfieldparkingauthority.com
SUMMARY:SPIRIT OF DANCE AWARDS
DESCRIPTION:Parking is available at the Civic Center Garage – $7 & $12 Prepay \n 
URL:https://springfieldparkingauthority.com/event/spirit-of-dance-awards-3/
LOCATION:MassMutual Center\, 1277 Main Street\, Springfield\, MA\, 01103\, United States
END:VEVENT
BEGIN:VEVENT
DTSTART;TZID=America/New_York:20170401T073000
DTEND;TZID=America/New_York:20170401T203000
DTSTAMP:20260420T115240
CREATED:20170327T171716Z
LAST-MODIFIED:20170327T171716Z
UID:10486-1491031800-1491078600@springfieldparkingauthority.com
SUMMARY:SPIRIT OF DANCE AWARDS
DESCRIPTION:Parking is available at the Civic Center Garage – $7 & $12 Prepay \n 
URL:https://springfieldparkingauthority.com/event/spirit-of-dance-awards-3-2/
LOCATION:MassMutual Center\, 1277 Main Street\, Springfield\, MA\, 01103\, United States
END:VEVENT
BEGIN:VEVENT
DTSTART;TZID=America/New_York:20170401T080000
DTEND;TZID=America/New_York:20170401T160000
DTSTAMP:20260420T115240
CREATED:20170327T172148Z
LAST-MODIFIED:20170327T172148Z
UID:10489-1491033600-1491062400@springfieldparkingauthority.com
SUMMARY:The New England District of Key Clubs Convention
DESCRIPTION:Parking is available at the I-91 North and South Garages – On the Clock \n 
URL:https://springfieldparkingauthority.com/event/the-new-england-district-of-key-clubs-convention-3/
LOCATION:Sheraton Hotel\, One Monarch Place\, Springfield\, MA\, 01103\, United States
END:VEVENT
BEGIN:VEVENT
DTSTART;TZID=America/New_York:20170401T080000
DTEND;TZID=America/New_York:20170401T160000
DTSTAMP:20260420T115240
CREATED:20170327T172148Z
LAST-MODIFIED:20170327T172148Z
UID:3362-1491033600-1491062400@springfieldparkingauthority.com
SUMMARY:The New England District of Key Clubs Convention
DESCRIPTION:Parking is available at the I-91 North and South Garages – On the Clock \n 
URL:https://springfieldparkingauthority.com/event/the-new-england-district-of-key-clubs-convention/
LOCATION:Sheraton Hotel\, One Monarch Place\, Springfield\, MA\, 01103\, United States
END:VEVENT
BEGIN:VEVENT
DTSTART;TZID=America/New_York:20170401T180000
DTEND;TZID=America/New_York:20170401T230000
DTSTAMP:20260420T115240
CREATED:20170327T172317Z
LAST-MODIFIED:20170327T172317Z
UID:3364-1491069600-1491087600@springfieldparkingauthority.com
SUMMARY:Springfield Symphony Orchestra Annaul Gala
DESCRIPTION:Parking is available at the I-91 North and South Garages – On the Clock \n 
URL:https://springfieldparkingauthority.com/event/springfield-symphony-orchestra-annaul-gala/
LOCATION:Symphony Hall\, 34 Court St.\, Springfield\, MA\, 01103\, United States
END:VEVENT
BEGIN:VEVENT
DTSTART;TZID=America/New_York:20170401T180000
DTEND;TZID=America/New_York:20170401T230000
DTSTAMP:20260420T115240
CREATED:20170327T172317Z
LAST-MODIFIED:20170327T172317Z
UID:10490-1491069600-1491087600@springfieldparkingauthority.com
SUMMARY:Springfield Symphony Orchestra Annaul Gala
DESCRIPTION:Parking is available at the I-91 North and South Garages – On the Clock \n 
URL:https://springfieldparkingauthority.com/event/springfield-symphony-orchestra-annaul-gala-2/
LOCATION:Symphony Hall\, 34 Court St.\, Springfield\, MA\, 01103\, United States
END:VEVENT
BEGIN:VEVENT
DTSTART;TZID=America/New_York:20170401T190000
DTEND;TZID=America/New_York:20170401T210000
DTSTAMP:20260420T115240
CREATED:20170327T171809Z
LAST-MODIFIED:20170327T171809Z
UID:3355-1491073200-1491080400@springfieldparkingauthority.com
SUMMARY:THUNDERBIRDS VS PROVIDENCE
DESCRIPTION:Parking is available at the Civic Center Garage – FREE WITH TICKET  \n 
URL:https://springfieldparkingauthority.com/event/thunderbirds-vs-providence-5/
LOCATION:MassMutual Center\, 1277 Main Street\, Springfield\, MA\, 01103\, United States
END:VEVENT
BEGIN:VEVENT
DTSTART;TZID=America/New_York:20170401T190000
DTEND;TZID=America/New_York:20170401T210000
DTSTAMP:20260420T115240
CREATED:20170327T171809Z
LAST-MODIFIED:20170327T171809Z
UID:10487-1491073200-1491080400@springfieldparkingauthority.com
SUMMARY:THUNDERBIRDS VS PROVIDENCE
DESCRIPTION:Parking is available at the Civic Center Garage – FREE WITH TICKET  \n 
URL:https://springfieldparkingauthority.com/event/thunderbirds-vs-providence-5-2/
LOCATION:MassMutual Center\, 1277 Main Street\, Springfield\, MA\, 01103\, United States
END:VEVENT
BEGIN:VEVENT
DTSTART;TZID=America/New_York:20170401T193000
DTEND;TZID=America/New_York:20170401T220000
DTSTAMP:20260420T115240
CREATED:20170327T171917Z
LAST-MODIFIED:20170327T171917Z
UID:3359-1491075000-1491084000@springfieldparkingauthority.com
SUMMARY:SATURDAY NIGHT FEVER
DESCRIPTION:Parking is available at the Columbus Center Garage – Free with Ticket \n 
URL:https://springfieldparkingauthority.com/event/saturday-night-fever/
LOCATION:Columbus Center\, 1 Columbus Center\, Springfield\, MA\, 01103\, United States
END:VEVENT
BEGIN:VEVENT
DTSTART;TZID=America/New_York:20170401T193000
DTEND;TZID=America/New_York:20170401T220000
DTSTAMP:20260420T115240
CREATED:20170327T171917Z
LAST-MODIFIED:20170327T171917Z
UID:10488-1491075000-1491084000@springfieldparkingauthority.com
SUMMARY:SATURDAY NIGHT FEVER
DESCRIPTION:Parking is available at the Columbus Center Garage – Free with Ticket \n 
URL:https://springfieldparkingauthority.com/event/saturday-night-fever-2/
LOCATION:Columbus Center\, 1 Columbus Center\, Springfield\, MA\, 01103\, United States
END:VEVENT
BEGIN:VEVENT
DTSTART;TZID=America/New_York:20170402T080000
DTEND;TZID=America/New_York:20170402T140000
DTSTAMP:20260420T115240
CREATED:20170327T172514Z
LAST-MODIFIED:20170327T172514Z
UID:3368-1491120000-1491141600@springfieldparkingauthority.com
SUMMARY:The New England District of Key Clubs Convention
DESCRIPTION:Parking is available at the I-91 North and South Garages – On the Clock \n 
URL:https://springfieldparkingauthority.com/event/the-new-england-district-of-key-clubs-convention-2/
LOCATION:Sheraton Hotel\, One Monarch Place\, Springfield\, MA\, 01103\, United States
END:VEVENT
BEGIN:VEVENT
DTSTART;TZID=America/New_York:20170402T080000
DTEND;TZID=America/New_York:20170402T140000
DTSTAMP:20260420T115240
CREATED:20170327T172514Z
LAST-MODIFIED:20170327T172514Z
UID:10492-1491120000-1491141600@springfieldparkingauthority.com
SUMMARY:The New England District of Key Clubs Convention
DESCRIPTION:Parking is available at the I-91 North and South Garages – On the Clock \n 
URL:https://springfieldparkingauthority.com/event/the-new-england-district-of-key-clubs-convention-2-2/
LOCATION:Sheraton Hotel\, One Monarch Place\, Springfield\, MA\, 01103\, United States
END:VEVENT
BEGIN:VEVENT
DTSTART;TZID=America/New_York:20170402T083000
DTEND;TZID=America/New_York:20170402T180000
DTSTAMP:20260420T115240
CREATED:20170327T172411Z
LAST-MODIFIED:20170327T172411Z
UID:3366-1491121800-1491156000@springfieldparkingauthority.com
SUMMARY:Spirit of Dance
DESCRIPTION:Parking is available at the Civic Center Garage – $7 & $12 Prepay \n 
URL:https://springfieldparkingauthority.com/event/spirit-of-dance/
LOCATION:MassMutual Center\, 1277 Main Street\, Springfield\, MA\, 01103\, United States
END:VEVENT
BEGIN:VEVENT
DTSTART;TZID=America/New_York:20170402T083000
DTEND;TZID=America/New_York:20170402T180000
DTSTAMP:20260420T115240
CREATED:20170327T172411Z
LAST-MODIFIED:20170327T172411Z
UID:10491-1491121800-1491156000@springfieldparkingauthority.com
SUMMARY:Spirit of Dance
DESCRIPTION:Parking is available at the Civic Center Garage – $7 & $12 Prepay \n 
URL:https://springfieldparkingauthority.com/event/spirit-of-dance-3/
LOCATION:MassMutual Center\, 1277 Main Street\, Springfield\, MA\, 01103\, United States
END:VEVENT
BEGIN:VEVENT
DTSTART;TZID=America/New_York:20170404T070000
DTEND;TZID=America/New_York:20170404T180000
DTSTAMP:20260420T115240
CREATED:20170330T140439Z
LAST-MODIFIED:20170330T140439Z
UID:3473-1491289200-1491328800@springfieldparkingauthority.com
SUMMARY:Realtor Association of Pioneer Vally Education Event
DESCRIPTION:Parking is available at the Civic Center Garage – $7 & $12 Prepay \n 
URL:https://springfieldparkingauthority.com/event/realtor-association-of-pioneer-vally-education-event-2/
LOCATION:MassMutual Center\, 1277 Main Street\, Springfield\, MA\, 01103\, United States
END:VEVENT
BEGIN:VEVENT
DTSTART;TZID=America/New_York:20170404T070000
DTEND;TZID=America/New_York:20170404T180000
DTSTAMP:20260420T115240
CREATED:20170330T140439Z
LAST-MODIFIED:20170330T140439Z
UID:10535-1491289200-1491328800@springfieldparkingauthority.com
SUMMARY:Realtor Association of Pioneer Vally Education Event
DESCRIPTION:Parking is available at the Civic Center Garage – $7 & $12 Prepay \n 
URL:https://springfieldparkingauthority.com/event/realtor-association-of-pioneer-vally-education-event-2-2/
LOCATION:MassMutual Center\, 1277 Main Street\, Springfield\, MA\, 01103\, United States
END:VEVENT
END:VCALENDAR