BEGIN:VCALENDAR
VERSION:2.0
PRODID:-//Springfield Parking Authority - ECPv6.15.20//NONSGML v1.0//EN
CALSCALE:GREGORIAN
METHOD:PUBLISH
X-WR-CALNAME:Springfield Parking Authority
X-ORIGINAL-URL:https://springfieldparkingauthority.com
X-WR-CALDESC:Events for Springfield Parking Authority
REFRESH-INTERVAL;VALUE=DURATION:PT1H
X-Robots-Tag:noindex
X-PUBLISHED-TTL:PT1H
BEGIN:VTIMEZONE
TZID:America/New_York
BEGIN:DAYLIGHT
TZOFFSETFROM:-0500
TZOFFSETTO:-0400
TZNAME:EDT
DTSTART:20160313T070000
END:DAYLIGHT
BEGIN:STANDARD
TZOFFSETFROM:-0400
TZOFFSETTO:-0500
TZNAME:EST
DTSTART:20161106T060000
END:STANDARD
BEGIN:DAYLIGHT
TZOFFSETFROM:-0500
TZOFFSETTO:-0400
TZNAME:EDT
DTSTART:20170312T070000
END:DAYLIGHT
BEGIN:STANDARD
TZOFFSETFROM:-0400
TZOFFSETTO:-0500
TZNAME:EST
DTSTART:20171105T060000
END:STANDARD
BEGIN:DAYLIGHT
TZOFFSETFROM:-0500
TZOFFSETTO:-0400
TZNAME:EDT
DTSTART:20180311T070000
END:DAYLIGHT
BEGIN:STANDARD
TZOFFSETFROM:-0400
TZOFFSETTO:-0500
TZNAME:EST
DTSTART:20181104T060000
END:STANDARD
END:VTIMEZONE
BEGIN:VEVENT
DTSTART;TZID=America/New_York:20170601T180000
DTEND;TZID=America/New_York:20170601T230000
DTSTAMP:20260420T231437
CREATED:20170525T164837Z
LAST-MODIFIED:20170525T164837Z
UID:3776-1496340000-1496358000@springfieldparkingauthority.com
SUMMARY:High School Of Commerce Prom
DESCRIPTION:Parking is available at the Civic Center Garage – $7 & $12 Prepay \n 
URL:https://springfieldparkingauthority.com/event/high-school-of-commerce-prom-3/
LOCATION:MassMutual Center\, 1277 Main Street\, Springfield\, MA\, 01103\, United States
END:VEVENT
BEGIN:VEVENT
DTSTART;TZID=America/New_York:20170601T180000
DTEND;TZID=America/New_York:20170601T230000
DTSTAMP:20260420T231437
CREATED:20170525T164837Z
LAST-MODIFIED:20170525T164837Z
UID:10628-1496340000-1496358000@springfieldparkingauthority.com
SUMMARY:High School Of Commerce Prom
DESCRIPTION:Parking is available at the Civic Center Garage – $7 & $12 Prepay \n 
URL:https://springfieldparkingauthority.com/event/high-school-of-commerce-prom-3-2/
LOCATION:MassMutual Center\, 1277 Main Street\, Springfield\, MA\, 01103\, United States
END:VEVENT
BEGIN:VEVENT
DTSTART;TZID=America/New_York:20170601T183000
DTEND;TZID=America/New_York:20170601T220000
DTSTAMP:20260420T231437
CREATED:20170525T164454Z
LAST-MODIFIED:20170525T164454Z
UID:10627-1496341800-1496354400@springfieldparkingauthority.com
SUMMARY:STCC Commencement
DESCRIPTION:Parking is available at the Civic Center Garage – $7 & $12 Prepay \n 
URL:https://springfieldparkingauthority.com/event/stcc-commencement-3-2/
LOCATION:MassMutual Center\, 1277 Main Street\, Springfield\, MA\, 01103\, United States
END:VEVENT
BEGIN:VEVENT
DTSTART;TZID=America/New_York:20170601T183000
DTEND;TZID=America/New_York:20170601T220000
DTSTAMP:20260420T231437
CREATED:20170525T164454Z
LAST-MODIFIED:20170525T164454Z
UID:3774-1496341800-1496354400@springfieldparkingauthority.com
SUMMARY:STCC Commencement
DESCRIPTION:Parking is available at the Civic Center Garage – $7 & $12 Prepay \n 
URL:https://springfieldparkingauthority.com/event/stcc-commencement-3/
LOCATION:MassMutual Center\, 1277 Main Street\, Springfield\, MA\, 01103\, United States
END:VEVENT
BEGIN:VEVENT
DTSTART;TZID=America/New_York:20170602T050000
DTEND;TZID=America/New_York:20170602T180000
DTSTAMP:20260420T231437
CREATED:20170602T141441Z
LAST-MODIFIED:20170602T141441Z
UID:10663-1496379600-1496426400@springfieldparkingauthority.com
SUMMARY:East Coast USA Massachusetts
DESCRIPTION:Parking is available at the I-91 North and South Garages – On the Clock \n 
URL:https://springfieldparkingauthority.com/event/east-coast-usa-massachusetts-3/
LOCATION:Sheraton Hotel\, One Monarch Place\, Springfield\, MA\, 01103\, United States
END:VEVENT
BEGIN:VEVENT
DTSTART;TZID=America/New_York:20170602T050000
DTEND;TZID=America/New_York:20170602T180000
DTSTAMP:20260420T231437
CREATED:20170602T141441Z
LAST-MODIFIED:20170602T141441Z
UID:3858-1496379600-1496426400@springfieldparkingauthority.com
SUMMARY:East Coast USA Massachusetts
DESCRIPTION:Parking is available at the I-91 North and South Garages – On the Clock \n 
URL:https://springfieldparkingauthority.com/event/east-coast-usa-massachusetts/
LOCATION:Sheraton Hotel\, One Monarch Place\, Springfield\, MA\, 01103\, United States
END:VEVENT
BEGIN:VEVENT
DTSTART;TZID=America/New_York:20170602T080000
DTEND;TZID=America/New_York:20170602T200000
DTSTAMP:20260420T231437
CREATED:20170602T141343Z
LAST-MODIFIED:20170602T141343Z
UID:10662-1496390400-1496433600@springfieldparkingauthority.com
SUMMARY:Springfield Library & Museums
DESCRIPTION:Parking is available at the I-91 North and South Garages – On the Clock \n 
URL:https://springfieldparkingauthority.com/event/springfield-library-museums-2/
LOCATION:Sheraton Hotel\, One Monarch Place\, Springfield\, MA\, 01103\, United States
END:VEVENT
BEGIN:VEVENT
DTSTART;TZID=America/New_York:20170602T080000
DTEND;TZID=America/New_York:20170602T200000
DTSTAMP:20260420T231437
CREATED:20170602T141343Z
LAST-MODIFIED:20170602T141343Z
UID:3855-1496390400-1496433600@springfieldparkingauthority.com
SUMMARY:Springfield Library & Museums
DESCRIPTION:Parking is available at the I-91 North and South Garages – On the Clock \n 
URL:https://springfieldparkingauthority.com/event/springfield-library-museums/
LOCATION:Sheraton Hotel\, One Monarch Place\, Springfield\, MA\, 01103\, United States
END:VEVENT
BEGIN:VEVENT
DTSTART;TZID=America/New_York:20170602T160000
DTEND;TZID=America/New_York:20170602T220000
DTSTAMP:20260420T231437
CREATED:20170525T165022Z
LAST-MODIFIED:20170525T165022Z
UID:10629-1496419200-1496440800@springfieldparkingauthority.com
SUMMARY:Scare-A-Con
DESCRIPTION:Parking is available at the Civic Center Garage – $7  Prepay \n 
URL:https://springfieldparkingauthority.com/event/scare-a-con-5-2/
LOCATION:MassMutual Center\, 1277 Main Street\, Springfield\, MA\, 01103\, United States
END:VEVENT
BEGIN:VEVENT
DTSTART;TZID=America/New_York:20170602T160000
DTEND;TZID=America/New_York:20170602T220000
DTSTAMP:20260420T231437
CREATED:20170525T165022Z
LAST-MODIFIED:20170525T165022Z
UID:3780-1496419200-1496440800@springfieldparkingauthority.com
SUMMARY:Scare-A-Con
DESCRIPTION:Parking is available at the Civic Center Garage – $7  Prepay \n 
URL:https://springfieldparkingauthority.com/event/scare-a-con-5/
LOCATION:MassMutual Center\, 1277 Main Street\, Springfield\, MA\, 01103\, United States
END:VEVENT
BEGIN:VEVENT
DTSTART;TZID=America/New_York:20170602T190000
DTEND;TZID=America/New_York:20170602T210000
DTSTAMP:20260420T231437
CREATED:20170525T165150Z
LAST-MODIFIED:20170525T165150Z
UID:10630-1496430000-1496437200@springfieldparkingauthority.com
SUMMARY:Minnechaug Graduation
DESCRIPTION:Parking is available at the I-91 North and South Garages –  $7 Prepay \n 
URL:https://springfieldparkingauthority.com/event/minnechaug-graduation-2/
LOCATION:Symphony Hall\, 34 Court St.\, Springfield\, MA\, 01103\, United States
END:VEVENT
BEGIN:VEVENT
DTSTART;TZID=America/New_York:20170602T190000
DTEND;TZID=America/New_York:20170602T210000
DTSTAMP:20260420T231437
CREATED:20170525T165150Z
LAST-MODIFIED:20170525T165150Z
UID:3782-1496430000-1496437200@springfieldparkingauthority.com
SUMMARY:Minnechaug Graduation
DESCRIPTION:Parking is available at the I-91 North and South Garages –  $7 Prepay \n 
URL:https://springfieldparkingauthority.com/event/minnechaug-graduation/
LOCATION:Symphony Hall\, 34 Court St.\, Springfield\, MA\, 01103\, United States
END:VEVENT
BEGIN:VEVENT
DTSTART;TZID=America/New_York:20170602T220000
DTEND;TZID=America/New_York:20170603T000000
DTSTAMP:20260420T231437
CREATED:20170602T141231Z
LAST-MODIFIED:20170602T141231Z
UID:10661-1496440800-1496448000@springfieldparkingauthority.com
SUMMARY:Scare-A-Con
DESCRIPTION:Parking is available at the I-91 North and South Garages – On the Clock \n 
URL:https://springfieldparkingauthority.com/event/scare-a-con-8-2/
LOCATION:Sheraton Hotel\, One Monarch Place\, Springfield\, MA\, 01103\, United States
END:VEVENT
BEGIN:VEVENT
DTSTART;TZID=America/New_York:20170602T220000
DTEND;TZID=America/New_York:20170603T000000
DTSTAMP:20260420T231437
CREATED:20170602T141231Z
LAST-MODIFIED:20170602T141231Z
UID:3850-1496440800-1496448000@springfieldparkingauthority.com
SUMMARY:Scare-A-Con
DESCRIPTION:Parking is available at the I-91 North and South Garages – On the Clock \n 
URL:https://springfieldparkingauthority.com/event/scare-a-con-8/
LOCATION:Sheraton Hotel\, One Monarch Place\, Springfield\, MA\, 01103\, United States
END:VEVENT
BEGIN:VEVENT
DTSTART;TZID=America/New_York:20170603T080000
DTEND;TZID=America/New_York:20170603T180000
DTSTAMP:20260420T231437
CREATED:20170602T142717Z
LAST-MODIFIED:20170602T142717Z
UID:10667-1496476800-1496512800@springfieldparkingauthority.com
SUMMARY:East Coast USA Massachusetts
DESCRIPTION:Parking is available at the I-91 North and South Garages – On the Clock \n 
URL:https://springfieldparkingauthority.com/event/east-coast-usa-massachusetts-2-2/
LOCATION:Sheraton Hotel\, One Monarch Place\, Springfield\, MA\, 01103\, United States
END:VEVENT
BEGIN:VEVENT
DTSTART;TZID=America/New_York:20170603T080000
DTEND;TZID=America/New_York:20170603T180000
DTSTAMP:20260420T231437
CREATED:20170602T142717Z
LAST-MODIFIED:20170602T142717Z
UID:3868-1496476800-1496512800@springfieldparkingauthority.com
SUMMARY:East Coast USA Massachusetts
DESCRIPTION:Parking is available at the I-91 North and South Garages – On the Clock \n 
URL:https://springfieldparkingauthority.com/event/east-coast-usa-massachusetts-2/
LOCATION:Sheraton Hotel\, One Monarch Place\, Springfield\, MA\, 01103\, United States
END:VEVENT
BEGIN:VEVENT
DTSTART;TZID=America/New_York:20170603T100000
DTEND;TZID=America/New_York:20170603T190000
DTSTAMP:20260420T231437
CREATED:20170525T165354Z
LAST-MODIFIED:20170525T165354Z
UID:10632-1496484000-1496516400@springfieldparkingauthority.com
SUMMARY:Scare-A-CON
DESCRIPTION:Parking is available at the Civic Center Garage – $7 & $12 Prepay \n 
URL:https://springfieldparkingauthority.com/event/scare-a-con-6-2/
LOCATION:MassMutual Center\, 1277 Main Street\, Springfield\, MA\, 01103\, United States
END:VEVENT
BEGIN:VEVENT
DTSTART;TZID=America/New_York:20170603T100000
DTEND;TZID=America/New_York:20170603T190000
DTSTAMP:20260420T231437
CREATED:20170525T165354Z
LAST-MODIFIED:20170525T165354Z
UID:3788-1496484000-1496516400@springfieldparkingauthority.com
SUMMARY:Scare-A-CON
DESCRIPTION:Parking is available at the Civic Center Garage – $7 & $12 Prepay \n 
URL:https://springfieldparkingauthority.com/event/scare-a-con-6/
LOCATION:MassMutual Center\, 1277 Main Street\, Springfield\, MA\, 01103\, United States
END:VEVENT
BEGIN:VEVENT
DTSTART;TZID=America/New_York:20170603T160000
DTEND;TZID=America/New_York:20170603T180000
DTSTAMP:20260420T231437
CREATED:20170525T165515Z
LAST-MODIFIED:20170525T165515Z
UID:3790-1496505600-1496512800@springfieldparkingauthority.com
SUMMARY:Sabi Charter School Graduation
DESCRIPTION:Parking is available at the I-91 North And South Garage – $7 Prepay \n 
URL:https://springfieldparkingauthority.com/event/sabi-charter-school-graduation/
LOCATION:Symphony Hall\, 34 Court St.\, Springfield\, MA\, 01103\, United States
END:VEVENT
BEGIN:VEVENT
DTSTART;TZID=America/New_York:20170603T160000
DTEND;TZID=America/New_York:20170603T180000
DTSTAMP:20260420T231437
CREATED:20170525T165515Z
LAST-MODIFIED:20170525T165515Z
UID:10633-1496505600-1496512800@springfieldparkingauthority.com
SUMMARY:Sabi Charter School Graduation
DESCRIPTION:Parking is available at the I-91 North And South Garage – $7 Prepay \n 
URL:https://springfieldparkingauthority.com/event/sabi-charter-school-graduation-2/
LOCATION:Symphony Hall\, 34 Court St.\, Springfield\, MA\, 01103\, United States
END:VEVENT
BEGIN:VEVENT
DTSTART;TZID=America/New_York:20170603T190000
DTEND;TZID=America/New_York:20170603T230000
DTSTAMP:20260420T231437
CREATED:20170525T165300Z
LAST-MODIFIED:20170525T165300Z
UID:10631-1496516400-1496530800@springfieldparkingauthority.com
SUMMARY:Anyas BatMitzvah
DESCRIPTION:Parking is available at the I-91 North and South Garages – On the Clock \n 
URL:https://springfieldparkingauthority.com/event/anyas-batmitzvah-2/
LOCATION:Sheraton Hotel\, One Monarch Place\, Springfield\, MA\, 01103\, United States
END:VEVENT
BEGIN:VEVENT
DTSTART;TZID=America/New_York:20170603T190000
DTEND;TZID=America/New_York:20170603T230000
DTSTAMP:20260420T231437
CREATED:20170525T165300Z
LAST-MODIFIED:20170525T165300Z
UID:3786-1496516400-1496530800@springfieldparkingauthority.com
SUMMARY:Anyas BatMitzvah
DESCRIPTION:Parking is available at the I-91 North and South Garages – On the Clock \n 
URL:https://springfieldparkingauthority.com/event/anyas-batmitzvah/
LOCATION:Sheraton Hotel\, One Monarch Place\, Springfield\, MA\, 01103\, United States
END:VEVENT
BEGIN:VEVENT
DTSTART;TZID=America/New_York:20170604T070000
DTEND;TZID=America/New_York:20170604T200000
DTSTAMP:20260420T231437
CREATED:20170525T165624Z
LAST-MODIFIED:20170525T165624Z
UID:10634-1496559600-1496606400@springfieldparkingauthority.com
SUMMARY:East Coast Pageant Productions\, Inc.
DESCRIPTION:Parking is available at the I-91 North and South Garages – On the Clock \n 
URL:https://springfieldparkingauthority.com/event/east-coast-pageant-productions-inc-2/
LOCATION:Sheraton Hotel\, One Monarch Place\, Springfield\, MA\, 01103\, United States
END:VEVENT
BEGIN:VEVENT
DTSTART;TZID=America/New_York:20170604T070000
DTEND;TZID=America/New_York:20170604T200000
DTSTAMP:20260420T231437
CREATED:20170525T165624Z
LAST-MODIFIED:20170525T165624Z
UID:3792-1496559600-1496606400@springfieldparkingauthority.com
SUMMARY:East Coast Pageant Productions\, Inc.
DESCRIPTION:Parking is available at the I-91 North and South Garages – On the Clock \n 
URL:https://springfieldparkingauthority.com/event/east-coast-pageant-productions-inc/
LOCATION:Sheraton Hotel\, One Monarch Place\, Springfield\, MA\, 01103\, United States
END:VEVENT
BEGIN:VEVENT
DTSTART;TZID=America/New_York:20170604T110000
DTEND;TZID=America/New_York:20170604T150000
DTSTAMP:20260420T231437
CREATED:20170525T165709Z
LAST-MODIFIED:20170525T165709Z
UID:10635-1496574000-1496588400@springfieldparkingauthority.com
SUMMARY:Scare-A-Con
DESCRIPTION:Parking is available at the Civic Center Garage – $7 & $12 Prepay \n 
URL:https://springfieldparkingauthority.com/event/scare-a-con-7-2/
LOCATION:MassMutual Center\, 1277 Main Street\, Springfield\, MA\, 01103\, United States
END:VEVENT
BEGIN:VEVENT
DTSTART;TZID=America/New_York:20170604T110000
DTEND;TZID=America/New_York:20170604T150000
DTSTAMP:20260420T231437
CREATED:20170525T165709Z
LAST-MODIFIED:20170525T165709Z
UID:3794-1496574000-1496588400@springfieldparkingauthority.com
SUMMARY:Scare-A-Con
DESCRIPTION:Parking is available at the Civic Center Garage – $7 & $12 Prepay \n 
URL:https://springfieldparkingauthority.com/event/scare-a-con-7/
LOCATION:MassMutual Center\, 1277 Main Street\, Springfield\, MA\, 01103\, United States
END:VEVENT
BEGIN:VEVENT
DTSTART;TZID=America/New_York:20170605T170000
DTEND;TZID=America/New_York:20170605T193000
DTSTAMP:20260420T231437
CREATED:20170525T165813Z
LAST-MODIFIED:20170525T165813Z
UID:10636-1496682000-1496691000@springfieldparkingauthority.com
SUMMARY:Adcare Education Institute
DESCRIPTION:Parking is available at the I-91 North and South Garages – On the Clock \n 
URL:https://springfieldparkingauthority.com/event/adcare-education-institute-2/
LOCATION:Sheraton Hotel\, One Monarch Place\, Springfield\, MA\, 01103\, United States
END:VEVENT
BEGIN:VEVENT
DTSTART;TZID=America/New_York:20170605T170000
DTEND;TZID=America/New_York:20170605T193000
DTSTAMP:20260420T231437
CREATED:20170525T165813Z
LAST-MODIFIED:20170525T165813Z
UID:3796-1496682000-1496691000@springfieldparkingauthority.com
SUMMARY:Adcare Education Institute
DESCRIPTION:Parking is available at the I-91 North and South Garages – On the Clock \n 
URL:https://springfieldparkingauthority.com/event/adcare-education-institute/
LOCATION:Sheraton Hotel\, One Monarch Place\, Springfield\, MA\, 01103\, United States
END:VEVENT
BEGIN:VEVENT
DTSTART;TZID=America/New_York:20170605T180000
DTEND;TZID=America/New_York:20170605T200000
DTSTAMP:20260420T231437
CREATED:20170525T165908Z
LAST-MODIFIED:20170525T165908Z
UID:10637-1496685600-1496692800@springfieldparkingauthority.com
SUMMARY:Renaissance High School Graduation
DESCRIPTION:Parking is available at the I-91 North and South Garages – $ 7 Prepay \n 
URL:https://springfieldparkingauthority.com/event/renaissance-high-school-graduation-2-2/
LOCATION:Symphony Hall\, 34 Court St.\, Springfield\, MA\, 01103\, United States
END:VEVENT
BEGIN:VEVENT
DTSTART;TZID=America/New_York:20170605T180000
DTEND;TZID=America/New_York:20170605T200000
DTSTAMP:20260420T231437
CREATED:20170525T165908Z
LAST-MODIFIED:20170525T165908Z
UID:3798-1496685600-1496692800@springfieldparkingauthority.com
SUMMARY:Renaissance High School Graduation
DESCRIPTION:Parking is available at the I-91 North and South Garages – $ 7 Prepay \n 
URL:https://springfieldparkingauthority.com/event/renaissance-high-school-graduation-2/
LOCATION:Symphony Hall\, 34 Court St.\, Springfield\, MA\, 01103\, United States
END:VEVENT
END:VCALENDAR