BEGIN:VCALENDAR
VERSION:2.0
PRODID:-//Springfield Parking Authority - ECPv6.15.20//NONSGML v1.0//EN
CALSCALE:GREGORIAN
METHOD:PUBLISH
X-ORIGINAL-URL:https://springfieldparkingauthority.com
X-WR-CALDESC:Events for Springfield Parking Authority
REFRESH-INTERVAL;VALUE=DURATION:PT1H
X-Robots-Tag:noindex
X-PUBLISHED-TTL:PT1H
BEGIN:VTIMEZONE
TZID:America/New_York
BEGIN:DAYLIGHT
TZOFFSETFROM:-0500
TZOFFSETTO:-0400
TZNAME:EDT
DTSTART:20160313T070000
END:DAYLIGHT
BEGIN:STANDARD
TZOFFSETFROM:-0400
TZOFFSETTO:-0500
TZNAME:EST
DTSTART:20161106T060000
END:STANDARD
BEGIN:DAYLIGHT
TZOFFSETFROM:-0500
TZOFFSETTO:-0400
TZNAME:EDT
DTSTART:20170312T070000
END:DAYLIGHT
BEGIN:STANDARD
TZOFFSETFROM:-0400
TZOFFSETTO:-0500
TZNAME:EST
DTSTART:20171105T060000
END:STANDARD
BEGIN:DAYLIGHT
TZOFFSETFROM:-0500
TZOFFSETTO:-0400
TZNAME:EDT
DTSTART:20180311T070000
END:DAYLIGHT
BEGIN:STANDARD
TZOFFSETFROM:-0400
TZOFFSETTO:-0500
TZNAME:EST
DTSTART:20181104T060000
END:STANDARD
END:VTIMEZONE
BEGIN:VEVENT
DTSTART;TZID=America/New_York:20170409T060000
DTEND;TZID=America/New_York:20170409T235500
DTSTAMP:20260420T115928
CREATED:20170330T162012Z
LAST-MODIFIED:20170330T162012Z
UID:10543-1491717600-1491782100@springfieldparkingauthority.com
SUMMARY:NEFHS/ NEW ENGLAND FEDERATION OF HUMANE SOCIETIES
DESCRIPTION:Parking is available at the I-91 North and South Garages – On the Clock \n 
URL:https://springfieldparkingauthority.com/event/nefhs-new-england-federation-of-humane-societies-3-2/
LOCATION:Sheraton Hotel\, One Monarch Place\, Springfield\, MA\, 01103\, United States
END:VEVENT
BEGIN:VEVENT
DTSTART;TZID=America/New_York:20170409T060000
DTEND;TZID=America/New_York:20170409T235500
DTSTAMP:20260420T115928
CREATED:20170330T162012Z
LAST-MODIFIED:20170330T162012Z
UID:3498-1491717600-1491782100@springfieldparkingauthority.com
SUMMARY:NEFHS/ NEW ENGLAND FEDERATION OF HUMANE SOCIETIES
DESCRIPTION:Parking is available at the I-91 North and South Garages – On the Clock \n 
URL:https://springfieldparkingauthority.com/event/nefhs-new-england-federation-of-humane-societies-3/
LOCATION:Sheraton Hotel\, One Monarch Place\, Springfield\, MA\, 01103\, United States
END:VEVENT
BEGIN:VEVENT
DTSTART;TZID=America/New_York:20170409T080000
DTEND;TZID=America/New_York:20170409T170000
DTSTAMP:20260420T115928
CREATED:20170327T182838Z
LAST-MODIFIED:20170327T182838Z
UID:10532-1491724800-1491757200@springfieldparkingauthority.com
SUMMARY:SA Gymnastics Region 6 Level 9/10 Regional Championship
DESCRIPTION:Parking is available at the Civic Center Garage – $7 & $12 Prepay \n 
URL:https://springfieldparkingauthority.com/event/sa-gymnastics-region-6-level-910-regional-championship-5-2/
LOCATION:MassMutual Center\, 1277 Main Street\, Springfield\, MA\, 01103\, United States
END:VEVENT
BEGIN:VEVENT
DTSTART;TZID=America/New_York:20170409T080000
DTEND;TZID=America/New_York:20170409T170000
DTSTAMP:20260420T115928
CREATED:20170327T182838Z
LAST-MODIFIED:20170327T182838Z
UID:3463-1491724800-1491757200@springfieldparkingauthority.com
SUMMARY:SA Gymnastics Region 6 Level 9/10 Regional Championship
DESCRIPTION:Parking is available at the Civic Center Garage – $7 & $12 Prepay \n 
URL:https://springfieldparkingauthority.com/event/sa-gymnastics-region-6-level-910-regional-championship-5/
LOCATION:MassMutual Center\, 1277 Main Street\, Springfield\, MA\, 01103\, United States
END:VEVENT
BEGIN:VEVENT
DTSTART;TZID=America/New_York:20170409T080000
DTEND;TZID=America/New_York:20170409T200000
DTSTAMP:20260420T115928
CREATED:20170327T173639Z
LAST-MODIFIED:20170327T173639Z
UID:10501-1491724800-1491768000@springfieldparkingauthority.com
SUMMARY:ENCORE CHAMPIONSHIP
DESCRIPTION:Parking is available at the Civic Center Garage – $7 & $12 Prepay \n 
URL:https://springfieldparkingauthority.com/event/encore-championship-2/
LOCATION:MassMutual Center\, 1277 Main Street\, Springfield\, MA\, 01103\, United States
END:VEVENT
BEGIN:VEVENT
DTSTART;TZID=America/New_York:20170409T080000
DTEND;TZID=America/New_York:20170409T200000
DTSTAMP:20260420T115928
CREATED:20170327T173639Z
LAST-MODIFIED:20170327T173639Z
UID:3389-1491724800-1491768000@springfieldparkingauthority.com
SUMMARY:ENCORE CHAMPIONSHIP
DESCRIPTION:Parking is available at the Civic Center Garage – $7 & $12 Prepay \n 
URL:https://springfieldparkingauthority.com/event/encore-championship/
LOCATION:MassMutual Center\, 1277 Main Street\, Springfield\, MA\, 01103\, United States
END:VEVENT
BEGIN:VEVENT
DTSTART;TZID=America/New_York:20170410T060000
DTEND;TZID=America/New_York:20170410T235500
DTSTAMP:20260420T115928
CREATED:20170330T162117Z
LAST-MODIFIED:20170330T162117Z
UID:10544-1491804000-1491868500@springfieldparkingauthority.com
SUMMARY:NEFHS/ NEW ENGLAND FEDERATION OF HUMANE SOCIETIES
DESCRIPTION:Parking is available at the I-91 North and South Garages – On the Clock \n 
URL:https://springfieldparkingauthority.com/event/nefhs-new-england-federation-of-humane-societies-4-2/
LOCATION:Sheraton Hotel\, One Monarch Place\, Springfield\, MA\, 01103\, United States
END:VEVENT
BEGIN:VEVENT
DTSTART;TZID=America/New_York:20170410T060000
DTEND;TZID=America/New_York:20170410T235500
DTSTAMP:20260420T115928
CREATED:20170330T162117Z
LAST-MODIFIED:20170330T162117Z
UID:3502-1491804000-1491868500@springfieldparkingauthority.com
SUMMARY:NEFHS/ NEW ENGLAND FEDERATION OF HUMANE SOCIETIES
DESCRIPTION:Parking is available at the I-91 North and South Garages – On the Clock \n 
URL:https://springfieldparkingauthority.com/event/nefhs-new-england-federation-of-humane-societies-4/
LOCATION:Sheraton Hotel\, One Monarch Place\, Springfield\, MA\, 01103\, United States
END:VEVENT
BEGIN:VEVENT
DTSTART;TZID=America/New_York:20170410T110000
DTEND;TZID=America/New_York:20170410T133000
DTSTAMP:20260420T115928
CREATED:20170327T174348Z
LAST-MODIFIED:20170327T174348Z
UID:10504-1491822000-1491831000@springfieldparkingauthority.com
SUMMARY:Outlook 2017
DESCRIPTION:Parking is available at the Civic Center Garage – $7  Prepay \n 
URL:https://springfieldparkingauthority.com/event/outlook-2017-2/
LOCATION:MassMutual Center\, 1277 Main Street\, Springfield\, MA\, 01103\, United States
END:VEVENT
BEGIN:VEVENT
DTSTART;TZID=America/New_York:20170410T110000
DTEND;TZID=America/New_York:20170410T133000
DTSTAMP:20260420T115928
CREATED:20170327T174348Z
LAST-MODIFIED:20170327T174348Z
UID:3395-1491822000-1491831000@springfieldparkingauthority.com
SUMMARY:Outlook 2017
DESCRIPTION:Parking is available at the Civic Center Garage – $7  Prepay \n 
URL:https://springfieldparkingauthority.com/event/outlook-2017/
LOCATION:MassMutual Center\, 1277 Main Street\, Springfield\, MA\, 01103\, United States
END:VEVENT
BEGIN:VEVENT
DTSTART;TZID=America/New_York:20170410T193000
DTEND;TZID=America/New_York:20170410T220000
DTSTAMP:20260420T115928
CREATED:20170327T174608Z
LAST-MODIFIED:20170327T174608Z
UID:10505-1491852600-1491861600@springfieldparkingauthority.com
SUMMARY:Education Connection Concerts Rehearsal
DESCRIPTION:Parking is available at the I-91 North and South Garages – On the Clock \n 
URL:https://springfieldparkingauthority.com/event/education-connection-concerts-rehearsal-2/
LOCATION:Symphony Hall\, 34 Court St.\, Springfield\, MA\, 01103\, United States
END:VEVENT
BEGIN:VEVENT
DTSTART;TZID=America/New_York:20170410T193000
DTEND;TZID=America/New_York:20170410T220000
DTSTAMP:20260420T115928
CREATED:20170327T174608Z
LAST-MODIFIED:20170327T174608Z
UID:3399-1491852600-1491861600@springfieldparkingauthority.com
SUMMARY:Education Connection Concerts Rehearsal
DESCRIPTION:Parking is available at the I-91 North and South Garages – On the Clock \n 
URL:https://springfieldparkingauthority.com/event/education-connection-concerts-rehearsal/
LOCATION:Symphony Hall\, 34 Court St.\, Springfield\, MA\, 01103\, United States
END:VEVENT
BEGIN:VEVENT
DTSTART;TZID=America/New_York:20170411T094500
DTEND;TZID=America/New_York:20170412T002000
DTSTAMP:20260420T115928
CREATED:20170327T174957Z
LAST-MODIFIED:20170327T174957Z
UID:10507-1491903900-1491956400@springfieldparkingauthority.com
SUMMARY:Springfield Symphony Orchestra School Show
DESCRIPTION:Parking is available at the I-91 North and South Garages – On the Clock \n 
URL:https://springfieldparkingauthority.com/event/springfield-symphony-orchestra-4/
LOCATION:Symphony Hall\, 34 Court St.\, Springfield\, MA\, 01103\, United States
END:VEVENT
BEGIN:VEVENT
DTSTART;TZID=America/New_York:20170411T094500
DTEND;TZID=America/New_York:20170412T002000
DTSTAMP:20260420T115928
CREATED:20170327T174957Z
LAST-MODIFIED:20170327T174957Z
UID:3403-1491903900-1491956400@springfieldparkingauthority.com
SUMMARY:Springfield Symphony Orchestra School Show
DESCRIPTION:Parking is available at the I-91 North and South Garages – On the Clock \n 
URL:https://springfieldparkingauthority.com/event/springfield-symphony-orchestra/
LOCATION:Symphony Hall\, 34 Court St.\, Springfield\, MA\, 01103\, United States
END:VEVENT
BEGIN:VEVENT
DTSTART;TZID=America/New_York:20170411T173000
DTEND;TZID=America/New_York:20170411T200000
DTSTAMP:20260420T115928
CREATED:20170327T174804Z
LAST-MODIFIED:20170327T174804Z
UID:10506-1491931800-1491940800@springfieldparkingauthority.com
SUMMARY:Professional Women's Chamber Event
DESCRIPTION:Parking is available at the Columbus Center Garage – $7 Prepay \n 
URL:https://springfieldparkingauthority.com/event/professional-womens-chamber-event-2/
LOCATION:Columbus Center\, 1 Columbus Center\, Springfield\, MA\, 01103\, United States
END:VEVENT
BEGIN:VEVENT
DTSTART;TZID=America/New_York:20170411T173000
DTEND;TZID=America/New_York:20170411T200000
DTSTAMP:20260420T115928
CREATED:20170327T174804Z
LAST-MODIFIED:20170327T174804Z
UID:3401-1491931800-1491940800@springfieldparkingauthority.com
SUMMARY:Professional Women's Chamber Event
DESCRIPTION:Parking is available at the Columbus Center Garage – $7 Prepay \n 
URL:https://springfieldparkingauthority.com/event/professional-womens-chamber-event/
LOCATION:Columbus Center\, 1 Columbus Center\, Springfield\, MA\, 01103\, United States
END:VEVENT
BEGIN:VEVENT
DTSTART;TZID=America/New_York:20170412T190000
DTEND;TZID=America/New_York:20170412T210000
DTSTAMP:20260420T115928
CREATED:20170327T175050Z
LAST-MODIFIED:20170327T175050Z
UID:10508-1492023600-1492030800@springfieldparkingauthority.com
SUMMARY:Thunderbirds VS Providence
DESCRIPTION:Parking is available at the Civic Center Garage – Free with Ticket \n 
URL:https://springfieldparkingauthority.com/event/thunderbirds-vs-providence-6-2/
LOCATION:MassMutual Center\, 1277 Main Street\, Springfield\, MA\, 01103\, United States
END:VEVENT
BEGIN:VEVENT
DTSTART;TZID=America/New_York:20170412T190000
DTEND;TZID=America/New_York:20170412T210000
DTSTAMP:20260420T115928
CREATED:20170327T175050Z
LAST-MODIFIED:20170327T175050Z
UID:3405-1492023600-1492030800@springfieldparkingauthority.com
SUMMARY:Thunderbirds VS Providence
DESCRIPTION:Parking is available at the Civic Center Garage – Free with Ticket \n 
URL:https://springfieldparkingauthority.com/event/thunderbirds-vs-providence-6/
LOCATION:MassMutual Center\, 1277 Main Street\, Springfield\, MA\, 01103\, United States
END:VEVENT
BEGIN:VEVENT
DTSTART;TZID=America/New_York:20170413T193000
DTEND;TZID=America/New_York:20170413T220000
DTSTAMP:20260420T115928
CREATED:20170327T175149Z
LAST-MODIFIED:20170327T175149Z
UID:10509-1492111800-1492120800@springfieldparkingauthority.com
SUMMARY:Golden Dragon Acrobats
DESCRIPTION:Parking is available at the I-91 North and South Garages – On the Clock \n 
URL:https://springfieldparkingauthority.com/event/golden-dragon-acrobats-2/
LOCATION:Symphony Hall\, 34 Court St.\, Springfield\, MA\, 01103\, United States
END:VEVENT
BEGIN:VEVENT
DTSTART;TZID=America/New_York:20170413T193000
DTEND;TZID=America/New_York:20170413T220000
DTSTAMP:20260420T115928
CREATED:20170327T175149Z
LAST-MODIFIED:20170327T175149Z
UID:3407-1492111800-1492120800@springfieldparkingauthority.com
SUMMARY:Golden Dragon Acrobats
DESCRIPTION:Parking is available at the I-91 North and South Garages – On the Clock \n 
URL:https://springfieldparkingauthority.com/event/golden-dragon-acrobats/
LOCATION:Symphony Hall\, 34 Court St.\, Springfield\, MA\, 01103\, United States
END:VEVENT
BEGIN:VEVENT
DTSTART;TZID=America/New_York:20170414T070000
DTEND;TZID=America/New_York:20170414T235500
DTSTAMP:20260420T115928
CREATED:20170404T174525Z
LAST-MODIFIED:20170404T174525Z
UID:10545-1492153200-1492214100@springfieldparkingauthority.com
SUMMARY:The Church of Pentecost Easter Convention
DESCRIPTION:Parking is available at the I-91 North and South Garages – On the Clock \n 
URL:https://springfieldparkingauthority.com/event/the-church-of-pentecost-easter-convention-4/
LOCATION:Sheraton Hotel\, One Monarch Place\, Springfield\, MA\, 01103\, United States
END:VEVENT
BEGIN:VEVENT
DTSTART;TZID=America/New_York:20170414T070000
DTEND;TZID=America/New_York:20170414T235500
DTSTAMP:20260420T115928
CREATED:20170404T174525Z
LAST-MODIFIED:20170404T174525Z
UID:3505-1492153200-1492214100@springfieldparkingauthority.com
SUMMARY:The Church of Pentecost Easter Convention
DESCRIPTION:Parking is available at the I-91 North and South Garages – On the Clock \n 
URL:https://springfieldparkingauthority.com/event/the-church-of-pentecost-easter-convention/
LOCATION:Sheraton Hotel\, One Monarch Place\, Springfield\, MA\, 01103\, United States
END:VEVENT
BEGIN:VEVENT
DTSTART;TZID=America/New_York:20170414T140000
DTEND;TZID=America/New_York:20170414T230000
DTSTAMP:20260420T115928
CREATED:20170404T174613Z
LAST-MODIFIED:20170404T174613Z
UID:10546-1492178400-1492210800@springfieldparkingauthority.com
SUMMARY:Commerce High School
DESCRIPTION:Parking is available at the I-91 North and South Garages – On the Clock \n 
URL:https://springfieldparkingauthority.com/event/commerce-high-school-2/
LOCATION:Sheraton Hotel\, One Monarch Place\, Springfield\, MA\, 01103\, United States
END:VEVENT
BEGIN:VEVENT
DTSTART;TZID=America/New_York:20170414T140000
DTEND;TZID=America/New_York:20170414T230000
DTSTAMP:20260420T115928
CREATED:20170404T174613Z
LAST-MODIFIED:20170404T174613Z
UID:3507-1492178400-1492210800@springfieldparkingauthority.com
SUMMARY:Commerce High School
DESCRIPTION:Parking is available at the I-91 North and South Garages – On the Clock \n 
URL:https://springfieldparkingauthority.com/event/commerce-high-school/
LOCATION:Sheraton Hotel\, One Monarch Place\, Springfield\, MA\, 01103\, United States
END:VEVENT
BEGIN:VEVENT
DTSTART;TZID=America/New_York:20170414T180000
DTEND;TZID=America/New_York:20170414T230000
DTSTAMP:20260420T115928
CREATED:20170327T175621Z
LAST-MODIFIED:20170327T175621Z
UID:10510-1492192800-1492210800@springfieldparkingauthority.com
SUMMARY:Easter Convention
DESCRIPTION:Parking is available at the Civic Center Garage – $7 & $12 Prepay \n 
URL:https://springfieldparkingauthority.com/event/easter-convention-7/
LOCATION:MassMutual Center\, 1277 Main Street\, Springfield\, MA\, 01103\, United States
END:VEVENT
BEGIN:VEVENT
DTSTART;TZID=America/New_York:20170414T180000
DTEND;TZID=America/New_York:20170414T230000
DTSTAMP:20260420T115928
CREATED:20170327T175621Z
LAST-MODIFIED:20170327T175621Z
UID:3412-1492192800-1492210800@springfieldparkingauthority.com
SUMMARY:Easter Convention
DESCRIPTION:Parking is available at the Civic Center Garage – $7 & $12 Prepay \n 
URL:https://springfieldparkingauthority.com/event/easter-convention/
LOCATION:MassMutual Center\, 1277 Main Street\, Springfield\, MA\, 01103\, United States
END:VEVENT
BEGIN:VEVENT
DTSTART;TZID=America/New_York:20170414T190000
DTEND;TZID=America/New_York:20170414T210000
DTSTAMP:20260420T115928
CREATED:20170327T175722Z
LAST-MODIFIED:20170327T175722Z
UID:10511-1492196400-1492203600@springfieldparkingauthority.com
SUMMARY:Thunderbirds VS Bridgeport
DESCRIPTION:Parking is available at the Civic Center Garage – Free with Ticket \n 
URL:https://springfieldparkingauthority.com/event/thunderbirds-vs-bridgeport-6-2/
LOCATION:MassMutual Center\, 1277 Main Street\, Springfield\, MA\, 01103\, United States
END:VEVENT
BEGIN:VEVENT
DTSTART;TZID=America/New_York:20170414T190000
DTEND;TZID=America/New_York:20170414T210000
DTSTAMP:20260420T115928
CREATED:20170327T175722Z
LAST-MODIFIED:20170327T175722Z
UID:3414-1492196400-1492203600@springfieldparkingauthority.com
SUMMARY:Thunderbirds VS Bridgeport
DESCRIPTION:Parking is available at the Civic Center Garage – Free with Ticket \n 
URL:https://springfieldparkingauthority.com/event/thunderbirds-vs-bridgeport-6/
LOCATION:MassMutual Center\, 1277 Main Street\, Springfield\, MA\, 01103\, United States
END:VEVENT
BEGIN:VEVENT
DTSTART;TZID=America/New_York:20170415T050000
DTEND;TZID=America/New_York:20170415T235500
DTSTAMP:20260420T115928
CREATED:20170404T174658Z
LAST-MODIFIED:20170404T174658Z
UID:10547-1492232400-1492300500@springfieldparkingauthority.com
SUMMARY:The Church of Pentecost Easter Convention
DESCRIPTION:Parking is available at the I-91 North and South Garages – On the Clock \n 
URL:https://springfieldparkingauthority.com/event/the-church-of-pentecost-easter-convention-2-2/
LOCATION:Sheraton Hotel\, One Monarch Place\, Springfield\, MA\, 01103\, United States
END:VEVENT
BEGIN:VEVENT
DTSTART;TZID=America/New_York:20170415T050000
DTEND;TZID=America/New_York:20170415T235500
DTSTAMP:20260420T115928
CREATED:20170404T174658Z
LAST-MODIFIED:20170404T174658Z
UID:3509-1492232400-1492300500@springfieldparkingauthority.com
SUMMARY:The Church of Pentecost Easter Convention
DESCRIPTION:Parking is available at the I-91 North and South Garages – On the Clock \n 
URL:https://springfieldparkingauthority.com/event/the-church-of-pentecost-easter-convention-2/
LOCATION:Sheraton Hotel\, One Monarch Place\, Springfield\, MA\, 01103\, United States
END:VEVENT
END:VCALENDAR