BEGIN:VCALENDAR
VERSION:2.0
PRODID:-//Springfield Parking Authority - ECPv6.15.20//NONSGML v1.0//EN
CALSCALE:GREGORIAN
METHOD:PUBLISH
X-ORIGINAL-URL:https://springfieldparkingauthority.com
X-WR-CALDESC:Events for Springfield Parking Authority
REFRESH-INTERVAL;VALUE=DURATION:PT1H
X-Robots-Tag:noindex
X-PUBLISHED-TTL:PT1H
BEGIN:VTIMEZONE
TZID:America/New_York
BEGIN:DAYLIGHT
TZOFFSETFROM:-0500
TZOFFSETTO:-0400
TZNAME:EDT
DTSTART:20160313T070000
END:DAYLIGHT
BEGIN:STANDARD
TZOFFSETFROM:-0400
TZOFFSETTO:-0500
TZNAME:EST
DTSTART:20161106T060000
END:STANDARD
BEGIN:DAYLIGHT
TZOFFSETFROM:-0500
TZOFFSETTO:-0400
TZNAME:EDT
DTSTART:20170312T070000
END:DAYLIGHT
BEGIN:STANDARD
TZOFFSETFROM:-0400
TZOFFSETTO:-0500
TZNAME:EST
DTSTART:20171105T060000
END:STANDARD
BEGIN:DAYLIGHT
TZOFFSETFROM:-0500
TZOFFSETTO:-0400
TZNAME:EDT
DTSTART:20180311T070000
END:DAYLIGHT
BEGIN:STANDARD
TZOFFSETFROM:-0400
TZOFFSETTO:-0500
TZNAME:EST
DTSTART:20181104T060000
END:STANDARD
END:VTIMEZONE
BEGIN:VEVENT
DTSTART;TZID=America/New_York:20170416T070000
DTEND;TZID=America/New_York:20170416T235500
DTSTAMP:20260420T045100
CREATED:20170404T174806Z
LAST-MODIFIED:20170404T174806Z
UID:10548-1492326000-1492386900@springfieldparkingauthority.com
SUMMARY:The Church of Pentecost Easter Convention
DESCRIPTION:Parking is available at the I-91 North and South Garages – On the Clock \n 
URL:https://springfieldparkingauthority.com/event/the-church-of-pentecost-easter-convention-3-2/
LOCATION:Sheraton Hotel\, One Monarch Place\, Springfield\, MA\, 01103\, United States
END:VEVENT
BEGIN:VEVENT
DTSTART;TZID=America/New_York:20170416T070000
DTEND;TZID=America/New_York:20170416T235500
DTSTAMP:20260420T045100
CREATED:20170404T174806Z
LAST-MODIFIED:20170404T174806Z
UID:3513-1492326000-1492386900@springfieldparkingauthority.com
SUMMARY:The Church of Pentecost Easter Convention
DESCRIPTION:Parking is available at the I-91 North and South Garages – On the Clock \n 
URL:https://springfieldparkingauthority.com/event/the-church-of-pentecost-easter-convention-3/
LOCATION:Sheraton Hotel\, One Monarch Place\, Springfield\, MA\, 01103\, United States
END:VEVENT
BEGIN:VEVENT
DTSTART;TZID=America/New_York:20170416T090000
DTEND;TZID=America/New_York:20170416T150000
DTSTAMP:20260420T045100
CREATED:20170327T180217Z
LAST-MODIFIED:20170327T180217Z
UID:10514-1492333200-1492354800@springfieldparkingauthority.com
SUMMARY:Easter Convention
DESCRIPTION:Parking is available at the Civic Center Garage – $7 & $12 Prepay \n 
URL:https://springfieldparkingauthority.com/event/easter-convention-3-2/
LOCATION:MassMutual Center\, 1277 Main Street\, Springfield\, MA\, 01103\, United States
END:VEVENT
BEGIN:VEVENT
DTSTART;TZID=America/New_York:20170416T090000
DTEND;TZID=America/New_York:20170416T150000
DTSTAMP:20260420T045100
CREATED:20170327T180217Z
LAST-MODIFIED:20170327T180217Z
UID:3423-1492333200-1492354800@springfieldparkingauthority.com
SUMMARY:Easter Convention
DESCRIPTION:Parking is available at the Civic Center Garage – $7 & $12 Prepay \n 
URL:https://springfieldparkingauthority.com/event/easter-convention-3/
LOCATION:MassMutual Center\, 1277 Main Street\, Springfield\, MA\, 01103\, United States
END:VEVENT
BEGIN:VEVENT
DTSTART;TZID=America/New_York:20170419T193000
DTEND;TZID=America/New_York:20170419T220000
DTSTAMP:20260420T045100
CREATED:20170327T180308Z
LAST-MODIFIED:20170327T180308Z
UID:10515-1492630200-1492639200@springfieldparkingauthority.com
SUMMARY:The Price is Right
DESCRIPTION:Parking is available at the Civic Center Garage – $7 & $12 Prepay \n 
URL:https://springfieldparkingauthority.com/event/the-price-is-right-2/
LOCATION:MassMutual Center\, 1277 Main Street\, Springfield\, MA\, 01103\, United States
END:VEVENT
BEGIN:VEVENT
DTSTART;TZID=America/New_York:20170419T193000
DTEND;TZID=America/New_York:20170419T220000
DTSTAMP:20260420T045100
CREATED:20170327T180308Z
LAST-MODIFIED:20170327T180308Z
UID:3425-1492630200-1492639200@springfieldparkingauthority.com
SUMMARY:The Price is Right
DESCRIPTION:Parking is available at the Civic Center Garage – $7 & $12 Prepay \n 
URL:https://springfieldparkingauthority.com/event/the-price-is-right/
LOCATION:MassMutual Center\, 1277 Main Street\, Springfield\, MA\, 01103\, United States
END:VEVENT
BEGIN:VEVENT
DTSTART;TZID=America/New_York:20170420T180000
DTEND;TZID=America/New_York:20170420T210000
DTSTAMP:20260420T045100
CREATED:20170412T143813Z
LAST-MODIFIED:20170412T143813Z
UID:10549-1492711200-1492722000@springfieldparkingauthority.com
SUMMARY:Greater Springfield Chamber Of Commerce
DESCRIPTION:Parking is available at the I-91 North and South Garages – On the Clock \n 
URL:https://springfieldparkingauthority.com/event/greater-springfield-chamber-of-commerce-2-2/
LOCATION:Sheraton Hotel\, One Monarch Place\, Springfield\, MA\, 01103\, United States
END:VEVENT
BEGIN:VEVENT
DTSTART;TZID=America/New_York:20170420T180000
DTEND;TZID=America/New_York:20170420T210000
DTSTAMP:20260420T045100
CREATED:20170412T143813Z
LAST-MODIFIED:20170412T143813Z
UID:3525-1492711200-1492722000@springfieldparkingauthority.com
SUMMARY:Greater Springfield Chamber Of Commerce
DESCRIPTION:Parking is available at the I-91 North and South Garages – On the Clock \n 
URL:https://springfieldparkingauthority.com/event/greater-springfield-chamber-of-commerce-2/
LOCATION:Sheraton Hotel\, One Monarch Place\, Springfield\, MA\, 01103\, United States
END:VEVENT
BEGIN:VEVENT
DTSTART;TZID=America/New_York:20170420T180000
DTEND;TZID=America/New_York:20170421T000000
DTSTAMP:20260420T045100
CREATED:20170420T150143Z
LAST-MODIFIED:20170420T150143Z
UID:10565-1492711200-1492732800@springfieldparkingauthority.com
SUMMARY:Javaughn Watkins Sweet 16
DESCRIPTION:Parking is available at the Civic Center Garage – $7 & $12 Prepay \n 
URL:https://springfieldparkingauthority.com/event/javaughn-watkins-sweet-16-2/
LOCATION:MassMutual Center\, 1277 Main Street\, Springfield\, MA\, 01103\, United States
END:VEVENT
BEGIN:VEVENT
DTSTART;TZID=America/New_York:20170420T180000
DTEND;TZID=America/New_York:20170421T000000
DTSTAMP:20260420T045100
CREATED:20170420T150143Z
LAST-MODIFIED:20170420T150143Z
UID:3580-1492711200-1492732800@springfieldparkingauthority.com
SUMMARY:Javaughn Watkins Sweet 16
DESCRIPTION:Parking is available at the Civic Center Garage – $7 & $12 Prepay \n 
URL:https://springfieldparkingauthority.com/event/javaughn-watkins-sweet-16/
LOCATION:MassMutual Center\, 1277 Main Street\, Springfield\, MA\, 01103\, United States
END:VEVENT
BEGIN:VEVENT
DTSTART;TZID=America/New_York:20170421T060000
DTEND;TZID=America/New_York:20170421T120000
DTSTAMP:20260420T045100
CREATED:20170412T144239Z
LAST-MODIFIED:20170412T144239Z
UID:10550-1492754400-1492776000@springfieldparkingauthority.com
SUMMARY:New England Society of Children's Book Winters & Illustration
DESCRIPTION:Parking is available at the I-91 North and South Garages – On the Clock \n 
URL:https://springfieldparkingauthority.com/event/new-england-society-of-childrens-book-winters-illustration-4/
LOCATION:Sheraton Hotel\, One Monarch Place\, Springfield\, MA\, 01103\, United States
END:VEVENT
BEGIN:VEVENT
DTSTART;TZID=America/New_York:20170421T060000
DTEND;TZID=America/New_York:20170421T120000
DTSTAMP:20260420T045100
CREATED:20170412T144239Z
LAST-MODIFIED:20170412T144239Z
UID:3529-1492754400-1492776000@springfieldparkingauthority.com
SUMMARY:New England Society of Children's Book Winters & Illustration
DESCRIPTION:Parking is available at the I-91 North and South Garages – On the Clock \n 
URL:https://springfieldparkingauthority.com/event/new-england-society-of-childrens-book-winters-illustration/
LOCATION:Sheraton Hotel\, One Monarch Place\, Springfield\, MA\, 01103\, United States
END:VEVENT
BEGIN:VEVENT
DTSTART;TZID=America/New_York:20170421T120000
DTEND;TZID=America/New_York:20170421T200000
DTSTAMP:20260420T045100
CREATED:20170413T140656Z
LAST-MODIFIED:20170413T140656Z
UID:10553-1492776000-1492804800@springfieldparkingauthority.com
SUMMARY:USA GYMNASTICS REGION 6- LEVEL 7/8 REGIONAL CHAMPIONSHIPS LOAD ONLY
DESCRIPTION:Parking is available at the Civic Center Garage – Free with Ticket \n 
URL:https://springfieldparkingauthority.com/event/usa-gymnastics-region-6-level-78-regional-championships-load-only-2/
LOCATION:MassMutual Center\, 1277 Main Street\, Springfield\, MA\, 01103\, United States
END:VEVENT
BEGIN:VEVENT
DTSTART;TZID=America/New_York:20170421T120000
DTEND;TZID=America/New_York:20170421T200000
DTSTAMP:20260420T045100
CREATED:20170413T140656Z
LAST-MODIFIED:20170413T140656Z
UID:3541-1492776000-1492804800@springfieldparkingauthority.com
SUMMARY:USA GYMNASTICS REGION 6- LEVEL 7/8 REGIONAL CHAMPIONSHIPS LOAD ONLY
DESCRIPTION:Parking is available at the Civic Center Garage – Free with Ticket \n 
URL:https://springfieldparkingauthority.com/event/usa-gymnastics-region-6-level-78-regional-championships-load-only/
LOCATION:MassMutual Center\, 1277 Main Street\, Springfield\, MA\, 01103\, United States
END:VEVENT
BEGIN:VEVENT
DTSTART;TZID=America/New_York:20170421T160000
DTEND;TZID=America/New_York:20170421T230000
DTSTAMP:20260420T045100
CREATED:20170327T180358Z
LAST-MODIFIED:20170327T180358Z
UID:10516-1492790400-1492815600@springfieldparkingauthority.com
SUMMARY:Dance Xplosion
DESCRIPTION:Parking is available at the Civic Center Garage – $7 Prepay \n 
URL:https://springfieldparkingauthority.com/event/dance-xplosion-6-2/
LOCATION:MassMutual Center\, 1277 Main Street\, Springfield\, MA\, 01103\, United States
END:VEVENT
BEGIN:VEVENT
DTSTART;TZID=America/New_York:20170421T160000
DTEND;TZID=America/New_York:20170421T230000
DTSTAMP:20260420T045100
CREATED:20170327T180358Z
LAST-MODIFIED:20170327T180358Z
UID:3427-1492790400-1492815600@springfieldparkingauthority.com
SUMMARY:Dance Xplosion
DESCRIPTION:Parking is available at the Civic Center Garage – $7 Prepay \n 
URL:https://springfieldparkingauthority.com/event/dance-xplosion-6/
LOCATION:MassMutual Center\, 1277 Main Street\, Springfield\, MA\, 01103\, United States
END:VEVENT
BEGIN:VEVENT
DTSTART;TZID=America/New_York:20170421T193000
DTEND;TZID=America/New_York:20170421T220000
DTSTAMP:20260420T045100
CREATED:20170327T180451Z
LAST-MODIFIED:20170327T180451Z
UID:10517-1492803000-1492812000@springfieldparkingauthority.com
SUMMARY:Steal Your Peach Band
DESCRIPTION:Parking is available at the Columbus Center Garage – Free with Ticket \n 
URL:https://springfieldparkingauthority.com/event/steal-your-peach-band-2/
LOCATION:Columbus Center\, 1 Columbus Center\, Springfield\, MA\, 01103\, United States
END:VEVENT
BEGIN:VEVENT
DTSTART;TZID=America/New_York:20170421T193000
DTEND;TZID=America/New_York:20170421T220000
DTSTAMP:20260420T045100
CREATED:20170327T180451Z
LAST-MODIFIED:20170327T180451Z
UID:3429-1492803000-1492812000@springfieldparkingauthority.com
SUMMARY:Steal Your Peach Band
DESCRIPTION:Parking is available at the Columbus Center Garage – Free with Ticket \n 
URL:https://springfieldparkingauthority.com/event/steal-your-peach-band/
LOCATION:Columbus Center\, 1 Columbus Center\, Springfield\, MA\, 01103\, United States
END:VEVENT
BEGIN:VEVENT
DTSTART;TZID=America/New_York:20170422T060000
DTEND;TZID=America/New_York:20170422T120000
DTSTAMP:20260420T045100
CREATED:20170412T144540Z
LAST-MODIFIED:20170412T144540Z
UID:3531-1492840800-1492862400@springfieldparkingauthority.com
SUMMARY:New England Society of Children's Book Winters & Illustration
DESCRIPTION:Parking is available at the I-91 North and South Garages – On the Clock \n 
URL:https://springfieldparkingauthority.com/event/new-england-society-of-childrens-book-winters-illustration-2/
LOCATION:Sheraton Hotel\, One Monarch Place\, Springfield\, MA\, 01103\, United States
END:VEVENT
BEGIN:VEVENT
DTSTART;TZID=America/New_York:20170422T060000
DTEND;TZID=America/New_York:20170422T120000
DTSTAMP:20260420T045100
CREATED:20170412T144540Z
LAST-MODIFIED:20170412T144540Z
UID:10551-1492840800-1492862400@springfieldparkingauthority.com
SUMMARY:New England Society of Children's Book Winters & Illustration
DESCRIPTION:Parking is available at the I-91 North and South Garages – On the Clock \n 
URL:https://springfieldparkingauthority.com/event/new-england-society-of-childrens-book-winters-illustration-2-2/
LOCATION:Sheraton Hotel\, One Monarch Place\, Springfield\, MA\, 01103\, United States
END:VEVENT
BEGIN:VEVENT
DTSTART;TZID=America/New_York:20170422T070000
DTEND;TZID=America/New_York:20170422T230000
DTSTAMP:20260420T045100
CREATED:20170327T180531Z
LAST-MODIFIED:20170327T180531Z
UID:3431-1492844400-1492902000@springfieldparkingauthority.com
SUMMARY:Dance Xplosion
DESCRIPTION:Parking is available at the Civic Center Garage – $7 & $12 Prepay \n 
URL:https://springfieldparkingauthority.com/event/dance-xplosion-7/
LOCATION:MassMutual Center\, 1277 Main Street\, Springfield\, MA\, 01103\, United States
END:VEVENT
BEGIN:VEVENT
DTSTART;TZID=America/New_York:20170422T070000
DTEND;TZID=America/New_York:20170422T230000
DTSTAMP:20260420T045100
CREATED:20170327T180531Z
LAST-MODIFIED:20170327T180531Z
UID:10518-1492844400-1492902000@springfieldparkingauthority.com
SUMMARY:Dance Xplosion
DESCRIPTION:Parking is available at the Civic Center Garage – $7 & $12 Prepay \n 
URL:https://springfieldparkingauthority.com/event/dance-xplosion-7-2/
LOCATION:MassMutual Center\, 1277 Main Street\, Springfield\, MA\, 01103\, United States
END:VEVENT
BEGIN:VEVENT
DTSTART;TZID=America/New_York:20170422T080000
DTEND;TZID=America/New_York:20170422T220000
DTSTAMP:20260420T045100
CREATED:20170327T180629Z
LAST-MODIFIED:20170327T180629Z
UID:10519-1492848000-1492898400@springfieldparkingauthority.com
SUMMARY:SA Gymnastics Region 6 Level 7/8 Regional Championship
DESCRIPTION:Parking is available at the Civic Center Garage – $7 & $12 Prepay \n 
URL:https://springfieldparkingauthority.com/event/sa-gymnastics-region-6-level-78-regional-championship-3/
LOCATION:MassMutual Center\, 1277 Main Street\, Springfield\, MA\, 01103\, United States
END:VEVENT
BEGIN:VEVENT
DTSTART;TZID=America/New_York:20170422T080000
DTEND;TZID=America/New_York:20170422T220000
DTSTAMP:20260420T045100
CREATED:20170327T180629Z
LAST-MODIFIED:20170327T180629Z
UID:3433-1492848000-1492898400@springfieldparkingauthority.com
SUMMARY:SA Gymnastics Region 6 Level 7/8 Regional Championship
DESCRIPTION:Parking is available at the Civic Center Garage – $7 & $12 Prepay \n 
URL:https://springfieldparkingauthority.com/event/sa-gymnastics-region-6-level-78-regional-championship/
LOCATION:MassMutual Center\, 1277 Main Street\, Springfield\, MA\, 01103\, United States
END:VEVENT
BEGIN:VEVENT
DTSTART;TZID=America/New_York:20170422T193000
DTEND;TZID=America/New_York:20170422T220000
DTSTAMP:20260420T045100
CREATED:20170327T180718Z
LAST-MODIFIED:20170327T180718Z
UID:10520-1492889400-1492898400@springfieldparkingauthority.com
SUMMARY:Memories of Patsy Cline
DESCRIPTION:Parking is available at the Columbus Center Garage – Free with Ticket \n 
URL:https://springfieldparkingauthority.com/event/memories-of-patsy-cline-2/
LOCATION:Columbus Center\, 1 Columbus Center\, Springfield\, MA\, 01103\, United States
END:VEVENT
BEGIN:VEVENT
DTSTART;TZID=America/New_York:20170422T193000
DTEND;TZID=America/New_York:20170422T220000
DTSTAMP:20260420T045100
CREATED:20170327T180718Z
LAST-MODIFIED:20170327T180718Z
UID:3435-1492889400-1492898400@springfieldparkingauthority.com
SUMMARY:Memories of Patsy Cline
DESCRIPTION:Parking is available at the Columbus Center Garage – Free with Ticket \n 
URL:https://springfieldparkingauthority.com/event/memories-of-patsy-cline/
LOCATION:Columbus Center\, 1 Columbus Center\, Springfield\, MA\, 01103\, United States
END:VEVENT
BEGIN:VEVENT
DTSTART;TZID=America/New_York:20170423T060000
DTEND;TZID=America/New_York:20170423T120000
DTSTAMP:20260420T045100
CREATED:20170412T144702Z
LAST-MODIFIED:20170412T144702Z
UID:10552-1492927200-1492948800@springfieldparkingauthority.com
SUMMARY:New England Society of Children's Book Winters & Illustration
DESCRIPTION:Parking is available at the I-91 North and South Garages – On the Clock
URL:https://springfieldparkingauthority.com/event/new-england-society-of-childrens-book-winters-illustration-3-2/
LOCATION:Sheraton Hotel\, One Monarch Place\, Springfield\, MA\, 01103\, United States
END:VEVENT
BEGIN:VEVENT
DTSTART;TZID=America/New_York:20170423T060000
DTEND;TZID=America/New_York:20170423T120000
DTSTAMP:20260420T045100
CREATED:20170412T144702Z
LAST-MODIFIED:20170412T144702Z
UID:3533-1492927200-1492948800@springfieldparkingauthority.com
SUMMARY:New England Society of Children's Book Winters & Illustration
DESCRIPTION:Parking is available at the I-91 North and South Garages – On the Clock
URL:https://springfieldparkingauthority.com/event/new-england-society-of-childrens-book-winters-illustration-3/
LOCATION:Sheraton Hotel\, One Monarch Place\, Springfield\, MA\, 01103\, United States
END:VEVENT
BEGIN:VEVENT
DTSTART;TZID=America/New_York:20170423T080000
DTEND;TZID=America/New_York:20170423T180000
DTSTAMP:20260420T045100
CREATED:20170327T180817Z
LAST-MODIFIED:20170327T180817Z
UID:10521-1492934400-1492970400@springfieldparkingauthority.com
SUMMARY:Dance Xplosion
DESCRIPTION:Parking is available at the Civic Center Garage – $7 & $12 Prepay \n 
URL:https://springfieldparkingauthority.com/event/dance-xplosion-8-2/
LOCATION:MassMutual Center\, 1277 Main Street\, Springfield\, MA\, 01103\, United States
END:VEVENT
BEGIN:VEVENT
DTSTART;TZID=America/New_York:20170423T080000
DTEND;TZID=America/New_York:20170423T180000
DTSTAMP:20260420T045100
CREATED:20170327T180817Z
LAST-MODIFIED:20170327T180817Z
UID:3437-1492934400-1492970400@springfieldparkingauthority.com
SUMMARY:Dance Xplosion
DESCRIPTION:Parking is available at the Civic Center Garage – $7 & $12 Prepay \n 
URL:https://springfieldparkingauthority.com/event/dance-xplosion-8/
LOCATION:MassMutual Center\, 1277 Main Street\, Springfield\, MA\, 01103\, United States
END:VEVENT
END:VCALENDAR