BEGIN:VCALENDAR
VERSION:2.0
PRODID:-//Springfield Parking Authority - ECPv6.15.20//NONSGML v1.0//EN
CALSCALE:GREGORIAN
METHOD:PUBLISH
X-ORIGINAL-URL:https://springfieldparkingauthority.com
X-WR-CALDESC:Events for Springfield Parking Authority
REFRESH-INTERVAL;VALUE=DURATION:PT1H
X-Robots-Tag:noindex
X-PUBLISHED-TTL:PT1H
BEGIN:VTIMEZONE
TZID:America/New_York
BEGIN:DAYLIGHT
TZOFFSETFROM:-0500
TZOFFSETTO:-0400
TZNAME:EDT
DTSTART:20160313T070000
END:DAYLIGHT
BEGIN:STANDARD
TZOFFSETFROM:-0400
TZOFFSETTO:-0500
TZNAME:EST
DTSTART:20161106T060000
END:STANDARD
BEGIN:DAYLIGHT
TZOFFSETFROM:-0500
TZOFFSETTO:-0400
TZNAME:EDT
DTSTART:20170312T070000
END:DAYLIGHT
BEGIN:STANDARD
TZOFFSETFROM:-0400
TZOFFSETTO:-0500
TZNAME:EST
DTSTART:20171105T060000
END:STANDARD
BEGIN:DAYLIGHT
TZOFFSETFROM:-0500
TZOFFSETTO:-0400
TZNAME:EDT
DTSTART:20180311T070000
END:DAYLIGHT
BEGIN:STANDARD
TZOFFSETFROM:-0400
TZOFFSETTO:-0500
TZNAME:EST
DTSTART:20181104T060000
END:STANDARD
END:VTIMEZONE
BEGIN:VEVENT
DTSTART;TZID=America/New_York:20170521T070000
DTEND;TZID=America/New_York:20170521T220000
DTSTAMP:20260420T192856
CREATED:20170517T163313Z
LAST-MODIFIED:20170517T163313Z
UID:3765-1495350000-1495404000@springfieldparkingauthority.com
SUMMARY:Revolution Dance Awards
DESCRIPTION:Parking is available at the Civic Center Garage – $7 & $12 Prepay \n 
URL:https://springfieldparkingauthority.com/event/revolution-dance-awards-8/
LOCATION:MassMutual Center\, 1277 Main Street\, Springfield\, MA\, 01103\, United States
END:VEVENT
BEGIN:VEVENT
DTSTART;TZID=America/New_York:20170521T070000
DTEND;TZID=America/New_York:20170521T220000
DTSTAMP:20260420T192856
CREATED:20170517T163313Z
LAST-MODIFIED:20170517T163313Z
UID:10623-1495350000-1495404000@springfieldparkingauthority.com
SUMMARY:Revolution Dance Awards
DESCRIPTION:Parking is available at the Civic Center Garage – $7 & $12 Prepay \n 
URL:https://springfieldparkingauthority.com/event/revolution-dance-awards-8-2/
LOCATION:MassMutual Center\, 1277 Main Street\, Springfield\, MA\, 01103\, United States
END:VEVENT
BEGIN:VEVENT
DTSTART;TZID=America/New_York:20170521T090000
DTEND;TZID=America/New_York:20170521T220000
DTSTAMP:20260420T192856
CREATED:20170509T151350Z
LAST-MODIFIED:20170509T151350Z
UID:10615-1495357200-1495404000@springfieldparkingauthority.com
SUMMARY:HAROLD GRINSPOON FOUNDATION LIFE & LEGACY CONFERENCE MAY 2017
DESCRIPTION:Parking is available at the I-91 North and South Garages – On the Clock \n 
URL:https://springfieldparkingauthority.com/event/harold-grinspoon-foundation-life-legacy-conference-may-2017-3/
LOCATION:Sheraton Hotel\, One Monarch Place\, Springfield\, MA\, 01103\, United States
END:VEVENT
BEGIN:VEVENT
DTSTART;TZID=America/New_York:20170521T090000
DTEND;TZID=America/New_York:20170521T220000
DTSTAMP:20260420T192856
CREATED:20170509T151350Z
LAST-MODIFIED:20170509T151350Z
UID:3733-1495357200-1495404000@springfieldparkingauthority.com
SUMMARY:HAROLD GRINSPOON FOUNDATION LIFE & LEGACY CONFERENCE MAY 2017
DESCRIPTION:Parking is available at the I-91 North and South Garages – On the Clock \n 
URL:https://springfieldparkingauthority.com/event/harold-grinspoon-foundation-life-legacy-conference-may-2017/
LOCATION:Sheraton Hotel\, One Monarch Place\, Springfield\, MA\, 01103\, United States
END:VEVENT
BEGIN:VEVENT
DTSTART;TZID=America/New_York:20170521T150000
DTEND;TZID=America/New_York:20170521T180000
DTSTAMP:20260420T192856
CREATED:20170421T151255Z
LAST-MODIFIED:20170421T151255Z
UID:3644-1495378800-1495389600@springfieldparkingauthority.com
SUMMARY:SSO YOUTH
DESCRIPTION:Parking is available at the I-91 South Garage – $7 Prepay \n 
URL:https://springfieldparkingauthority.com/event/sso-youth/
LOCATION:Symphony Hall\, 34 Court St.\, Springfield\, MA\, 01103\, United States
END:VEVENT
BEGIN:VEVENT
DTSTART;TZID=America/New_York:20170521T150000
DTEND;TZID=America/New_York:20170521T180000
DTSTAMP:20260420T192856
CREATED:20170421T151255Z
LAST-MODIFIED:20170421T151255Z
UID:10584-1495378800-1495389600@springfieldparkingauthority.com
SUMMARY:SSO YOUTH
DESCRIPTION:Parking is available at the I-91 South Garage – $7 Prepay \n 
URL:https://springfieldparkingauthority.com/event/sso-youth-2/
LOCATION:Symphony Hall\, 34 Court St.\, Springfield\, MA\, 01103\, United States
END:VEVENT
BEGIN:VEVENT
DTSTART;TZID=America/New_York:20170521T150000
DTEND;TZID=America/New_York:20170521T200000
DTSTAMP:20260420T192856
CREATED:20170421T151131Z
LAST-MODIFIED:20170421T151131Z
UID:3638-1495378800-1495396800@springfieldparkingauthority.com
SUMMARY:BAYPATH COLLEGE UNIVERSITY COMMENCEMENT
DESCRIPTION:Parking is available at the Civic Center Garage – $7 & 12 Prepay \n 
URL:https://springfieldparkingauthority.com/event/baypath-college-university-commencement/
LOCATION:MassMutual Center\, 1277 Main Street\, Springfield\, MA\, 01103\, United States
END:VEVENT
BEGIN:VEVENT
DTSTART;TZID=America/New_York:20170521T150000
DTEND;TZID=America/New_York:20170521T200000
DTSTAMP:20260420T192856
CREATED:20170421T151131Z
LAST-MODIFIED:20170421T151131Z
UID:10583-1495378800-1495396800@springfieldparkingauthority.com
SUMMARY:BAYPATH COLLEGE UNIVERSITY COMMENCEMENT
DESCRIPTION:Parking is available at the Civic Center Garage – $7 & 12 Prepay \n 
URL:https://springfieldparkingauthority.com/event/baypath-college-university-commencement-2/
LOCATION:MassMutual Center\, 1277 Main Street\, Springfield\, MA\, 01103\, United States
END:VEVENT
BEGIN:VEVENT
DTSTART;TZID=America/New_York:20170522T070000
DTEND;TZID=America/New_York:20170522T210000
DTSTAMP:20260420T192856
CREATED:20170509T151447Z
LAST-MODIFIED:20170509T151447Z
UID:3735-1495436400-1495486800@springfieldparkingauthority.com
SUMMARY:HAROLD GRINSPOON FOUNDATION LIFE & LEGARCY CONFERENCE MAY 2017
DESCRIPTION:Parking is available at the I-91 North and South Garages – On the Clock \n 
URL:https://springfieldparkingauthority.com/event/harold-grinspoon-foundation-life-legarcy-conference-may-2017/
LOCATION:Sheraton Hotel\, One Monarch Place\, Springfield\, MA\, 01103\, United States
END:VEVENT
BEGIN:VEVENT
DTSTART;TZID=America/New_York:20170522T070000
DTEND;TZID=America/New_York:20170522T210000
DTSTAMP:20260420T192856
CREATED:20170509T151447Z
LAST-MODIFIED:20170509T151447Z
UID:10616-1495436400-1495486800@springfieldparkingauthority.com
SUMMARY:HAROLD GRINSPOON FOUNDATION LIFE & LEGARCY CONFERENCE MAY 2017
DESCRIPTION:Parking is available at the I-91 North and South Garages – On the Clock \n 
URL:https://springfieldparkingauthority.com/event/harold-grinspoon-foundation-life-legarcy-conference-may-2017-2/
LOCATION:Sheraton Hotel\, One Monarch Place\, Springfield\, MA\, 01103\, United States
END:VEVENT
BEGIN:VEVENT
DTSTART;TZID=America/New_York:20170522T160000
DTEND;TZID=America/New_York:20170522T180000
DTSTAMP:20260420T192856
CREATED:20170421T151402Z
LAST-MODIFIED:20170421T151402Z
UID:3646-1495468800-1495476000@springfieldparkingauthority.com
SUMMARY:KFC NORTHEAST FRANCHISEE ASSOCIATION CONFERENCE
DESCRIPTION:Parking is available at the Civic Center Garage – $7 Prepay \n 
URL:https://springfieldparkingauthority.com/event/kfc-northeast-franchisee-association-conference/
LOCATION:MassMutual Center\, 1277 Main Street\, Springfield\, MA\, 01103\, United States
END:VEVENT
BEGIN:VEVENT
DTSTART;TZID=America/New_York:20170522T160000
DTEND;TZID=America/New_York:20170522T180000
DTSTAMP:20260420T192856
CREATED:20170421T151402Z
LAST-MODIFIED:20170421T151402Z
UID:10585-1495468800-1495476000@springfieldparkingauthority.com
SUMMARY:KFC NORTHEAST FRANCHISEE ASSOCIATION CONFERENCE
DESCRIPTION:Parking is available at the Civic Center Garage – $7 Prepay \n 
URL:https://springfieldparkingauthority.com/event/kfc-northeast-franchisee-association-conference-3/
LOCATION:MassMutual Center\, 1277 Main Street\, Springfield\, MA\, 01103\, United States
END:VEVENT
BEGIN:VEVENT
DTSTART;TZID=America/New_York:20170523T080000
DTEND;TZID=America/New_York:20170523T150000
DTSTAMP:20260420T192856
CREATED:20170516T172010Z
LAST-MODIFIED:20170516T172010Z
UID:3752-1495526400-1495551600@springfieldparkingauthority.com
SUMMARY:Harold Grinspoon Foundation Life & Legacy Conference May 2017
DESCRIPTION:Parking is available at the I-91 North and South Garages – On the Clock \n 
URL:https://springfieldparkingauthority.com/event/harold-grinspoon-foundation-life-legacy-conference-may-2017-2/
LOCATION:Sheraton Hotel\, One Monarch Place\, Springfield\, MA\, 01103\, United States
END:VEVENT
BEGIN:VEVENT
DTSTART;TZID=America/New_York:20170523T080000
DTEND;TZID=America/New_York:20170523T150000
DTSTAMP:20260420T192856
CREATED:20170516T172010Z
LAST-MODIFIED:20170516T172010Z
UID:10619-1495526400-1495551600@springfieldparkingauthority.com
SUMMARY:Harold Grinspoon Foundation Life & Legacy Conference May 2017
DESCRIPTION:Parking is available at the I-91 North and South Garages – On the Clock \n 
URL:https://springfieldparkingauthority.com/event/harold-grinspoon-foundation-life-legacy-conference-may-2017-2-2/
LOCATION:Sheraton Hotel\, One Monarch Place\, Springfield\, MA\, 01103\, United States
END:VEVENT
BEGIN:VEVENT
DTSTART;TZID=America/New_York:20170523T160000
DTEND;TZID=America/New_York:20170523T180000
DTSTAMP:20260420T192856
CREATED:20170421T151501Z
LAST-MODIFIED:20170421T151501Z
UID:10586-1495555200-1495562400@springfieldparkingauthority.com
SUMMARY:KFC NORTHEAST FRANCHISEE ASSOCIATION CONFERENCE
DESCRIPTION:Parking is available at the Civic Center Garage – $7 Prepay \n 
URL:https://springfieldparkingauthority.com/event/kfc-northeast-franchisee-association-conference-2-2/
LOCATION:MassMutual Center\, 1277 Main Street\, Springfield\, MA\, 01103\, United States
END:VEVENT
BEGIN:VEVENT
DTSTART;TZID=America/New_York:20170523T160000
DTEND;TZID=America/New_York:20170523T180000
DTSTAMP:20260420T192856
CREATED:20170421T151501Z
LAST-MODIFIED:20170421T151501Z
UID:3648-1495555200-1495562400@springfieldparkingauthority.com
SUMMARY:KFC NORTHEAST FRANCHISEE ASSOCIATION CONFERENCE
DESCRIPTION:Parking is available at the Civic Center Garage – $7 Prepay \n 
URL:https://springfieldparkingauthority.com/event/kfc-northeast-franchisee-association-conference-2/
LOCATION:MassMutual Center\, 1277 Main Street\, Springfield\, MA\, 01103\, United States
END:VEVENT
BEGIN:VEVENT
DTSTART;TZID=America/New_York:20170523T180000
DTEND;TZID=America/New_York:20170523T230000
DTSTAMP:20260420T192856
CREATED:20170421T151632Z
LAST-MODIFIED:20170421T151632Z
UID:10587-1495562400-1495580400@springfieldparkingauthority.com
SUMMARY:WHATS ON WORTHINGTON FUNDRAISER
DESCRIPTION:Parking is available at the Columbus Center Garage – Free with Ticket \n 
URL:https://springfieldparkingauthority.com/event/whats-on-worthington-fundraiser-2/
LOCATION:Columbus Center\, 1 Columbus Center\, Springfield\, MA\, 01103\, United States
END:VEVENT
BEGIN:VEVENT
DTSTART;TZID=America/New_York:20170523T180000
DTEND;TZID=America/New_York:20170523T230000
DTSTAMP:20260420T192856
CREATED:20170421T151632Z
LAST-MODIFIED:20170421T151632Z
UID:3650-1495562400-1495580400@springfieldparkingauthority.com
SUMMARY:WHATS ON WORTHINGTON FUNDRAISER
DESCRIPTION:Parking is available at the Columbus Center Garage – Free with Ticket \n 
URL:https://springfieldparkingauthority.com/event/whats-on-worthington-fundraiser/
LOCATION:Columbus Center\, 1 Columbus Center\, Springfield\, MA\, 01103\, United States
END:VEVENT
BEGIN:VEVENT
DTSTART;TZID=America/New_York:20170525T000000
DTEND;TZID=America/New_York:20170525T235500
DTSTAMP:20260420T192856
CREATED:20170516T172133Z
LAST-MODIFIED:20170516T172133Z
UID:3756-1495670400-1495756500@springfieldparkingauthority.com
SUMMARY:Dancing A La Carte
DESCRIPTION:Parking is available at the I-91 North and South Garages – On the Clock \n 
URL:https://springfieldparkingauthority.com/event/dancing-a-la-carte-4/
LOCATION:Sheraton Hotel\, One Monarch Place\, Springfield\, MA\, 01103\, United States
END:VEVENT
BEGIN:VEVENT
DTSTART;TZID=America/New_York:20170525T000000
DTEND;TZID=America/New_York:20170525T235500
DTSTAMP:20260420T192856
CREATED:20170516T172133Z
LAST-MODIFIED:20170516T172133Z
UID:10620-1495670400-1495756500@springfieldparkingauthority.com
SUMMARY:Dancing A La Carte
DESCRIPTION:Parking is available at the I-91 North and South Garages – On the Clock \n 
URL:https://springfieldparkingauthority.com/event/dancing-a-la-carte-4-2/
LOCATION:Sheraton Hotel\, One Monarch Place\, Springfield\, MA\, 01103\, United States
END:VEVENT
BEGIN:VEVENT
DTSTART;TZID=America/New_York:20170525T100000
DTEND;TZID=America/New_York:20170525T150000
DTSTAMP:20260420T192856
CREATED:20170421T151739Z
LAST-MODIFIED:20170421T151739Z
UID:3653-1495706400-1495724400@springfieldparkingauthority.com
SUMMARY:MASSACHUSETTS GAMING COMMISION PUBLIC HEARING
DESCRIPTION:Parking is available at the Civic Center Garage – $7 Post Pay \n 
URL:https://springfieldparkingauthority.com/event/massachusetts-gaming-commision-public-hearing/
LOCATION:MassMutual Center\, 1277 Main Street\, Springfield\, MA\, 01103\, United States
END:VEVENT
BEGIN:VEVENT
DTSTART;TZID=America/New_York:20170525T100000
DTEND;TZID=America/New_York:20170525T150000
DTSTAMP:20260420T192856
CREATED:20170421T151739Z
LAST-MODIFIED:20170421T151739Z
UID:10588-1495706400-1495724400@springfieldparkingauthority.com
SUMMARY:MASSACHUSETTS GAMING COMMISION PUBLIC HEARING
DESCRIPTION:Parking is available at the Civic Center Garage – $7 Post Pay \n 
URL:https://springfieldparkingauthority.com/event/massachusetts-gaming-commision-public-hearing-2/
LOCATION:MassMutual Center\, 1277 Main Street\, Springfield\, MA\, 01103\, United States
END:VEVENT
BEGIN:VEVENT
DTSTART;TZID=America/New_York:20170525T160000
DTEND;TZID=America/New_York:20170525T210000
DTSTAMP:20260420T192856
CREATED:20170421T151826Z
LAST-MODIFIED:20170421T151826Z
UID:3655-1495728000-1495746000@springfieldparkingauthority.com
SUMMARY:VALLEY VENTURE MENTORS
DESCRIPTION:Parking is available at the Civic Center Garage – $7 PRE Pay \n 
URL:https://springfieldparkingauthority.com/event/valley-venture-mentors-3/
LOCATION:MassMutual Center\, 1277 Main Street\, Springfield\, MA\, 01103\, United States
END:VEVENT
BEGIN:VEVENT
DTSTART;TZID=America/New_York:20170525T160000
DTEND;TZID=America/New_York:20170525T210000
DTSTAMP:20260420T192856
CREATED:20170421T151826Z
LAST-MODIFIED:20170421T151826Z
UID:10589-1495728000-1495746000@springfieldparkingauthority.com
SUMMARY:VALLEY VENTURE MENTORS
DESCRIPTION:Parking is available at the Civic Center Garage – $7 PRE Pay \n 
URL:https://springfieldparkingauthority.com/event/valley-venture-mentors-3-2/
LOCATION:MassMutual Center\, 1277 Main Street\, Springfield\, MA\, 01103\, United States
END:VEVENT
BEGIN:VEVENT
DTSTART;TZID=America/New_York:20170525T180000
DTEND;TZID=America/New_York:20170525T200000
DTSTAMP:20260420T192856
CREATED:20170421T151950Z
LAST-MODIFIED:20170421T151950Z
UID:3657-1495735200-1495742400@springfieldparkingauthority.com
SUMMARY:ASNUNTUCK COMMUNITY COLLEGE
DESCRIPTION:Parking is available at the I-91 North and South Garages – $7 PREPAY \n 
URL:https://springfieldparkingauthority.com/event/asnuntuck-community-college/
LOCATION:Symphony Hall\, 34 Court St.\, Springfield\, MA\, 01103\, United States
END:VEVENT
BEGIN:VEVENT
DTSTART;TZID=America/New_York:20170525T180000
DTEND;TZID=America/New_York:20170525T200000
DTSTAMP:20260420T192856
CREATED:20170421T151950Z
LAST-MODIFIED:20170421T151950Z
UID:10590-1495735200-1495742400@springfieldparkingauthority.com
SUMMARY:ASNUNTUCK COMMUNITY COLLEGE
DESCRIPTION:Parking is available at the I-91 North and South Garages – $7 PREPAY \n 
URL:https://springfieldparkingauthority.com/event/asnuntuck-community-college-3/
LOCATION:Symphony Hall\, 34 Court St.\, Springfield\, MA\, 01103\, United States
END:VEVENT
BEGIN:VEVENT
DTSTART;TZID=America/New_York:20170526T000000
DTEND;TZID=America/New_York:20170526T235500
DTSTAMP:20260420T192856
CREATED:20170516T172217Z
LAST-MODIFIED:20170516T172217Z
UID:10621-1495756800-1495842900@springfieldparkingauthority.com
SUMMARY:Dancing A La Carte
DESCRIPTION:Parking is available at the I-91 North and South Garages – On the Clock \n 
URL:https://springfieldparkingauthority.com/event/dancing-a-la-carte-5-2/
LOCATION:Sheraton Hotel\, One Monarch Place\, Springfield\, MA\, 01103\, United States
END:VEVENT
BEGIN:VEVENT
DTSTART;TZID=America/New_York:20170526T000000
DTEND;TZID=America/New_York:20170526T235500
DTSTAMP:20260420T192856
CREATED:20170516T172217Z
LAST-MODIFIED:20170516T172217Z
UID:3758-1495756800-1495842900@springfieldparkingauthority.com
SUMMARY:Dancing A La Carte
DESCRIPTION:Parking is available at the I-91 North and South Garages – On the Clock \n 
URL:https://springfieldparkingauthority.com/event/dancing-a-la-carte-5/
LOCATION:Sheraton Hotel\, One Monarch Place\, Springfield\, MA\, 01103\, United States
END:VEVENT
BEGIN:VEVENT
DTSTART;TZID=America/New_York:20170527T070000
DTEND;TZID=America/New_York:20170527T235500
DTSTAMP:20260420T192856
CREATED:20170516T172312Z
LAST-MODIFIED:20170516T172312Z
UID:10622-1495868400-1495929300@springfieldparkingauthority.com
SUMMARY:Dancing  A La CARTE
DESCRIPTION:Parking is available at the I-91 North and South Garages – On the Clock \n 
URL:https://springfieldparkingauthority.com/event/dancing-a-la-carte-6-2/
LOCATION:Sheraton Hotel\, One Monarch Place\, Springfield\, MA\, 01103\, United States
END:VEVENT
BEGIN:VEVENT
DTSTART;TZID=America/New_York:20170527T070000
DTEND;TZID=America/New_York:20170527T235500
DTSTAMP:20260420T192856
CREATED:20170516T172312Z
LAST-MODIFIED:20170516T172312Z
UID:3762-1495868400-1495929300@springfieldparkingauthority.com
SUMMARY:Dancing  A La CARTE
DESCRIPTION:Parking is available at the I-91 North and South Garages – On the Clock \n 
URL:https://springfieldparkingauthority.com/event/dancing-a-la-carte-6/
LOCATION:Sheraton Hotel\, One Monarch Place\, Springfield\, MA\, 01103\, United States
END:VEVENT
END:VCALENDAR