BEGIN:VCALENDAR
VERSION:2.0
PRODID:-//Springfield Parking Authority - ECPv6.15.20//NONSGML v1.0//EN
CALSCALE:GREGORIAN
METHOD:PUBLISH
X-WR-CALNAME:Springfield Parking Authority
X-ORIGINAL-URL:https://springfieldparkingauthority.com
X-WR-CALDESC:Events for Springfield Parking Authority
REFRESH-INTERVAL;VALUE=DURATION:PT1H
X-Robots-Tag:noindex
X-PUBLISHED-TTL:PT1H
BEGIN:VTIMEZONE
TZID:America/New_York
BEGIN:DAYLIGHT
TZOFFSETFROM:-0500
TZOFFSETTO:-0400
TZNAME:EDT
DTSTART:20160313T070000
END:DAYLIGHT
BEGIN:STANDARD
TZOFFSETFROM:-0400
TZOFFSETTO:-0500
TZNAME:EST
DTSTART:20161106T060000
END:STANDARD
BEGIN:DAYLIGHT
TZOFFSETFROM:-0500
TZOFFSETTO:-0400
TZNAME:EDT
DTSTART:20170312T070000
END:DAYLIGHT
BEGIN:STANDARD
TZOFFSETFROM:-0400
TZOFFSETTO:-0500
TZNAME:EST
DTSTART:20171105T060000
END:STANDARD
BEGIN:DAYLIGHT
TZOFFSETFROM:-0500
TZOFFSETTO:-0400
TZNAME:EDT
DTSTART:20180311T070000
END:DAYLIGHT
BEGIN:STANDARD
TZOFFSETFROM:-0400
TZOFFSETTO:-0500
TZNAME:EST
DTSTART:20181104T060000
END:STANDARD
END:VTIMEZONE
BEGIN:VEVENT
DTSTART;TZID=America/New_York:20170701T120000
DTEND;TZID=America/New_York:20170701T150000
DTSTAMP:20260423T002745
CREATED:20170627T163557Z
LAST-MODIFIED:20170627T163557Z
UID:3948-1498910400-1498921200@springfieldparkingauthority.com
SUMMARY:Sprout House Speaks Empowerment Conference
DESCRIPTION:Parking is available at the I-91 North and South Garages – On the Clock \n 
URL:https://springfieldparkingauthority.com/event/sprout-house-speaks-empowerment-conference/
LOCATION:Sheraton Hotel\, One Monarch Place\, Springfield\, MA\, 01103\, United States
END:VEVENT
BEGIN:VEVENT
DTSTART;TZID=America/New_York:20170701T120000
DTEND;TZID=America/New_York:20170701T150000
DTSTAMP:20260423T002745
CREATED:20170627T163557Z
LAST-MODIFIED:20170627T163557Z
UID:10688-1498910400-1498921200@springfieldparkingauthority.com
SUMMARY:Sprout House Speaks Empowerment Conference
DESCRIPTION:Parking is available at the I-91 North and South Garages – On the Clock \n 
URL:https://springfieldparkingauthority.com/event/sprout-house-speaks-empowerment-conference-2/
LOCATION:Sheraton Hotel\, One Monarch Place\, Springfield\, MA\, 01103\, United States
END:VEVENT
BEGIN:VEVENT
DTSTART;TZID=America/New_York:20170701T070000
DTEND;TZID=America/New_York:20170701T230000
DTSTAMP:20260423T002745
CREATED:20170627T163437Z
LAST-MODIFIED:20170627T163437Z
UID:3944-1498892400-1498950000@springfieldparkingauthority.com
SUMMARY:The Gathering 2017
DESCRIPTION:Parking is available at the I-91 North and South Garages – On the Clock \n 
URL:https://springfieldparkingauthority.com/event/the-gathering-2017/
LOCATION:Sheraton Hotel\, One Monarch Place\, Springfield\, MA\, 01103\, United States
END:VEVENT
BEGIN:VEVENT
DTSTART;TZID=America/New_York:20170701T070000
DTEND;TZID=America/New_York:20170701T230000
DTSTAMP:20260423T002745
CREATED:20170627T163437Z
LAST-MODIFIED:20170627T163437Z
UID:10687-1498892400-1498950000@springfieldparkingauthority.com
SUMMARY:The Gathering 2017
DESCRIPTION:Parking is available at the I-91 North and South Garages – On the Clock \n 
URL:https://springfieldparkingauthority.com/event/the-gathering-2017-2/
LOCATION:Sheraton Hotel\, One Monarch Place\, Springfield\, MA\, 01103\, United States
END:VEVENT
BEGIN:VEVENT
DTSTART;TZID=America/New_York:20170630T120000
DTEND;TZID=America/New_York:20170630T223000
DTSTAMP:20260423T002745
CREATED:20170627T160707Z
LAST-MODIFIED:20170627T160707Z
UID:3930-1498824000-1498861800@springfieldparkingauthority.com
SUMMARY:Restitution of the Fine Arts
DESCRIPTION:Parking is available at the I-91 North and South Garages – On the Clock \n 
URL:https://springfieldparkingauthority.com/event/restitution-of-the-fine-arts-2/
LOCATION:Sheraton Hotel\, One Monarch Place\, Springfield\, MA\, 01103\, United States
END:VEVENT
BEGIN:VEVENT
DTSTART;TZID=America/New_York:20170630T120000
DTEND;TZID=America/New_York:20170630T223000
DTSTAMP:20260423T002745
CREATED:20170627T160707Z
LAST-MODIFIED:20170627T160707Z
UID:10683-1498824000-1498861800@springfieldparkingauthority.com
SUMMARY:Restitution of the Fine Arts
DESCRIPTION:Parking is available at the I-91 North and South Garages – On the Clock \n 
URL:https://springfieldparkingauthority.com/event/restitution-of-the-fine-arts-2-2/
LOCATION:Sheraton Hotel\, One Monarch Place\, Springfield\, MA\, 01103\, United States
END:VEVENT
BEGIN:VEVENT
DTSTART;TZID=America/New_York:20170630T093000
DTEND;TZID=America/New_York:20170630T150000
DTSTAMP:20260423T002745
CREATED:20170627T160817Z
LAST-MODIFIED:20170627T160817Z
UID:3932-1498815000-1498834800@springfieldparkingauthority.com
SUMMARY:Disability Law Center June 30
DESCRIPTION:Parking is available at the I-91 North and South Garages – On the Clock \n 
URL:https://springfieldparkingauthority.com/event/disability-law-center-june-30/
LOCATION:Sheraton Hotel\, One Monarch Place\, Springfield\, MA\, 01103\, United States
END:VEVENT
BEGIN:VEVENT
DTSTART;TZID=America/New_York:20170630T093000
DTEND;TZID=America/New_York:20170630T150000
DTSTAMP:20260423T002745
CREATED:20170627T160817Z
LAST-MODIFIED:20170627T160817Z
UID:10684-1498815000-1498834800@springfieldparkingauthority.com
SUMMARY:Disability Law Center June 30
DESCRIPTION:Parking is available at the I-91 North and South Garages – On the Clock \n 
URL:https://springfieldparkingauthority.com/event/disability-law-center-june-30-2/
LOCATION:Sheraton Hotel\, One Monarch Place\, Springfield\, MA\, 01103\, United States
END:VEVENT
BEGIN:VEVENT
DTSTART;TZID=America/New_York:20170629T173000
DTEND;TZID=America/New_York:20170629T200000
DTSTAMP:20260423T002745
CREATED:20170629T171152Z
LAST-MODIFIED:20170629T171152Z
UID:10692-1498757400-1498766400@springfieldparkingauthority.com
SUMMARY:Summer Soiree
DESCRIPTION:Parking is available at the Civic Center Garage – $7 Prepay \n 
URL:https://springfieldparkingauthority.com/event/summer-soiree-2-2/
LOCATION:MassMutual Center\, 1277 Main Street\, Springfield\, MA\, 01103\, United States
END:VEVENT
BEGIN:VEVENT
DTSTART;TZID=America/New_York:20170629T173000
DTEND;TZID=America/New_York:20170629T200000
DTSTAMP:20260423T002745
CREATED:20170629T171152Z
LAST-MODIFIED:20170629T171152Z
UID:3960-1498757400-1498766400@springfieldparkingauthority.com
SUMMARY:Summer Soiree
DESCRIPTION:Parking is available at the Civic Center Garage – $7 Prepay \n 
URL:https://springfieldparkingauthority.com/event/summer-soiree-2/
LOCATION:MassMutual Center\, 1277 Main Street\, Springfield\, MA\, 01103\, United States
END:VEVENT
BEGIN:VEVENT
DTSTART;TZID=America/New_York:20170629T000000
DTEND;TZID=America/New_York:20170629T235500
DTSTAMP:20260423T002745
CREATED:20170627T160608Z
LAST-MODIFIED:20170627T160608Z
UID:3928-1498694400-1498780500@springfieldparkingauthority.com
SUMMARY:Western New England University Soar B
DESCRIPTION:Parking is available at the I-91 North and South Garages – On the Clock \n 
URL:https://springfieldparkingauthority.com/event/western-new-england-university-soar-b/
LOCATION:Sheraton Hotel\, One Monarch Place\, Springfield\, MA\, 01103\, United States
END:VEVENT
BEGIN:VEVENT
DTSTART;TZID=America/New_York:20170629T000000
DTEND;TZID=America/New_York:20170629T235500
DTSTAMP:20260423T002745
CREATED:20170627T160608Z
LAST-MODIFIED:20170627T160608Z
UID:10682-1498694400-1498780500@springfieldparkingauthority.com
SUMMARY:Western New England University Soar B
DESCRIPTION:Parking is available at the I-91 North and South Garages – On the Clock \n 
URL:https://springfieldparkingauthority.com/event/western-new-england-university-soar-b-2/
LOCATION:Sheraton Hotel\, One Monarch Place\, Springfield\, MA\, 01103\, United States
END:VEVENT
BEGIN:VEVENT
DTSTART;TZID=America/New_York:20170627T173000
DTEND;TZID=America/New_York:20170627T200000
DTSTAMP:20260423T002745
CREATED:20170622T183805Z
LAST-MODIFIED:20170622T183805Z
UID:3899-1498584600-1498593600@springfieldparkingauthority.com
SUMMARY:SUMMER SOIREE
DESCRIPTION:Parking is available at the Civic Center Garage – $7 Prepay \n 
URL:https://springfieldparkingauthority.com/event/summer-soiree/
LOCATION:MassMutual Center\, 1277 Main Street\, Springfield\, MA\, 01103\, United States
END:VEVENT
BEGIN:VEVENT
DTSTART;TZID=America/New_York:20170627T173000
DTEND;TZID=America/New_York:20170627T200000
DTSTAMP:20260423T002745
CREATED:20170622T183805Z
LAST-MODIFIED:20170622T183805Z
UID:10676-1498584600-1498593600@springfieldparkingauthority.com
SUMMARY:SUMMER SOIREE
DESCRIPTION:Parking is available at the Civic Center Garage – $7 Prepay \n 
URL:https://springfieldparkingauthority.com/event/summer-soiree-3/
LOCATION:MassMutual Center\, 1277 Main Street\, Springfield\, MA\, 01103\, United States
END:VEVENT
BEGIN:VEVENT
DTSTART;TZID=America/New_York:20170627T083000
DTEND;TZID=America/New_York:20170627T110000
DTSTAMP:20260423T002745
CREATED:20170525T171556Z
LAST-MODIFIED:20170525T171556Z
UID:3831-1498552200-1498561200@springfieldparkingauthority.com
SUMMARY:Dunkin Donuts Awards Breakfast
DESCRIPTION:Parking is available at the Civic Center Garage – $7 Prepay \n 
URL:https://springfieldparkingauthority.com/event/dunkin-donuts-awards-breakfast-3/
LOCATION:MassMutual Center\, 1277 Main Street\, Springfield\, MA\, 01103\, United States
END:VEVENT
BEGIN:VEVENT
DTSTART;TZID=America/New_York:20170627T083000
DTEND;TZID=America/New_York:20170627T110000
DTSTAMP:20260423T002745
CREATED:20170525T171556Z
LAST-MODIFIED:20170525T171556Z
UID:10652-1498552200-1498561200@springfieldparkingauthority.com
SUMMARY:Dunkin Donuts Awards Breakfast
DESCRIPTION:Parking is available at the Civic Center Garage – $7 Prepay \n 
URL:https://springfieldparkingauthority.com/event/dunkin-donuts-awards-breakfast-3-2/
LOCATION:MassMutual Center\, 1277 Main Street\, Springfield\, MA\, 01103\, United States
END:VEVENT
BEGIN:VEVENT
DTSTART;TZID=America/New_York:20170624T193000
DTEND;TZID=America/New_York:20170624T213000
DTSTAMP:20260423T002745
CREATED:20170525T171439Z
LAST-MODIFIED:20170525T171439Z
UID:3829-1498332600-1498339800@springfieldparkingauthority.com
SUMMARY:Celtic Woman
DESCRIPTION:Parking is available at the Civic Center Garage – $7 & $12 Prepay \n 
URL:https://springfieldparkingauthority.com/event/celtic-woman/
LOCATION:MassMutual Center\, 1277 Main Street\, Springfield\, MA\, 01103\, United States
END:VEVENT
BEGIN:VEVENT
DTSTART;TZID=America/New_York:20170624T193000
DTEND;TZID=America/New_York:20170624T213000
DTSTAMP:20260423T002745
CREATED:20170525T171439Z
LAST-MODIFIED:20170525T171439Z
UID:10651-1498332600-1498339800@springfieldparkingauthority.com
SUMMARY:Celtic Woman
DESCRIPTION:Parking is available at the Civic Center Garage – $7 & $12 Prepay \n 
URL:https://springfieldparkingauthority.com/event/celtic-woman-2/
LOCATION:MassMutual Center\, 1277 Main Street\, Springfield\, MA\, 01103\, United States
END:VEVENT
BEGIN:VEVENT
DTSTART;TZID=America/New_York:20170624T130000
DTEND;TZID=America/New_York:20170625T000000
DTSTAMP:20260423T002745
CREATED:20170622T183454Z
LAST-MODIFIED:20170622T183454Z
UID:3895-1498309200-1498348800@springfieldparkingauthority.com
SUMMARY:SALLU/POWELL WEDDING
DESCRIPTION:Parking is available at the I-91 North and South Garages – On the Clock \n 
URL:https://springfieldparkingauthority.com/event/sallupowell-wedding/
LOCATION:Sheraton Hotel\, One Monarch Place\, Springfield\, MA\, 01103\, United States
END:VEVENT
BEGIN:VEVENT
DTSTART;TZID=America/New_York:20170624T130000
DTEND;TZID=America/New_York:20170625T000000
DTSTAMP:20260423T002745
CREATED:20170622T183454Z
LAST-MODIFIED:20170622T183454Z
UID:10674-1498309200-1498348800@springfieldparkingauthority.com
SUMMARY:SALLU/POWELL WEDDING
DESCRIPTION:Parking is available at the I-91 North and South Garages – On the Clock \n 
URL:https://springfieldparkingauthority.com/event/sallupowell-wedding-2/
LOCATION:Sheraton Hotel\, One Monarch Place\, Springfield\, MA\, 01103\, United States
END:VEVENT
BEGIN:VEVENT
DTSTART;TZID=America/New_York:20170624T080000
DTEND;TZID=America/New_York:20170624T170000
DTSTAMP:20260423T002745
CREATED:20170623T160454Z
LAST-MODIFIED:20170623T160454Z
UID:10677-1498291200-1498323600@springfieldparkingauthority.com
SUMMARY:SUMMER SLAM CAR & BIKE SHOW
DESCRIPTION:Parking is available at the I-91 North  – $7 Prepay. Vendors – Free with Ticket \n 
URL:https://springfieldparkingauthority.com/event/summer-slam-car-bike-show-2/
LOCATION:I-91 North Garage\, 1870 East Columbus Ave\, Springfield\, MA\, 01103\, United States
END:VEVENT
BEGIN:VEVENT
DTSTART;TZID=America/New_York:20170624T080000
DTEND;TZID=America/New_York:20170624T170000
DTSTAMP:20260423T002745
CREATED:20170623T160454Z
LAST-MODIFIED:20170623T160454Z
UID:3902-1498291200-1498323600@springfieldparkingauthority.com
SUMMARY:SUMMER SLAM CAR & BIKE SHOW
DESCRIPTION:Parking is available at the I-91 North  – $7 Prepay. Vendors – Free with Ticket \n 
URL:https://springfieldparkingauthority.com/event/summer-slam-car-bike-show/
LOCATION:I-91 North Garage\, 1870 East Columbus Ave\, Springfield\, MA\, 01103\, United States
END:VEVENT
BEGIN:VEVENT
DTSTART;TZID=America/New_York:20170624T070000
DTEND;TZID=America/New_York:20170625T020000
DTSTAMP:20260423T002745
CREATED:20170622T183617Z
LAST-MODIFIED:20170622T183617Z
UID:3897-1498287600-1498356000@springfieldparkingauthority.com
SUMMARY:SOS/UNION STATION GALA OFF SITE FOR 600
DESCRIPTION:Parking is available at the I-91 North and South Garages – On the Clock \n 
URL:https://springfieldparkingauthority.com/event/sosunion-station-gala-off-site-for-600/
LOCATION:Sheraton Hotel\, One Monarch Place\, Springfield\, MA\, 01103\, United States
END:VEVENT
BEGIN:VEVENT
DTSTART;TZID=America/New_York:20170624T070000
DTEND;TZID=America/New_York:20170625T020000
DTSTAMP:20260423T002745
CREATED:20170622T183617Z
LAST-MODIFIED:20170622T183617Z
UID:10675-1498287600-1498356000@springfieldparkingauthority.com
SUMMARY:SOS/UNION STATION GALA OFF SITE FOR 600
DESCRIPTION:Parking is available at the I-91 North and South Garages – On the Clock \n 
URL:https://springfieldparkingauthority.com/event/sosunion-station-gala-off-site-for-600-2/
LOCATION:Sheraton Hotel\, One Monarch Place\, Springfield\, MA\, 01103\, United States
END:VEVENT
BEGIN:VEVENT
DTSTART;TZID=America/New_York:20170622T170000
DTEND;TZID=America/New_York:20170622T200000
DTSTAMP:20260423T002745
CREATED:20170525T171346Z
LAST-MODIFIED:20170525T171346Z
UID:3827-1498150800-1498161600@springfieldparkingauthority.com
SUMMARY:Veritas Prep Charter School 8th Grade Graduation
DESCRIPTION:Parking is available at the Columbus Center Garage – $5 Prepay \n 
URL:https://springfieldparkingauthority.com/event/veritas-prep-charter-school-8th-grade-graduation/
LOCATION:Columbus Center\, 1 Columbus Center\, Springfield\, MA\, 01103\, United States
END:VEVENT
BEGIN:VEVENT
DTSTART;TZID=America/New_York:20170622T170000
DTEND;TZID=America/New_York:20170622T200000
DTSTAMP:20260423T002745
CREATED:20170525T171346Z
LAST-MODIFIED:20170525T171346Z
UID:10650-1498150800-1498161600@springfieldparkingauthority.com
SUMMARY:Veritas Prep Charter School 8th Grade Graduation
DESCRIPTION:Parking is available at the Columbus Center Garage – $5 Prepay \n 
URL:https://springfieldparkingauthority.com/event/veritas-prep-charter-school-8th-grade-graduation-2/
LOCATION:Columbus Center\, 1 Columbus Center\, Springfield\, MA\, 01103\, United States
END:VEVENT
BEGIN:VEVENT
DTSTART;TZID=America/New_York:20170621T000000
DTEND;TZID=America/New_York:20170621T230000
DTSTAMP:20260423T002745
CREATED:20170620T190518Z
LAST-MODIFIED:20170620T190518Z
UID:3893-1498003200-1498086000@springfieldparkingauthority.com
SUMMARY:Western New England University /Western New England University SOAR A
DESCRIPTION:Parking is available at the I-91 North and South Garages – On the Clock \n 
URL:https://springfieldparkingauthority.com/event/western-new-england-university-western-new-england-university-soar-a/
LOCATION:Sheraton Hotel\, One Monarch Place\, Springfield\, MA\, 01103\, United States
END:VEVENT
BEGIN:VEVENT
DTSTART;TZID=America/New_York:20170621T000000
DTEND;TZID=America/New_York:20170621T230000
DTSTAMP:20260423T002745
CREATED:20170620T190518Z
LAST-MODIFIED:20170620T190518Z
UID:10673-1498003200-1498086000@springfieldparkingauthority.com
SUMMARY:Western New England University /Western New England University SOAR A
DESCRIPTION:Parking is available at the I-91 North and South Garages – On the Clock \n 
URL:https://springfieldparkingauthority.com/event/western-new-england-university-western-new-england-university-soar-a-2/
LOCATION:Sheraton Hotel\, One Monarch Place\, Springfield\, MA\, 01103\, United States
END:VEVENT
BEGIN:VEVENT
DTSTART;TZID=America/New_York:20170620T090000
DTEND;TZID=America/New_York:20170620T190000
DTSTAMP:20260423T002745
CREATED:20170525T171222Z
LAST-MODIFIED:20170525T171222Z
UID:3825-1497949200-1497985200@springfieldparkingauthority.com
SUMMARY:American Red Cross Blood Drive
DESCRIPTION:Parking is available at the Civic Center Garage – $7 Postpay \n 
URL:https://springfieldparkingauthority.com/event/american-red-cross-blood-drive-3/
LOCATION:MassMutual Center\, 1277 Main Street\, Springfield\, MA\, 01103\, United States
END:VEVENT
BEGIN:VEVENT
DTSTART;TZID=America/New_York:20170620T090000
DTEND;TZID=America/New_York:20170620T190000
DTSTAMP:20260423T002745
CREATED:20170525T171222Z
LAST-MODIFIED:20170525T171222Z
UID:10649-1497949200-1497985200@springfieldparkingauthority.com
SUMMARY:American Red Cross Blood Drive
DESCRIPTION:Parking is available at the Civic Center Garage – $7 Postpay \n 
URL:https://springfieldparkingauthority.com/event/american-red-cross-blood-drive-3-2/
LOCATION:MassMutual Center\, 1277 Main Street\, Springfield\, MA\, 01103\, United States
END:VEVENT
END:VCALENDAR