BEGIN:VCALENDAR
VERSION:2.0
PRODID:-//Springfield Parking Authority - ECPv6.15.20//NONSGML v1.0//EN
CALSCALE:GREGORIAN
METHOD:PUBLISH
X-ORIGINAL-URL:https://springfieldparkingauthority.com
X-WR-CALDESC:Events for Springfield Parking Authority
REFRESH-INTERVAL;VALUE=DURATION:PT1H
X-Robots-Tag:noindex
X-PUBLISHED-TTL:PT1H
BEGIN:VTIMEZONE
TZID:America/New_York
BEGIN:DAYLIGHT
TZOFFSETFROM:-0500
TZOFFSETTO:-0400
TZNAME:EDT
DTSTART:20160313T070000
END:DAYLIGHT
BEGIN:STANDARD
TZOFFSETFROM:-0400
TZOFFSETTO:-0500
TZNAME:EST
DTSTART:20161106T060000
END:STANDARD
BEGIN:DAYLIGHT
TZOFFSETFROM:-0500
TZOFFSETTO:-0400
TZNAME:EDT
DTSTART:20170312T070000
END:DAYLIGHT
BEGIN:STANDARD
TZOFFSETFROM:-0400
TZOFFSETTO:-0500
TZNAME:EST
DTSTART:20171105T060000
END:STANDARD
BEGIN:DAYLIGHT
TZOFFSETFROM:-0500
TZOFFSETTO:-0400
TZNAME:EDT
DTSTART:20180311T070000
END:DAYLIGHT
BEGIN:STANDARD
TZOFFSETFROM:-0400
TZOFFSETTO:-0500
TZNAME:EST
DTSTART:20181104T060000
END:STANDARD
END:VTIMEZONE
BEGIN:VEVENT
DTSTART;TZID=America/New_York:20170510T150000
DTEND;TZID=America/New_York:20170510T180000
DTSTAMP:20260420T163640
CREATED:20170503T181200Z
LAST-MODIFIED:20170503T181200Z
UID:3691-1494428400-1494439200@springfieldparkingauthority.com
SUMMARY:MERCY MEDICAL ANNUAL MEETING
DESCRIPTION:Parking is available at the Columbus Center Garage – Free With Vouchers \n 
URL:https://springfieldparkingauthority.com/event/mercy-medical-annual-meeting-2/
LOCATION:Columbus Center\, 1 Columbus Center\, Springfield\, MA\, 01103\, United States
END:VEVENT
BEGIN:VEVENT
DTSTART;TZID=America/New_York:20170510T150000
DTEND;TZID=America/New_York:20170510T180000
DTSTAMP:20260420T163640
CREATED:20170503T181200Z
LAST-MODIFIED:20170503T181200Z
UID:10599-1494428400-1494439200@springfieldparkingauthority.com
SUMMARY:MERCY MEDICAL ANNUAL MEETING
DESCRIPTION:Parking is available at the Columbus Center Garage – Free With Vouchers \n 
URL:https://springfieldparkingauthority.com/event/mercy-medical-annual-meeting-2-2/
LOCATION:Columbus Center\, 1 Columbus Center\, Springfield\, MA\, 01103\, United States
END:VEVENT
BEGIN:VEVENT
DTSTART;TZID=America/New_York:20170511T073000
DTEND;TZID=America/New_York:20170511T110000
DTSTAMP:20260420T163640
CREATED:20170503T181404Z
LAST-MODIFIED:20170503T181404Z
UID:10601-1494487800-1494500400@springfieldparkingauthority.com
SUMMARY:HAMPDEN DISTRICT ATTORNEY'S YOUTH ADVISORY BOARD CONFERENCE
DESCRIPTION:Parking is available at the Civic Center Garage – FREE WITH TICKET \n 
URL:https://springfieldparkingauthority.com/event/hampden-district-attorneys-youth-advisory-board-conference-2/
LOCATION:MassMutual Center\, 1277 Main Street\, Springfield\, MA\, 01103\, United States
END:VEVENT
BEGIN:VEVENT
DTSTART;TZID=America/New_York:20170511T073000
DTEND;TZID=America/New_York:20170511T110000
DTSTAMP:20260420T163640
CREATED:20170503T181404Z
LAST-MODIFIED:20170503T181404Z
UID:3699-1494487800-1494500400@springfieldparkingauthority.com
SUMMARY:HAMPDEN DISTRICT ATTORNEY'S YOUTH ADVISORY BOARD CONFERENCE
DESCRIPTION:Parking is available at the Civic Center Garage – FREE WITH TICKET \n 
URL:https://springfieldparkingauthority.com/event/hampden-district-attorneys-youth-advisory-board-conference/
LOCATION:MassMutual Center\, 1277 Main Street\, Springfield\, MA\, 01103\, United States
END:VEVENT
BEGIN:VEVENT
DTSTART;TZID=America/New_York:20170511T080000
DTEND;TZID=America/New_York:20170511T110000
DTSTAMP:20260420T163640
CREATED:20170421T144857Z
LAST-MODIFIED:20170421T144857Z
UID:3591-1494489600-1494500400@springfieldparkingauthority.com
SUMMARY:Hampden DA'S Office Task Force Meeting
DESCRIPTION:Parking is available at the Civic Center Garage – $7 Postpay \n 
URL:https://springfieldparkingauthority.com/event/hampden-das-office-task-force-meeting/
LOCATION:MassMutual Center\, 1277 Main Street\, Springfield\, MA\, 01103\, United States
END:VEVENT
BEGIN:VEVENT
DTSTART;TZID=America/New_York:20170511T080000
DTEND;TZID=America/New_York:20170511T110000
DTSTAMP:20260420T163640
CREATED:20170421T144857Z
LAST-MODIFIED:20170421T144857Z
UID:10566-1494489600-1494500400@springfieldparkingauthority.com
SUMMARY:Hampden DA'S Office Task Force Meeting
DESCRIPTION:Parking is available at the Civic Center Garage – $7 Postpay \n 
URL:https://springfieldparkingauthority.com/event/hampden-das-office-task-force-meeting-2/
LOCATION:MassMutual Center\, 1277 Main Street\, Springfield\, MA\, 01103\, United States
END:VEVENT
BEGIN:VEVENT
DTSTART;TZID=America/New_York:20170511T110000
DTEND;TZID=America/New_York:20170511T160000
DTSTAMP:20260420T163640
CREATED:20170509T145733Z
LAST-MODIFIED:20170509T145733Z
UID:10606-1494500400-1494518400@springfieldparkingauthority.com
SUMMARY:SAFETY COUNCIL OF WESTERN NEW ENGLAND
DESCRIPTION:Parking is available at the I-91 North and South Garages – On the Clock \n 
URL:https://springfieldparkingauthority.com/event/safety-council-of-western-new-england-3/
LOCATION:Sheraton Hotel\, One Monarch Place\, Springfield\, MA\, 01103\, United States
END:VEVENT
BEGIN:VEVENT
DTSTART;TZID=America/New_York:20170511T110000
DTEND;TZID=America/New_York:20170511T160000
DTSTAMP:20260420T163640
CREATED:20170509T145733Z
LAST-MODIFIED:20170509T145733Z
UID:3712-1494500400-1494518400@springfieldparkingauthority.com
SUMMARY:SAFETY COUNCIL OF WESTERN NEW ENGLAND
DESCRIPTION:Parking is available at the I-91 North and South Garages – On the Clock \n 
URL:https://springfieldparkingauthority.com/event/safety-council-of-western-new-england/
LOCATION:Sheraton Hotel\, One Monarch Place\, Springfield\, MA\, 01103\, United States
END:VEVENT
BEGIN:VEVENT
DTSTART;TZID=America/New_York:20170511T170000
DTEND;TZID=America/New_York:20170511T200000
DTSTAMP:20260420T163640
CREATED:20170503T181246Z
LAST-MODIFIED:20170503T181246Z
UID:3693-1494522000-1494532800@springfieldparkingauthority.com
SUMMARY:MERCY MEDICAL ANNUAL MEETING
DESCRIPTION:Parking is available at the Columbus Center Garage – Free With Vouchers \n 
URL:https://springfieldparkingauthority.com/event/mercy-medical-annual-meeting-3/
LOCATION:Columbus Center\, 1 Columbus Center\, Springfield\, MA\, 01103\, United States
END:VEVENT
BEGIN:VEVENT
DTSTART;TZID=America/New_York:20170511T170000
DTEND;TZID=America/New_York:20170511T200000
DTSTAMP:20260420T163640
CREATED:20170503T181246Z
LAST-MODIFIED:20170503T181246Z
UID:10600-1494522000-1494532800@springfieldparkingauthority.com
SUMMARY:MERCY MEDICAL ANNUAL MEETING
DESCRIPTION:Parking is available at the Columbus Center Garage – Free With Vouchers \n 
URL:https://springfieldparkingauthority.com/event/mercy-medical-annual-meeting-3-2/
LOCATION:Columbus Center\, 1 Columbus Center\, Springfield\, MA\, 01103\, United States
END:VEVENT
BEGIN:VEVENT
DTSTART;TZID=America/New_York:20170512T070000
DTEND;TZID=America/New_York:20170512T193000
DTSTAMP:20260420T163640
CREATED:20170509T145827Z
LAST-MODIFIED:20170509T145827Z
UID:10607-1494572400-1494617400@springfieldparkingauthority.com
SUMMARY:BERKSHIRE FILM AND MEDIA COLLABORATIVE
DESCRIPTION:Parking is available at the I-91 North and South Garages – On the Clock \n 
URL:https://springfieldparkingauthority.com/event/berkshire-film-and-media-collaborative-2/
LOCATION:Sheraton Hotel\, One Monarch Place\, Springfield\, MA\, 01103\, United States
END:VEVENT
BEGIN:VEVENT
DTSTART;TZID=America/New_York:20170512T070000
DTEND;TZID=America/New_York:20170512T193000
DTSTAMP:20260420T163640
CREATED:20170509T145827Z
LAST-MODIFIED:20170509T145827Z
UID:3714-1494572400-1494617400@springfieldparkingauthority.com
SUMMARY:BERKSHIRE FILM AND MEDIA COLLABORATIVE
DESCRIPTION:Parking is available at the I-91 North and South Garages – On the Clock \n 
URL:https://springfieldparkingauthority.com/event/berkshire-film-and-media-collaborative/
LOCATION:Sheraton Hotel\, One Monarch Place\, Springfield\, MA\, 01103\, United States
END:VEVENT
BEGIN:VEVENT
DTSTART;TZID=America/New_York:20170512T160000
DTEND;TZID=America/New_York:20170512T220000
DTSTAMP:20260420T163640
CREATED:20170421T145020Z
LAST-MODIFIED:20170421T145020Z
UID:10567-1494604800-1494626400@springfieldparkingauthority.com
SUMMARY:American Dance Awards
DESCRIPTION:Parking is available at the Civic Center Garage – $7 Prepay \n 
URL:https://springfieldparkingauthority.com/event/american-dance-awards-7-2/
LOCATION:MassMutual Center\, 1277 Main Street\, Springfield\, MA\, 01103\, United States
END:VEVENT
BEGIN:VEVENT
DTSTART;TZID=America/New_York:20170512T160000
DTEND;TZID=America/New_York:20170512T220000
DTSTAMP:20260420T163640
CREATED:20170421T145020Z
LAST-MODIFIED:20170421T145020Z
UID:3593-1494604800-1494626400@springfieldparkingauthority.com
SUMMARY:American Dance Awards
DESCRIPTION:Parking is available at the Civic Center Garage – $7 Prepay \n 
URL:https://springfieldparkingauthority.com/event/american-dance-awards-7/
LOCATION:MassMutual Center\, 1277 Main Street\, Springfield\, MA\, 01103\, United States
END:VEVENT
BEGIN:VEVENT
DTSTART;TZID=America/New_York:20170512T200000
DTEND;TZID=America/New_York:20170512T220000
DTSTAMP:20260420T163640
CREATED:20170421T145231Z
LAST-MODIFIED:20170421T145231Z
UID:10568-1494619200-1494626400@springfieldparkingauthority.com
SUMMARY:Gordon Lightfoot
DESCRIPTION:Parking is available at the I-91 North and South Garages – Free with Ticket
URL:https://springfieldparkingauthority.com/event/gordon-lightfoot-2/
LOCATION:Symphony Hall\, 34 Court St.\, Springfield\, MA\, 01103\, United States
END:VEVENT
BEGIN:VEVENT
DTSTART;TZID=America/New_York:20170512T200000
DTEND;TZID=America/New_York:20170512T220000
DTSTAMP:20260420T163640
CREATED:20170421T145231Z
LAST-MODIFIED:20170421T145231Z
UID:3596-1494619200-1494626400@springfieldparkingauthority.com
SUMMARY:Gordon Lightfoot
DESCRIPTION:Parking is available at the I-91 North and South Garages – Free with Ticket
URL:https://springfieldparkingauthority.com/event/gordon-lightfoot/
LOCATION:Symphony Hall\, 34 Court St.\, Springfield\, MA\, 01103\, United States
END:VEVENT
BEGIN:VEVENT
DTSTART;TZID=America/New_York:20170513T060000
DTEND;TZID=America/New_York:20170513T130000
DTSTAMP:20260420T163640
CREATED:20170421T145337Z
LAST-MODIFIED:20170421T145337Z
UID:10569-1494655200-1494680400@springfieldparkingauthority.com
SUMMARY:SPIRIT OF SPRINGFIELD PANCAKE BREAKFAST
DESCRIPTION:Parking is available at the Civic Center Garage – $7 & $12 Prepay \n 
URL:https://springfieldparkingauthority.com/event/spirit-of-springfield-pancake-breakfast-3/
LOCATION:MassMutual Center\, 1277 Main Street\, Springfield\, MA\, 01103\, United States
END:VEVENT
BEGIN:VEVENT
DTSTART;TZID=America/New_York:20170513T060000
DTEND;TZID=America/New_York:20170513T130000
DTSTAMP:20260420T163640
CREATED:20170421T145337Z
LAST-MODIFIED:20170421T145337Z
UID:3598-1494655200-1494680400@springfieldparkingauthority.com
SUMMARY:SPIRIT OF SPRINGFIELD PANCAKE BREAKFAST
DESCRIPTION:Parking is available at the Civic Center Garage – $7 & $12 Prepay \n 
URL:https://springfieldparkingauthority.com/event/spirit-of-springfield-pancake-breakfast/
LOCATION:MassMutual Center\, 1277 Main Street\, Springfield\, MA\, 01103\, United States
END:VEVENT
BEGIN:VEVENT
DTSTART;TZID=America/New_York:20170513T080000
DTEND;TZID=America/New_York:20170513T220000
DTSTAMP:20260420T163640
CREATED:20170421T145411Z
LAST-MODIFIED:20170421T145411Z
UID:10570-1494662400-1494712800@springfieldparkingauthority.com
SUMMARY:AMERICAN DANCE AWARDS
DESCRIPTION:Parking is available at the Civic Center Garage – $7 & $12 Prepay \n 
URL:https://springfieldparkingauthority.com/event/american-dance-awards-8-2/
LOCATION:MassMutual Center\, 1277 Main Street\, Springfield\, MA\, 01103\, United States
END:VEVENT
BEGIN:VEVENT
DTSTART;TZID=America/New_York:20170513T080000
DTEND;TZID=America/New_York:20170513T220000
DTSTAMP:20260420T163640
CREATED:20170421T145411Z
LAST-MODIFIED:20170421T145411Z
UID:3600-1494662400-1494712800@springfieldparkingauthority.com
SUMMARY:AMERICAN DANCE AWARDS
DESCRIPTION:Parking is available at the Civic Center Garage – $7 & $12 Prepay \n 
URL:https://springfieldparkingauthority.com/event/american-dance-awards-8/
LOCATION:MassMutual Center\, 1277 Main Street\, Springfield\, MA\, 01103\, United States
END:VEVENT
BEGIN:VEVENT
DTSTART;TZID=America/New_York:20170513T090000
DTEND;TZID=America/New_York:20170513T150000
DTSTAMP:20260420T163640
CREATED:20170509T145949Z
LAST-MODIFIED:20170509T145949Z
UID:10608-1494666000-1494687600@springfieldparkingauthority.com
SUMMARY:14TH ANNUAL WEST REGION SELF ADVOCACY
DESCRIPTION:Parking is available at the I-91 North and South Garages – On the Clock \n 
URL:https://springfieldparkingauthority.com/event/14th-annual-west-region-self-advocacy-2/
LOCATION:Sheraton Hotel\, One Monarch Place\, Springfield\, MA\, 01103\, United States
END:VEVENT
BEGIN:VEVENT
DTSTART;TZID=America/New_York:20170513T090000
DTEND;TZID=America/New_York:20170513T150000
DTSTAMP:20260420T163640
CREATED:20170509T145949Z
LAST-MODIFIED:20170509T145949Z
UID:3716-1494666000-1494687600@springfieldparkingauthority.com
SUMMARY:14TH ANNUAL WEST REGION SELF ADVOCACY
DESCRIPTION:Parking is available at the I-91 North and South Garages – On the Clock \n 
URL:https://springfieldparkingauthority.com/event/14th-annual-west-region-self-advocacy/
LOCATION:Sheraton Hotel\, One Monarch Place\, Springfield\, MA\, 01103\, United States
END:VEVENT
BEGIN:VEVENT
DTSTART;TZID=America/New_York:20170513T090000
DTEND;TZID=America/New_York:20170514T000000
DTSTAMP:20260420T163640
CREATED:20170509T150214Z
LAST-MODIFIED:20170509T150214Z
UID:10609-1494666000-1494720000@springfieldparkingauthority.com
SUMMARY:SSO AFTER PARTY
DESCRIPTION:Parking is available at the I-91 North and South Garages – On the Clock \n 
URL:https://springfieldparkingauthority.com/event/sso-after-party-2/
LOCATION:Sheraton Hotel\, One Monarch Place\, Springfield\, MA\, 01103\, United States
END:VEVENT
BEGIN:VEVENT
DTSTART;TZID=America/New_York:20170513T090000
DTEND;TZID=America/New_York:20170514T000000
DTSTAMP:20260420T163640
CREATED:20170509T150214Z
LAST-MODIFIED:20170509T150214Z
UID:3718-1494666000-1494720000@springfieldparkingauthority.com
SUMMARY:SSO AFTER PARTY
DESCRIPTION:Parking is available at the I-91 North and South Garages – On the Clock \n 
URL:https://springfieldparkingauthority.com/event/sso-after-party/
LOCATION:Sheraton Hotel\, One Monarch Place\, Springfield\, MA\, 01103\, United States
END:VEVENT
BEGIN:VEVENT
DTSTART;TZID=America/New_York:20170513T130000
DTEND;TZID=America/New_York:20170513T230000
DTSTAMP:20260420T163640
CREATED:20170509T150255Z
LAST-MODIFIED:20170509T150255Z
UID:3720-1494680400-1494716400@springfieldparkingauthority.com
SUMMARY:PALMER HIGH SCHOOL PROM 2017
DESCRIPTION:Parking is available at the I-91 North and South Garages – On the Clock \n 
URL:https://springfieldparkingauthority.com/event/palmer-high-school-prom-2017/
LOCATION:Sheraton Hotel\, One Monarch Place\, Springfield\, MA\, 01103\, United States
END:VEVENT
BEGIN:VEVENT
DTSTART;TZID=America/New_York:20170513T130000
DTEND;TZID=America/New_York:20170513T230000
DTSTAMP:20260420T163640
CREATED:20170509T150255Z
LAST-MODIFIED:20170509T150255Z
UID:10610-1494680400-1494716400@springfieldparkingauthority.com
SUMMARY:PALMER HIGH SCHOOL PROM 2017
DESCRIPTION:Parking is available at the I-91 North and South Garages – On the Clock \n 
URL:https://springfieldparkingauthority.com/event/palmer-high-school-prom-2017-2/
LOCATION:Sheraton Hotel\, One Monarch Place\, Springfield\, MA\, 01103\, United States
END:VEVENT
BEGIN:VEVENT
DTSTART;TZID=America/New_York:20170513T140000
DTEND;TZID=America/New_York:20170513T170000
DTSTAMP:20260420T163640
CREATED:20170421T145819Z
LAST-MODIFIED:20170421T145819Z
UID:10574-1494684000-1494694800@springfieldparkingauthority.com
SUMMARY:VIDEO GAMES LIVE! REHEARSAL
DESCRIPTION:Parking is available at the I-91 North and South Garages – ON THE CLOCK
URL:https://springfieldparkingauthority.com/event/video-games-live-rehearsal-2/
LOCATION:Symphony Hall\, 34 Court St.\, Springfield\, MA\, 01103\, United States
END:VEVENT
BEGIN:VEVENT
DTSTART;TZID=America/New_York:20170513T140000
DTEND;TZID=America/New_York:20170513T170000
DTSTAMP:20260420T163640
CREATED:20170421T145819Z
LAST-MODIFIED:20170421T145819Z
UID:3610-1494684000-1494694800@springfieldparkingauthority.com
SUMMARY:VIDEO GAMES LIVE! REHEARSAL
DESCRIPTION:Parking is available at the I-91 North and South Garages – ON THE CLOCK
URL:https://springfieldparkingauthority.com/event/video-games-live-rehearsal/
LOCATION:Symphony Hall\, 34 Court St.\, Springfield\, MA\, 01103\, United States
END:VEVENT
BEGIN:VEVENT
DTSTART;TZID=America/New_York:20170513T140000
DTEND;TZID=America/New_York:20170513T180000
DTSTAMP:20260420T163640
CREATED:20170421T145514Z
LAST-MODIFIED:20170421T145514Z
UID:3604-1494684000-1494698400@springfieldparkingauthority.com
SUMMARY:AIC COMMENCEMENT
DESCRIPTION:Parking is available at the Civic Center Garage – $7 & $12 Prepay \n 
URL:https://springfieldparkingauthority.com/event/aic-commencement-4/
LOCATION:MassMutual Center\, 1277 Main Street\, Springfield\, MA\, 01103\, United States
END:VEVENT
BEGIN:VEVENT
DTSTART;TZID=America/New_York:20170513T140000
DTEND;TZID=America/New_York:20170513T180000
DTSTAMP:20260420T163640
CREATED:20170421T145514Z
LAST-MODIFIED:20170421T145514Z
UID:10571-1494684000-1494698400@springfieldparkingauthority.com
SUMMARY:AIC COMMENCEMENT
DESCRIPTION:Parking is available at the Civic Center Garage – $7 & $12 Prepay \n 
URL:https://springfieldparkingauthority.com/event/aic-commencement-4-2/
LOCATION:MassMutual Center\, 1277 Main Street\, Springfield\, MA\, 01103\, United States
END:VEVENT
END:VCALENDAR