BEGIN:VCALENDAR
VERSION:2.0
PRODID:-//Springfield Parking Authority - ECPv6.15.20//NONSGML v1.0//EN
CALSCALE:GREGORIAN
METHOD:PUBLISH
X-ORIGINAL-URL:https://springfieldparkingauthority.com
X-WR-CALDESC:Events for Springfield Parking Authority
REFRESH-INTERVAL;VALUE=DURATION:PT1H
X-Robots-Tag:noindex
X-PUBLISHED-TTL:PT1H
BEGIN:VTIMEZONE
TZID:America/New_York
BEGIN:DAYLIGHT
TZOFFSETFROM:-0500
TZOFFSETTO:-0400
TZNAME:EDT
DTSTART:20160313T070000
END:DAYLIGHT
BEGIN:STANDARD
TZOFFSETFROM:-0400
TZOFFSETTO:-0500
TZNAME:EST
DTSTART:20161106T060000
END:STANDARD
BEGIN:DAYLIGHT
TZOFFSETFROM:-0500
TZOFFSETTO:-0400
TZNAME:EDT
DTSTART:20170312T070000
END:DAYLIGHT
BEGIN:STANDARD
TZOFFSETFROM:-0400
TZOFFSETTO:-0500
TZNAME:EST
DTSTART:20171105T060000
END:STANDARD
BEGIN:DAYLIGHT
TZOFFSETFROM:-0500
TZOFFSETTO:-0400
TZNAME:EDT
DTSTART:20180311T070000
END:DAYLIGHT
BEGIN:STANDARD
TZOFFSETFROM:-0400
TZOFFSETTO:-0500
TZNAME:EST
DTSTART:20181104T060000
END:STANDARD
END:VTIMEZONE
BEGIN:VEVENT
DTSTART;TZID=America/New_York:20170514T100000
DTEND;TZID=America/New_York:20170514T140000
DTSTAMP:20260422T182934
CREATED:20170509T150503Z
LAST-MODIFIED:20170509T150503Z
UID:3724-1494756000-1494770400@springfieldparkingauthority.com
SUMMARY:MOTHERS DAY BRUNCH MAY 14
DESCRIPTION:Parking is available at the I-91 North and South Garages – On the Clock \n 
URL:https://springfieldparkingauthority.com/event/mothers-day-brunch-may-14/
LOCATION:Sheraton Hotel\, One Monarch Place\, Springfield\, MA\, 01103\, United States
END:VEVENT
BEGIN:VEVENT
DTSTART;TZID=America/New_York:20170514T100000
DTEND;TZID=America/New_York:20170514T140000
DTSTAMP:20260422T182934
CREATED:20170509T150503Z
LAST-MODIFIED:20170509T150503Z
UID:10612-1494756000-1494770400@springfieldparkingauthority.com
SUMMARY:MOTHERS DAY BRUNCH MAY 14
DESCRIPTION:Parking is available at the I-91 North and South Garages – On the Clock \n 
URL:https://springfieldparkingauthority.com/event/mothers-day-brunch-may-14-2/
LOCATION:Sheraton Hotel\, One Monarch Place\, Springfield\, MA\, 01103\, United States
END:VEVENT
BEGIN:VEVENT
DTSTART;TZID=America/New_York:20170515T100000
DTEND;TZID=America/New_York:20170515T120000
DTSTAMP:20260422T182934
CREATED:20170421T150039Z
LAST-MODIFIED:20170421T150039Z
UID:10577-1494842400-1494849600@springfieldparkingauthority.com
SUMMARY:THEATER WORKS SCHOOL SHOW
DESCRIPTION:Parking is available at the I-91 North and South Garages – On the Clock \n 
URL:https://springfieldparkingauthority.com/event/theater-works-school-show-7-2/
LOCATION:Symphony Hall\, 34 Court St.\, Springfield\, MA\, 01103\, United States
END:VEVENT
BEGIN:VEVENT
DTSTART;TZID=America/New_York:20170515T100000
DTEND;TZID=America/New_York:20170515T120000
DTSTAMP:20260422T182934
CREATED:20170421T150039Z
LAST-MODIFIED:20170421T150039Z
UID:3616-1494842400-1494849600@springfieldparkingauthority.com
SUMMARY:THEATER WORKS SCHOOL SHOW
DESCRIPTION:Parking is available at the I-91 North and South Garages – On the Clock \n 
URL:https://springfieldparkingauthority.com/event/theater-works-school-show-7/
LOCATION:Symphony Hall\, 34 Court St.\, Springfield\, MA\, 01103\, United States
END:VEVENT
BEGIN:VEVENT
DTSTART;TZID=America/New_York:20170515T170000
DTEND;TZID=America/New_York:20170515T200000
DTSTAMP:20260422T182934
CREATED:20170503T181517Z
LAST-MODIFIED:20170503T181517Z
UID:10602-1494867600-1494878400@springfieldparkingauthority.com
SUMMARY:SPRINGFIELD SCHOOL - 100 MALES CEREMONY
DESCRIPTION:Parking is available at the Columbus Center Garage – $7 Prepay \n 
URL:https://springfieldparkingauthority.com/event/springfield-school-100-males-ceremony-2/
LOCATION:Columbus Center\, 1 Columbus Center\, Springfield\, MA\, 01103\, United States
END:VEVENT
BEGIN:VEVENT
DTSTART;TZID=America/New_York:20170515T170000
DTEND;TZID=America/New_York:20170515T200000
DTSTAMP:20260422T182934
CREATED:20170503T181517Z
LAST-MODIFIED:20170503T181517Z
UID:3701-1494867600-1494878400@springfieldparkingauthority.com
SUMMARY:SPRINGFIELD SCHOOL - 100 MALES CEREMONY
DESCRIPTION:Parking is available at the Columbus Center Garage – $7 Prepay \n 
URL:https://springfieldparkingauthority.com/event/springfield-school-100-males-ceremony/
LOCATION:Columbus Center\, 1 Columbus Center\, Springfield\, MA\, 01103\, United States
END:VEVENT
BEGIN:VEVENT
DTSTART;TZID=America/New_York:20170516T140000
DTEND;TZID=America/New_York:20170516T170000
DTSTAMP:20260422T182934
CREATED:20170503T181612Z
LAST-MODIFIED:20170503T181612Z
UID:10603-1494943200-1494954000@springfieldparkingauthority.com
SUMMARY:MERCY MEDICAL ANNUAL MEETING
DESCRIPTION:Parking is available at the Columbus Center Garage – Free With Vouchers \n  \n  \n 
URL:https://springfieldparkingauthority.com/event/mercy-medical-annual-meeting-4-2/
LOCATION:Columbus Center\, 1 Columbus Center\, Springfield\, MA\, 01103\, United States
END:VEVENT
BEGIN:VEVENT
DTSTART;TZID=America/New_York:20170516T140000
DTEND;TZID=America/New_York:20170516T170000
DTSTAMP:20260422T182934
CREATED:20170503T181612Z
LAST-MODIFIED:20170503T181612Z
UID:3703-1494943200-1494954000@springfieldparkingauthority.com
SUMMARY:MERCY MEDICAL ANNUAL MEETING
DESCRIPTION:Parking is available at the Columbus Center Garage – Free With Vouchers \n  \n  \n 
URL:https://springfieldparkingauthority.com/event/mercy-medical-annual-meeting-4/
LOCATION:Columbus Center\, 1 Columbus Center\, Springfield\, MA\, 01103\, United States
END:VEVENT
BEGIN:VEVENT
DTSTART;TZID=America/New_York:20170518T140000
DTEND;TZID=America/New_York:20170518T190000
DTSTAMP:20260422T182934
CREATED:20170516T171751Z
LAST-MODIFIED:20170516T171751Z
UID:10618-1495116000-1495134000@springfieldparkingauthority.com
SUMMARY:Economic Development Council of Western Mass
DESCRIPTION:Parking is available at the I-91 North and South Garages – On the Clock \n 
URL:https://springfieldparkingauthority.com/event/economic-development-council-of-western-mass-2-2/
LOCATION:Sheraton Hotel\, One Monarch Place\, Springfield\, MA\, 01103\, United States
END:VEVENT
BEGIN:VEVENT
DTSTART;TZID=America/New_York:20170518T140000
DTEND;TZID=America/New_York:20170518T190000
DTSTAMP:20260422T182934
CREATED:20170516T171751Z
LAST-MODIFIED:20170516T171751Z
UID:3749-1495116000-1495134000@springfieldparkingauthority.com
SUMMARY:Economic Development Council of Western Mass
DESCRIPTION:Parking is available at the I-91 North and South Garages – On the Clock \n 
URL:https://springfieldparkingauthority.com/event/economic-development-council-of-western-mass-2/
LOCATION:Sheraton Hotel\, One Monarch Place\, Springfield\, MA\, 01103\, United States
END:VEVENT
BEGIN:VEVENT
DTSTART;TZID=America/New_York:20170518T180000
DTEND;TZID=America/New_York:20170518T200000
DTSTAMP:20260422T182934
CREATED:20170421T150205Z
LAST-MODIFIED:20170421T150205Z
UID:3619-1495130400-1495137600@springfieldparkingauthority.com
SUMMARY:WSU COMMENCEMENT
DESCRIPTION:Parking is available at the I-91 North and South Garages – $7 PREPAY \n 
URL:https://springfieldparkingauthority.com/event/wsu-commencement/
LOCATION:Symphony Hall\, 34 Court St.\, Springfield\, MA\, 01103\, United States
END:VEVENT
BEGIN:VEVENT
DTSTART;TZID=America/New_York:20170518T180000
DTEND;TZID=America/New_York:20170518T200000
DTSTAMP:20260422T182934
CREATED:20170421T150205Z
LAST-MODIFIED:20170421T150205Z
UID:10578-1495130400-1495137600@springfieldparkingauthority.com
SUMMARY:WSU COMMENCEMENT
DESCRIPTION:Parking is available at the I-91 North and South Garages – $7 PREPAY \n 
URL:https://springfieldparkingauthority.com/event/wsu-commencement-3/
LOCATION:Symphony Hall\, 34 Court St.\, Springfield\, MA\, 01103\, United States
END:VEVENT
BEGIN:VEVENT
DTSTART;TZID=America/New_York:20170518T183000
DTEND;TZID=America/New_York:20170518T200000
DTSTAMP:20260422T182934
CREATED:20170503T181732Z
LAST-MODIFIED:20170503T181732Z
UID:3705-1495132200-1495137600@springfieldparkingauthority.com
SUMMARY:WSU COMMENCEMENT
DESCRIPTION:Parking is available at the I-91 North and South Garages – $7 Prepay \n 
URL:https://springfieldparkingauthority.com/event/wsu-commencement-2/
LOCATION:Symphony Hall\, 34 Court St.\, Springfield\, MA\, 01103\, United States
END:VEVENT
BEGIN:VEVENT
DTSTART;TZID=America/New_York:20170518T183000
DTEND;TZID=America/New_York:20170518T200000
DTSTAMP:20260422T182934
CREATED:20170503T181732Z
LAST-MODIFIED:20170503T181732Z
UID:10604-1495132200-1495137600@springfieldparkingauthority.com
SUMMARY:WSU COMMENCEMENT
DESCRIPTION:Parking is available at the I-91 North and South Garages – $7 Prepay \n 
URL:https://springfieldparkingauthority.com/event/wsu-commencement-2-2/
LOCATION:Symphony Hall\, 34 Court St.\, Springfield\, MA\, 01103\, United States
END:VEVENT
BEGIN:VEVENT
DTSTART;TZID=America/New_York:20170520T100000
DTEND;TZID=America/New_York:20170520T133000
DTSTAMP:20260422T182934
CREATED:20170421T150745Z
LAST-MODIFIED:20170421T150745Z
UID:10580-1495274400-1495287000@springfieldparkingauthority.com
SUMMARY:COLLEGE OF OUR LADY OF THE ELMS COMMENCEMENT
DESCRIPTION:Parking is available at the Civic Center Garage – $7 & 12 PREPAY \n 
URL:https://springfieldparkingauthority.com/event/college-of-our-lady-of-the-elms-commencement-2-2/
LOCATION:MassMutual Center\, 1277 Main Street\, Springfield\, MA\, 01103\, United States
END:VEVENT
BEGIN:VEVENT
DTSTART;TZID=America/New_York:20170520T100000
DTEND;TZID=America/New_York:20170520T133000
DTSTAMP:20260422T182934
CREATED:20170421T150745Z
LAST-MODIFIED:20170421T150745Z
UID:3627-1495274400-1495287000@springfieldparkingauthority.com
SUMMARY:COLLEGE OF OUR LADY OF THE ELMS COMMENCEMENT
DESCRIPTION:Parking is available at the Civic Center Garage – $7 & 12 PREPAY \n 
URL:https://springfieldparkingauthority.com/event/college-of-our-lady-of-the-elms-commencement-2/
LOCATION:MassMutual Center\, 1277 Main Street\, Springfield\, MA\, 01103\, United States
END:VEVENT
BEGIN:VEVENT
DTSTART;TZID=America/New_York:20170520T100000
DTEND;TZID=America/New_York:20170520T140000
DTSTAMP:20260422T182934
CREATED:20170516T141931Z
LAST-MODIFIED:20170516T141931Z
UID:3747-1495274400-1495288800@springfieldparkingauthority.com
SUMMARY:Westfield State Alumni Meeting
DESCRIPTION:Parking is available at the Civic Center Garage – Free with Pass \n 
URL:https://springfieldparkingauthority.com/event/westfield-state-alumni-meeting/
LOCATION:MassMutual Center\, 1277 Main Street\, Springfield\, MA\, 01103\, United States
END:VEVENT
BEGIN:VEVENT
DTSTART;TZID=America/New_York:20170520T100000
DTEND;TZID=America/New_York:20170520T140000
DTSTAMP:20260422T182934
CREATED:20170516T141931Z
LAST-MODIFIED:20170516T141931Z
UID:10617-1495274400-1495288800@springfieldparkingauthority.com
SUMMARY:Westfield State Alumni Meeting
DESCRIPTION:Parking is available at the Civic Center Garage – Free with Pass \n 
URL:https://springfieldparkingauthority.com/event/westfield-state-alumni-meeting-2/
LOCATION:MassMutual Center\, 1277 Main Street\, Springfield\, MA\, 01103\, United States
END:VEVENT
BEGIN:VEVENT
DTSTART;TZID=America/New_York:20170520T110000
DTEND;TZID=America/New_York:20170520T230000
DTSTAMP:20260422T182934
CREATED:20170509T151222Z
LAST-MODIFIED:20170509T151222Z
UID:10614-1495278000-1495321200@springfieldparkingauthority.com
SUMMARY:CHICOPEE HIGH SCHOOL JUNIOR/SENIOR PROM
DESCRIPTION:Parking is available at the I-91 North and South Garages – On the Clock \n 
URL:https://springfieldparkingauthority.com/event/chicopee-high-school-juniorsenior-prom-2/
LOCATION:Sheraton Hotel\, One Monarch Place\, Springfield\, MA\, 01103\, United States
END:VEVENT
BEGIN:VEVENT
DTSTART;TZID=America/New_York:20170520T110000
DTEND;TZID=America/New_York:20170520T230000
DTSTAMP:20260422T182934
CREATED:20170509T151222Z
LAST-MODIFIED:20170509T151222Z
UID:3731-1495278000-1495321200@springfieldparkingauthority.com
SUMMARY:CHICOPEE HIGH SCHOOL JUNIOR/SENIOR PROM
DESCRIPTION:Parking is available at the I-91 North and South Garages – On the Clock \n 
URL:https://springfieldparkingauthority.com/event/chicopee-high-school-juniorsenior-prom/
LOCATION:Sheraton Hotel\, One Monarch Place\, Springfield\, MA\, 01103\, United States
END:VEVENT
BEGIN:VEVENT
DTSTART;TZID=America/New_York:20170520T120000
DTEND;TZID=America/New_York:20170520T140000
DTSTAMP:20260422T182934
CREATED:20170421T150910Z
LAST-MODIFIED:20170421T150910Z
UID:10581-1495281600-1495288800@springfieldparkingauthority.com
SUMMARY:WESTFIELD STATE UNIVERSITY SENIOR LUNCHEON
DESCRIPTION:Parking is available at the Civic Center Garage – $7 & 12 PREPAY \n 
URL:https://springfieldparkingauthority.com/event/westfield-state-university-senior-luncheon-3/
LOCATION:MassMutual Center\, 1277 Main Street\, Springfield\, MA\, 01103\, United States
END:VEVENT
BEGIN:VEVENT
DTSTART;TZID=America/New_York:20170520T120000
DTEND;TZID=America/New_York:20170520T140000
DTSTAMP:20260422T182934
CREATED:20170421T150910Z
LAST-MODIFIED:20170421T150910Z
UID:3631-1495281600-1495288800@springfieldparkingauthority.com
SUMMARY:WESTFIELD STATE UNIVERSITY SENIOR LUNCHEON
DESCRIPTION:Parking is available at the Civic Center Garage – $7 & 12 PREPAY \n 
URL:https://springfieldparkingauthority.com/event/westfield-state-university-senior-luncheon/
LOCATION:MassMutual Center\, 1277 Main Street\, Springfield\, MA\, 01103\, United States
END:VEVENT
BEGIN:VEVENT
DTSTART;TZID=America/New_York:20170520T120000
DTEND;TZID=America/New_York:20170520T210000
DTSTAMP:20260422T182934
CREATED:20170421T150632Z
LAST-MODIFIED:20170421T150632Z
UID:10579-1495281600-1495314000@springfieldparkingauthority.com
SUMMARY:REVOLUTION DANCE AWARDS
DESCRIPTION:Parking is available at the Civic Center Garage – $7  & 12 Prepay \n 
URL:https://springfieldparkingauthority.com/event/revolution-dance-awards-7-2/
LOCATION:MassMutual Center\, 1277 Main Street\, Springfield\, MA\, 01103\, United States
END:VEVENT
BEGIN:VEVENT
DTSTART;TZID=America/New_York:20170520T120000
DTEND;TZID=America/New_York:20170520T210000
DTSTAMP:20260422T182934
CREATED:20170421T150632Z
LAST-MODIFIED:20170421T150632Z
UID:3624-1495281600-1495314000@springfieldparkingauthority.com
SUMMARY:REVOLUTION DANCE AWARDS
DESCRIPTION:Parking is available at the Civic Center Garage – $7  & 12 Prepay \n 
URL:https://springfieldparkingauthority.com/event/revolution-dance-awards-7/
LOCATION:MassMutual Center\, 1277 Main Street\, Springfield\, MA\, 01103\, United States
END:VEVENT
BEGIN:VEVENT
DTSTART;TZID=America/New_York:20170520T160000
DTEND;TZID=America/New_York:20170520T193000
DTSTAMP:20260422T182934
CREATED:20170421T150957Z
LAST-MODIFIED:20170421T150957Z
UID:10582-1495296000-1495308600@springfieldparkingauthority.com
SUMMARY:WESTFIELD STATE UNIVERSITY COMMENCEMENT
DESCRIPTION:Parking is available at the Civic Center Garage – $7 & 12  Prepay \n 
URL:https://springfieldparkingauthority.com/event/westfield-state-university-commencement-4-2/
LOCATION:MassMutual Center\, 1277 Main Street\, Springfield\, MA\, 01103\, United States
END:VEVENT
BEGIN:VEVENT
DTSTART;TZID=America/New_York:20170520T160000
DTEND;TZID=America/New_York:20170520T193000
DTSTAMP:20260422T182934
CREATED:20170421T150957Z
LAST-MODIFIED:20170421T150957Z
UID:3633-1495296000-1495308600@springfieldparkingauthority.com
SUMMARY:WESTFIELD STATE UNIVERSITY COMMENCEMENT
DESCRIPTION:Parking is available at the Civic Center Garage – $7 & 12  Prepay \n 
URL:https://springfieldparkingauthority.com/event/westfield-state-university-commencement-4/
LOCATION:MassMutual Center\, 1277 Main Street\, Springfield\, MA\, 01103\, United States
END:VEVENT
BEGIN:VEVENT
DTSTART;TZID=America/New_York:20170520T180000
DTEND;TZID=America/New_York:20170520T230000
DTSTAMP:20260422T182934
CREATED:20170509T151134Z
LAST-MODIFIED:20170509T151134Z
UID:10613-1495303200-1495321200@springfieldparkingauthority.com
SUMMARY:TORRES-VALAZQEZ WEDDING RECEPTION ONLY
DESCRIPTION:Parking is available at the I-91 North and South Garages – On the Clock \n 
URL:https://springfieldparkingauthority.com/event/torres-valazqez-wedding-reception-only-2/
LOCATION:Sheraton Hotel\, One Monarch Place\, Springfield\, MA\, 01103\, United States
END:VEVENT
BEGIN:VEVENT
DTSTART;TZID=America/New_York:20170520T180000
DTEND;TZID=America/New_York:20170520T230000
DTSTAMP:20260422T182934
CREATED:20170509T151134Z
LAST-MODIFIED:20170509T151134Z
UID:3729-1495303200-1495321200@springfieldparkingauthority.com
SUMMARY:TORRES-VALAZQEZ WEDDING RECEPTION ONLY
DESCRIPTION:Parking is available at the I-91 North and South Garages – On the Clock \n 
URL:https://springfieldparkingauthority.com/event/torres-valazqez-wedding-reception-only/
LOCATION:Sheraton Hotel\, One Monarch Place\, Springfield\, MA\, 01103\, United States
END:VEVENT
BEGIN:VEVENT
DTSTART;TZID=America/New_York:20170521T070000
DTEND;TZID=America/New_York:20170521T220000
DTSTAMP:20260422T182934
CREATED:20170517T163313Z
LAST-MODIFIED:20170517T163313Z
UID:10623-1495350000-1495404000@springfieldparkingauthority.com
SUMMARY:Revolution Dance Awards
DESCRIPTION:Parking is available at the Civic Center Garage – $7 & $12 Prepay \n 
URL:https://springfieldparkingauthority.com/event/revolution-dance-awards-8-2/
LOCATION:MassMutual Center\, 1277 Main Street\, Springfield\, MA\, 01103\, United States
END:VEVENT
BEGIN:VEVENT
DTSTART;TZID=America/New_York:20170521T070000
DTEND;TZID=America/New_York:20170521T220000
DTSTAMP:20260422T182934
CREATED:20170517T163313Z
LAST-MODIFIED:20170517T163313Z
UID:3765-1495350000-1495404000@springfieldparkingauthority.com
SUMMARY:Revolution Dance Awards
DESCRIPTION:Parking is available at the Civic Center Garage – $7 & $12 Prepay \n 
URL:https://springfieldparkingauthority.com/event/revolution-dance-awards-8/
LOCATION:MassMutual Center\, 1277 Main Street\, Springfield\, MA\, 01103\, United States
END:VEVENT
END:VCALENDAR