BEGIN:VCALENDAR
VERSION:2.0
PRODID:-//Springfield Parking Authority - ECPv6.15.20//NONSGML v1.0//EN
CALSCALE:GREGORIAN
METHOD:PUBLISH
X-WR-CALNAME:Springfield Parking Authority
X-ORIGINAL-URL:https://springfieldparkingauthority.com
X-WR-CALDESC:Events for Springfield Parking Authority
REFRESH-INTERVAL;VALUE=DURATION:PT1H
X-Robots-Tag:noindex
X-PUBLISHED-TTL:PT1H
BEGIN:VTIMEZONE
TZID:America/New_York
BEGIN:DAYLIGHT
TZOFFSETFROM:-0500
TZOFFSETTO:-0400
TZNAME:EDT
DTSTART:20160313T070000
END:DAYLIGHT
BEGIN:STANDARD
TZOFFSETFROM:-0400
TZOFFSETTO:-0500
TZNAME:EST
DTSTART:20161106T060000
END:STANDARD
BEGIN:DAYLIGHT
TZOFFSETFROM:-0500
TZOFFSETTO:-0400
TZNAME:EDT
DTSTART:20170312T070000
END:DAYLIGHT
BEGIN:STANDARD
TZOFFSETFROM:-0400
TZOFFSETTO:-0500
TZNAME:EST
DTSTART:20171105T060000
END:STANDARD
BEGIN:DAYLIGHT
TZOFFSETFROM:-0500
TZOFFSETTO:-0400
TZNAME:EDT
DTSTART:20180311T070000
END:DAYLIGHT
BEGIN:STANDARD
TZOFFSETFROM:-0400
TZOFFSETTO:-0500
TZNAME:EST
DTSTART:20181104T060000
END:STANDARD
END:VTIMEZONE
BEGIN:VEVENT
DTSTART;TZID=America/New_York:20170606T180000
DTEND;TZID=America/New_York:20170606T200000
DTSTAMP:20260422T182452
CREATED:20170525T170009Z
LAST-MODIFIED:20170525T170009Z
UID:10638-1496772000-1496779200@springfieldparkingauthority.com
SUMMARY:Putnam High School Graduation
DESCRIPTION:Parking is available at the I-91 North and South Garages – $7 Prepay \n 
URL:https://springfieldparkingauthority.com/event/putnam-high-school-graduation-3-2/
LOCATION:Symphony Hall\, 34 Court St.\, Springfield\, MA\, 01103\, United States
END:VEVENT
BEGIN:VEVENT
DTSTART;TZID=America/New_York:20170606T180000
DTEND;TZID=America/New_York:20170606T200000
DTSTAMP:20260422T182452
CREATED:20170525T170009Z
LAST-MODIFIED:20170525T170009Z
UID:3800-1496772000-1496779200@springfieldparkingauthority.com
SUMMARY:Putnam High School Graduation
DESCRIPTION:Parking is available at the I-91 North and South Garages – $7 Prepay \n 
URL:https://springfieldparkingauthority.com/event/putnam-high-school-graduation-3/
LOCATION:Symphony Hall\, 34 Court St.\, Springfield\, MA\, 01103\, United States
END:VEVENT
BEGIN:VEVENT
DTSTART;TZID=America/New_York:20170607T180000
DTEND;TZID=America/New_York:20170607T200000
DTSTAMP:20260422T182452
CREATED:20170525T170109Z
LAST-MODIFIED:20170525T170109Z
UID:10639-1496858400-1496865600@springfieldparkingauthority.com
SUMMARY:Springfield High Graduation
DESCRIPTION:Parking is available at the I-91 North and South Garages – $7 Prepay \n 
URL:https://springfieldparkingauthority.com/event/springfield-high-graduation-2/
LOCATION:Symphony Hall\, 34 Court St.\, Springfield\, MA\, 01103\, United States
END:VEVENT
BEGIN:VEVENT
DTSTART;TZID=America/New_York:20170607T180000
DTEND;TZID=America/New_York:20170607T200000
DTSTAMP:20260422T182452
CREATED:20170525T170109Z
LAST-MODIFIED:20170525T170109Z
UID:3802-1496858400-1496865600@springfieldparkingauthority.com
SUMMARY:Springfield High Graduation
DESCRIPTION:Parking is available at the I-91 North and South Garages – $7 Prepay \n 
URL:https://springfieldparkingauthority.com/event/springfield-high-graduation/
LOCATION:Symphony Hall\, 34 Court St.\, Springfield\, MA\, 01103\, United States
END:VEVENT
BEGIN:VEVENT
DTSTART;TZID=America/New_York:20170608T170000
DTEND;TZID=America/New_York:20170608T200000
DTSTAMP:20260422T182452
CREATED:20170525T170209Z
LAST-MODIFIED:20170525T170209Z
UID:10640-1496941200-1496952000@springfieldparkingauthority.com
SUMMARY:Tap into Techspring
DESCRIPTION:Parking is available at the Civic Center Garage – On the Clock \n 
URL:https://springfieldparkingauthority.com/event/tap-into-techspring-2/
LOCATION:MassMutual Center\, 1277 Main Street\, Springfield\, MA\, 01103\, United States
END:VEVENT
BEGIN:VEVENT
DTSTART;TZID=America/New_York:20170608T170000
DTEND;TZID=America/New_York:20170608T200000
DTSTAMP:20260422T182452
CREATED:20170525T170209Z
LAST-MODIFIED:20170525T170209Z
UID:3804-1496941200-1496952000@springfieldparkingauthority.com
SUMMARY:Tap into Techspring
DESCRIPTION:Parking is available at the Civic Center Garage – On the Clock \n 
URL:https://springfieldparkingauthority.com/event/tap-into-techspring/
LOCATION:MassMutual Center\, 1277 Main Street\, Springfield\, MA\, 01103\, United States
END:VEVENT
BEGIN:VEVENT
DTSTART;TZID=America/New_York:20170608T180000
DTEND;TZID=America/New_York:20170608T200000
DTSTAMP:20260422T182452
CREATED:20170525T170258Z
LAST-MODIFIED:20170525T170258Z
UID:10641-1496944800-1496952000@springfieldparkingauthority.com
SUMMARY:Central High Graduation
DESCRIPTION:Parking is available at the I-91 North And South Garage – $7 Prepay \n 
URL:https://springfieldparkingauthority.com/event/central-high-graduation-2/
LOCATION:Symphony Hall\, 34 Court St.\, Springfield\, MA\, 01103\, United States
END:VEVENT
BEGIN:VEVENT
DTSTART;TZID=America/New_York:20170608T180000
DTEND;TZID=America/New_York:20170608T200000
DTSTAMP:20260422T182452
CREATED:20170525T170258Z
LAST-MODIFIED:20170525T170258Z
UID:3806-1496944800-1496952000@springfieldparkingauthority.com
SUMMARY:Central High Graduation
DESCRIPTION:Parking is available at the I-91 North And South Garage – $7 Prepay \n 
URL:https://springfieldparkingauthority.com/event/central-high-graduation/
LOCATION:Symphony Hall\, 34 Court St.\, Springfield\, MA\, 01103\, United States
END:VEVENT
BEGIN:VEVENT
DTSTART;TZID=America/New_York:20170609T070000
DTEND;TZID=America/New_York:20170609T203000
DTSTAMP:20260422T182452
CREATED:20170525T170416Z
LAST-MODIFIED:20170525T170416Z
UID:3808-1496991600-1497040200@springfieldparkingauthority.com
SUMMARY:New England Synod
DESCRIPTION:Parking is available at the Civic Center Garage – $7 Prepay \n 
URL:https://springfieldparkingauthority.com/event/new-england-synod-6/
LOCATION:MassMutual Center\, 1277 Main Street\, Springfield\, MA\, 01103\, United States
END:VEVENT
BEGIN:VEVENT
DTSTART;TZID=America/New_York:20170609T070000
DTEND;TZID=America/New_York:20170609T203000
DTSTAMP:20260422T182452
CREATED:20170525T170416Z
LAST-MODIFIED:20170525T170416Z
UID:10642-1496991600-1497040200@springfieldparkingauthority.com
SUMMARY:New England Synod
DESCRIPTION:Parking is available at the Civic Center Garage – $7 Prepay \n 
URL:https://springfieldparkingauthority.com/event/new-england-synod-6-2/
LOCATION:MassMutual Center\, 1277 Main Street\, Springfield\, MA\, 01103\, United States
END:VEVENT
BEGIN:VEVENT
DTSTART;TZID=America/New_York:20170609T140000
DTEND;TZID=America/New_York:20170609T233000
DTSTAMP:20260422T182452
CREATED:20170602T142034Z
LAST-MODIFIED:20170602T142034Z
UID:10664-1497016800-1497051000@springfieldparkingauthority.com
SUMMARY:Cahillance/Hidden Reception
DESCRIPTION:Parking is available at the I-91 North and South Garages – On the Clock \n 
URL:https://springfieldparkingauthority.com/event/cahillancehidden-reception-2/
LOCATION:Sheraton Hotel\, One Monarch Place\, Springfield\, MA\, 01103\, United States
END:VEVENT
BEGIN:VEVENT
DTSTART;TZID=America/New_York:20170609T140000
DTEND;TZID=America/New_York:20170609T233000
DTSTAMP:20260422T182452
CREATED:20170602T142034Z
LAST-MODIFIED:20170602T142034Z
UID:3862-1497016800-1497051000@springfieldparkingauthority.com
SUMMARY:Cahillance/Hidden Reception
DESCRIPTION:Parking is available at the I-91 North and South Garages – On the Clock \n 
URL:https://springfieldparkingauthority.com/event/cahillancehidden-reception/
LOCATION:Sheraton Hotel\, One Monarch Place\, Springfield\, MA\, 01103\, United States
END:VEVENT
BEGIN:VEVENT
DTSTART;TZID=America/New_York:20170610T074500
DTEND;TZID=America/New_York:20170610T160000
DTSTAMP:20260422T182452
CREATED:20170525T170508Z
LAST-MODIFIED:20170525T170508Z
UID:10643-1497080700-1497110400@springfieldparkingauthority.com
SUMMARY:New England Synod
DESCRIPTION:Parking is available at the Civic Center Garage – $7 & 12  Prepay \n 
URL:https://springfieldparkingauthority.com/event/new-england-synod-7-2/
LOCATION:MassMutual Center\, 1277 Main Street\, Springfield\, MA\, 01103\, United States
END:VEVENT
BEGIN:VEVENT
DTSTART;TZID=America/New_York:20170610T074500
DTEND;TZID=America/New_York:20170610T160000
DTSTAMP:20260422T182452
CREATED:20170525T170508Z
LAST-MODIFIED:20170525T170508Z
UID:3810-1497080700-1497110400@springfieldparkingauthority.com
SUMMARY:New England Synod
DESCRIPTION:Parking is available at the Civic Center Garage – $7 & 12  Prepay \n 
URL:https://springfieldparkingauthority.com/event/new-england-synod-7/
LOCATION:MassMutual Center\, 1277 Main Street\, Springfield\, MA\, 01103\, United States
END:VEVENT
BEGIN:VEVENT
DTSTART;TZID=America/New_York:20170610T130000
DTEND;TZID=America/New_York:20170610T160000
DTSTAMP:20260422T182452
CREATED:20170525T170558Z
LAST-MODIFIED:20170525T170558Z
UID:10644-1497099600-1497110400@springfieldparkingauthority.com
SUMMARY:Agawam High Graduation
DESCRIPTION:Parking is available at the I-91 North And South Garage – $7 Prepay \n 
URL:https://springfieldparkingauthority.com/event/agawam-high-graduation-2/
LOCATION:Symphony Hall\, 34 Court St.\, Springfield\, MA\, 01103\, United States
END:VEVENT
BEGIN:VEVENT
DTSTART;TZID=America/New_York:20170610T130000
DTEND;TZID=America/New_York:20170610T160000
DTSTAMP:20260422T182452
CREATED:20170525T170558Z
LAST-MODIFIED:20170525T170558Z
UID:3813-1497099600-1497110400@springfieldparkingauthority.com
SUMMARY:Agawam High Graduation
DESCRIPTION:Parking is available at the I-91 North And South Garage – $7 Prepay \n 
URL:https://springfieldparkingauthority.com/event/agawam-high-graduation/
LOCATION:Symphony Hall\, 34 Court St.\, Springfield\, MA\, 01103\, United States
END:VEVENT
BEGIN:VEVENT
DTSTART;TZID=America/New_York:20170610T150000
DTEND;TZID=America/New_York:20170610T190000
DTSTAMP:20260422T182452
CREATED:20170530T150413Z
LAST-MODIFIED:20170530T150413Z
UID:3833-1497106800-1497121200@springfieldparkingauthority.com
SUMMARY:Over the Top
DESCRIPTION:Parking is available at the Columbus Center Garage – $7 Prepay \n 
URL:https://springfieldparkingauthority.com/event/over-the-top-2/
LOCATION:Columbus Center\, 1 Columbus Center\, Springfield\, MA\, 01103\, United States
END:VEVENT
BEGIN:VEVENT
DTSTART;TZID=America/New_York:20170610T150000
DTEND;TZID=America/New_York:20170610T190000
DTSTAMP:20260422T182452
CREATED:20170530T150413Z
LAST-MODIFIED:20170530T150413Z
UID:10653-1497106800-1497121200@springfieldparkingauthority.com
SUMMARY:Over the Top
DESCRIPTION:Parking is available at the Columbus Center Garage – $7 Prepay \n 
URL:https://springfieldparkingauthority.com/event/over-the-top-2-2/
LOCATION:Columbus Center\, 1 Columbus Center\, Springfield\, MA\, 01103\, United States
END:VEVENT
BEGIN:VEVENT
DTSTART;TZID=America/New_York:20170610T160000
DTEND;TZID=America/New_York:20170611T000000
DTSTAMP:20260422T182452
CREATED:20170602T142205Z
LAST-MODIFIED:20170602T142205Z
UID:10665-1497110400-1497139200@springfieldparkingauthority.com
SUMMARY:High School Of Commence 35th Class Reunion
DESCRIPTION:Parking is available at the I-91 North and South Garages – On the Clock \n 
URL:https://springfieldparkingauthority.com/event/high-school-of-commence-35th-class-reunion-2/
LOCATION:Sheraton Hotel\, One Monarch Place\, Springfield\, MA\, 01103\, United States
END:VEVENT
BEGIN:VEVENT
DTSTART;TZID=America/New_York:20170610T160000
DTEND;TZID=America/New_York:20170611T000000
DTSTAMP:20260422T182452
CREATED:20170602T142205Z
LAST-MODIFIED:20170602T142205Z
UID:3864-1497110400-1497139200@springfieldparkingauthority.com
SUMMARY:High School Of Commence 35th Class Reunion
DESCRIPTION:Parking is available at the I-91 North and South Garages – On the Clock \n 
URL:https://springfieldparkingauthority.com/event/high-school-of-commence-35th-class-reunion/
LOCATION:Sheraton Hotel\, One Monarch Place\, Springfield\, MA\, 01103\, United States
END:VEVENT
BEGIN:VEVENT
DTSTART;TZID=America/New_York:20170611T070000
DTEND;TZID=America/New_York:20170611T180000
DTSTAMP:20260422T182452
CREATED:20170602T142309Z
LAST-MODIFIED:20170602T142309Z
UID:10666-1497164400-1497204000@springfieldparkingauthority.com
SUMMARY:Hats off 2017
DESCRIPTION:Parking is available at the I-91 North and South Garages – On the Clock \n 
URL:https://springfieldparkingauthority.com/event/hats-off-2017-2/
LOCATION:Sheraton Hotel\, One Monarch Place\, Springfield\, MA\, 01103\, United States
END:VEVENT
BEGIN:VEVENT
DTSTART;TZID=America/New_York:20170611T070000
DTEND;TZID=America/New_York:20170611T180000
DTSTAMP:20260422T182452
CREATED:20170602T142309Z
LAST-MODIFIED:20170602T142309Z
UID:3866-1497164400-1497204000@springfieldparkingauthority.com
SUMMARY:Hats off 2017
DESCRIPTION:Parking is available at the I-91 North and South Garages – On the Clock \n 
URL:https://springfieldparkingauthority.com/event/hats-off-2017/
LOCATION:Sheraton Hotel\, One Monarch Place\, Springfield\, MA\, 01103\, United States
END:VEVENT
BEGIN:VEVENT
DTSTART;TZID=America/New_York:20170611T130000
DTEND;TZID=America/New_York:20170611T200000
DTSTAMP:20260422T182452
CREATED:20170525T170654Z
LAST-MODIFIED:20170525T170654Z
UID:10645-1497186000-1497211200@springfieldparkingauthority.com
SUMMARY:Longmeadow High Graduation
DESCRIPTION:Parking is available at the I-91 North And South Garage – $7 Prepay \n 
URL:https://springfieldparkingauthority.com/event/longmeadow-high-graduation-2/
LOCATION:Symphony Hall\, 34 Court St.\, Springfield\, MA\, 01103\, United States
END:VEVENT
BEGIN:VEVENT
DTSTART;TZID=America/New_York:20170611T130000
DTEND;TZID=America/New_York:20170611T200000
DTSTAMP:20260422T182452
CREATED:20170525T170654Z
LAST-MODIFIED:20170525T170654Z
UID:3815-1497186000-1497211200@springfieldparkingauthority.com
SUMMARY:Longmeadow High Graduation
DESCRIPTION:Parking is available at the I-91 North And South Garage – $7 Prepay \n 
URL:https://springfieldparkingauthority.com/event/longmeadow-high-graduation/
LOCATION:Symphony Hall\, 34 Court St.\, Springfield\, MA\, 01103\, United States
END:VEVENT
BEGIN:VEVENT
DTSTART;TZID=America/New_York:20170612T070000
DTEND;TZID=America/New_York:20170612T210000
DTSTAMP:20260422T182452
CREATED:20170607T152841Z
LAST-MODIFIED:20170607T152841Z
UID:3880-1497250800-1497301200@springfieldparkingauthority.com
SUMMARY:2017 Narug Annual Conference
DESCRIPTION:Parking is available at the I-91 North and South Garages – On the Clock \n 
URL:https://springfieldparkingauthority.com/event/2017-narug-annual-conference/
LOCATION:Sheraton Hotel\, One Monarch Place\, Springfield\, MA\, 01103\, United States
END:VEVENT
BEGIN:VEVENT
DTSTART;TZID=America/New_York:20170612T070000
DTEND;TZID=America/New_York:20170612T210000
DTSTAMP:20260422T182452
CREATED:20170607T152841Z
LAST-MODIFIED:20170607T152841Z
UID:10668-1497250800-1497301200@springfieldparkingauthority.com
SUMMARY:2017 Narug Annual Conference
DESCRIPTION:Parking is available at the I-91 North and South Garages – On the Clock \n 
URL:https://springfieldparkingauthority.com/event/2017-narug-annual-conference-3/
LOCATION:Sheraton Hotel\, One Monarch Place\, Springfield\, MA\, 01103\, United States
END:VEVENT
BEGIN:VEVENT
DTSTART;TZID=America/New_York:20170612T180000
DTEND;TZID=America/New_York:20170612T200000
DTSTAMP:20260422T182452
CREATED:20170525T170741Z
LAST-MODIFIED:20170525T170741Z
UID:10646-1497290400-1497297600@springfieldparkingauthority.com
SUMMARY:SciTech Graduation
DESCRIPTION:Parking is available at the I-91 North And South Garage – $7 Prepay \n 
URL:https://springfieldparkingauthority.com/event/scitech-graduation-2/
LOCATION:Symphony Hall\, 34 Court St.\, Springfield\, MA\, 01103\, United States
END:VEVENT
BEGIN:VEVENT
DTSTART;TZID=America/New_York:20170612T180000
DTEND;TZID=America/New_York:20170612T200000
DTSTAMP:20260422T182452
CREATED:20170525T170741Z
LAST-MODIFIED:20170525T170741Z
UID:3817-1497290400-1497297600@springfieldparkingauthority.com
SUMMARY:SciTech Graduation
DESCRIPTION:Parking is available at the I-91 North And South Garage – $7 Prepay \n 
URL:https://springfieldparkingauthority.com/event/scitech-graduation/
LOCATION:Symphony Hall\, 34 Court St.\, Springfield\, MA\, 01103\, United States
END:VEVENT
BEGIN:VEVENT
DTSTART;TZID=America/New_York:20170613T070000
DTEND;TZID=America/New_York:20170613T170000
DTSTAMP:20260422T182452
CREATED:20170607T152949Z
LAST-MODIFIED:20170607T152949Z
UID:3882-1497337200-1497373200@springfieldparkingauthority.com
SUMMARY:2017 Narug Annual Conference
DESCRIPTION:Parking is available at the I-91 North and South Garages – On the Clock \n 
URL:https://springfieldparkingauthority.com/event/2017-narug-annual-conference-2/
LOCATION:Sheraton Hotel\, One Monarch Place\, Springfield\, MA\, 01103\, United States
END:VEVENT
BEGIN:VEVENT
DTSTART;TZID=America/New_York:20170613T070000
DTEND;TZID=America/New_York:20170613T170000
DTSTAMP:20260422T182452
CREATED:20170607T152949Z
LAST-MODIFIED:20170607T152949Z
UID:10669-1497337200-1497373200@springfieldparkingauthority.com
SUMMARY:2017 Narug Annual Conference
DESCRIPTION:Parking is available at the I-91 North and South Garages – On the Clock \n 
URL:https://springfieldparkingauthority.com/event/2017-narug-annual-conference-2-2/
LOCATION:Sheraton Hotel\, One Monarch Place\, Springfield\, MA\, 01103\, United States
END:VEVENT
END:VCALENDAR