BEGIN:VCALENDAR
VERSION:2.0
PRODID:-//Springfield Parking Authority - ECPv6.15.20//NONSGML v1.0//EN
CALSCALE:GREGORIAN
METHOD:PUBLISH
X-WR-CALNAME:Springfield Parking Authority
X-ORIGINAL-URL:https://springfieldparkingauthority.com
X-WR-CALDESC:Events for Springfield Parking Authority
REFRESH-INTERVAL;VALUE=DURATION:PT1H
X-Robots-Tag:noindex
X-PUBLISHED-TTL:PT1H
BEGIN:VTIMEZONE
TZID:America/New_York
BEGIN:DAYLIGHT
TZOFFSETFROM:-0500
TZOFFSETTO:-0400
TZNAME:EDT
DTSTART:20160313T070000
END:DAYLIGHT
BEGIN:STANDARD
TZOFFSETFROM:-0400
TZOFFSETTO:-0500
TZNAME:EST
DTSTART:20161106T060000
END:STANDARD
BEGIN:DAYLIGHT
TZOFFSETFROM:-0500
TZOFFSETTO:-0400
TZNAME:EDT
DTSTART:20170312T070000
END:DAYLIGHT
BEGIN:STANDARD
TZOFFSETFROM:-0400
TZOFFSETTO:-0500
TZNAME:EST
DTSTART:20171105T060000
END:STANDARD
BEGIN:DAYLIGHT
TZOFFSETFROM:-0500
TZOFFSETTO:-0400
TZNAME:EDT
DTSTART:20180311T070000
END:DAYLIGHT
BEGIN:STANDARD
TZOFFSETFROM:-0400
TZOFFSETTO:-0500
TZNAME:EST
DTSTART:20181104T060000
END:STANDARD
END:VTIMEZONE
BEGIN:VEVENT
DTSTART;TZID=America/New_York:20170502T080000
DTEND;TZID=America/New_York:20170506T000000
DTSTAMP:20260420T024650
CREATED:20170502T160653Z
LAST-MODIFIED:20170502T160653Z
UID:10596-1493712000-1494028800@springfieldparkingauthority.com
SUMMARY:SWEET ADELINES 2017
DESCRIPTION:Parking is available at the I-91 North and South Garages – On the Clock \n 
URL:https://springfieldparkingauthority.com/event/sweet-adelines-2017-3/
LOCATION:Sheraton Hotel\, One Monarch Place\, Springfield\, MA\, 01103\, United States
END:VEVENT
BEGIN:VEVENT
DTSTART;TZID=America/New_York:20170502T080000
DTEND;TZID=America/New_York:20170506T000000
DTSTAMP:20260420T024650
CREATED:20170502T160653Z
LAST-MODIFIED:20170502T160653Z
UID:3684-1493712000-1494028800@springfieldparkingauthority.com
SUMMARY:SWEET ADELINES 2017
DESCRIPTION:Parking is available at the I-91 North and South Garages – On the Clock \n 
URL:https://springfieldparkingauthority.com/event/sweet-adelines-2017/
LOCATION:Sheraton Hotel\, One Monarch Place\, Springfield\, MA\, 01103\, United States
END:VEVENT
BEGIN:VEVENT
DTSTART;TZID=America/New_York:20170502T140000
DTEND;TZID=America/New_York:20170502T170000
DTSTAMP:20260420T024650
CREATED:20170502T160840Z
LAST-MODIFIED:20170502T160840Z
UID:3688-1493733600-1493744400@springfieldparkingauthority.com
SUMMARY:WEST MICHAUD WEDDING
DESCRIPTION:Parking is available at the I-91 North and South Garages – On the Clock \n 
URL:https://springfieldparkingauthority.com/event/west-michaud-wedding/
LOCATION:Sheraton Hotel\, One Monarch Place\, Springfield\, MA\, 01103\, United States
END:VEVENT
BEGIN:VEVENT
DTSTART;TZID=America/New_York:20170502T140000
DTEND;TZID=America/New_York:20170502T170000
DTSTAMP:20260420T024650
CREATED:20170502T160840Z
LAST-MODIFIED:20170502T160840Z
UID:10598-1493733600-1493744400@springfieldparkingauthority.com
SUMMARY:WEST MICHAUD WEDDING
DESCRIPTION:Parking is available at the I-91 North and South Garages – On the Clock \n 
URL:https://springfieldparkingauthority.com/event/west-michaud-wedding-2/
LOCATION:Sheraton Hotel\, One Monarch Place\, Springfield\, MA\, 01103\, United States
END:VEVENT
BEGIN:VEVENT
DTSTART;TZID=America/New_York:20170504T173000
DTEND;TZID=America/New_York:20170504T220000
DTSTAMP:20260420T024650
CREATED:20170502T160506Z
LAST-MODIFIED:20170502T160506Z
UID:10594-1493919000-1493935200@springfieldparkingauthority.com
SUMMARY:SPRINGFIELD BOYS AND GIRLS CLUB
DESCRIPTION:Parking is available at the I-91 North and South Garages – On the Clock \n 
URL:https://springfieldparkingauthority.com/event/springfield-boys-and-girls-club-3/
LOCATION:Sheraton Hotel\, One Monarch Place\, Springfield\, MA\, 01103\, United States
END:VEVENT
BEGIN:VEVENT
DTSTART;TZID=America/New_York:20170504T173000
DTEND;TZID=America/New_York:20170504T220000
DTSTAMP:20260420T024650
CREATED:20170502T160506Z
LAST-MODIFIED:20170502T160506Z
UID:3680-1493919000-1493935200@springfieldparkingauthority.com
SUMMARY:SPRINGFIELD BOYS AND GIRLS CLUB
DESCRIPTION:Parking is available at the I-91 North and South Garages – On the Clock \n 
URL:https://springfieldparkingauthority.com/event/springfield-boys-and-girls-club/
LOCATION:Sheraton Hotel\, One Monarch Place\, Springfield\, MA\, 01103\, United States
END:VEVENT
BEGIN:VEVENT
DTSTART;TZID=America/New_York:20170504T193000
DTEND;TZID=America/New_York:20170504T220000
DTSTAMP:20260420T024650
CREATED:20170418T172804Z
LAST-MODIFIED:20170418T172804Z
UID:10555-1493926200-1493935200@springfieldparkingauthority.com
SUMMARY:STORM LARGE
DESCRIPTION:Parking is available at the Columbus Center Garage – Free with Ticket \n 
URL:https://springfieldparkingauthority.com/event/storm-large-2/
LOCATION:Columbus Center\, 1 Columbus Center\, Springfield\, MA\, 01103\, United States
END:VEVENT
BEGIN:VEVENT
DTSTART;TZID=America/New_York:20170504T193000
DTEND;TZID=America/New_York:20170504T220000
DTSTAMP:20260420T024650
CREATED:20170418T172804Z
LAST-MODIFIED:20170418T172804Z
UID:3551-1493926200-1493935200@springfieldparkingauthority.com
SUMMARY:STORM LARGE
DESCRIPTION:Parking is available at the Columbus Center Garage – Free with Ticket \n 
URL:https://springfieldparkingauthority.com/event/storm-large/
LOCATION:Columbus Center\, 1 Columbus Center\, Springfield\, MA\, 01103\, United States
END:VEVENT
BEGIN:VEVENT
DTSTART;TZID=America/New_York:20170505T080000
DTEND;TZID=America/New_York:20170505T220000
DTSTAMP:20260420T024650
CREATED:20170418T172856Z
LAST-MODIFIED:20170418T172856Z
UID:10556-1493971200-1494021600@springfieldparkingauthority.com
SUMMARY:STARTPOWER
DESCRIPTION:Parking is available at the Civic Center Garage – $7 Prepay \n 
URL:https://springfieldparkingauthority.com/event/startpower-4/
LOCATION:MassMutual Center\, 1277 Main Street\, Springfield\, MA\, 01103\, United States
END:VEVENT
BEGIN:VEVENT
DTSTART;TZID=America/New_York:20170505T080000
DTEND;TZID=America/New_York:20170505T220000
DTSTAMP:20260420T024650
CREATED:20170418T172856Z
LAST-MODIFIED:20170418T172856Z
UID:3554-1493971200-1494021600@springfieldparkingauthority.com
SUMMARY:STARTPOWER
DESCRIPTION:Parking is available at the Civic Center Garage – $7 Prepay \n 
URL:https://springfieldparkingauthority.com/event/startpower/
LOCATION:MassMutual Center\, 1277 Main Street\, Springfield\, MA\, 01103\, United States
END:VEVENT
BEGIN:VEVENT
DTSTART;TZID=America/New_York:20170505T133000
DTEND;TZID=America/New_York:20170505T210000
DTSTAMP:20260420T024650
CREATED:20170418T173117Z
LAST-MODIFIED:20170418T173117Z
UID:10557-1493991000-1494018000@springfieldparkingauthority.com
SUMMARY:SWEET ADLINES
DESCRIPTION:Parking is available at the I-91 North and South Garages – On the Clock \n 
URL:https://springfieldparkingauthority.com/event/sweet-adlines-3/
LOCATION:Symphony Hall\, 34 Court St.\, Springfield\, MA\, 01103\, United States
END:VEVENT
BEGIN:VEVENT
DTSTART;TZID=America/New_York:20170505T133000
DTEND;TZID=America/New_York:20170505T210000
DTSTAMP:20260420T024650
CREATED:20170418T173117Z
LAST-MODIFIED:20170418T173117Z
UID:3559-1493991000-1494018000@springfieldparkingauthority.com
SUMMARY:SWEET ADLINES
DESCRIPTION:Parking is available at the I-91 North and South Garages – On the Clock \n 
URL:https://springfieldparkingauthority.com/event/sweet-adlines/
LOCATION:Symphony Hall\, 34 Court St.\, Springfield\, MA\, 01103\, United States
END:VEVENT
BEGIN:VEVENT
DTSTART;TZID=America/New_York:20170505T180000
DTEND;TZID=America/New_York:20170505T213000
DTSTAMP:20260420T024650
CREATED:20170502T160607Z
LAST-MODIFIED:20170502T160607Z
UID:10595-1494007200-1494019800@springfieldparkingauthority.com
SUMMARY:SPRINGFIELD ELECTRICAL JACTC
DESCRIPTION:Parking is available at the I-91 North and South Garages – On the Clock \n 
URL:https://springfieldparkingauthority.com/event/springfield-electrical-jactc-2/
LOCATION:Sheraton Hotel\, One Monarch Place\, Springfield\, MA\, 01103\, United States
END:VEVENT
BEGIN:VEVENT
DTSTART;TZID=America/New_York:20170505T180000
DTEND;TZID=America/New_York:20170505T213000
DTSTAMP:20260420T024650
CREATED:20170502T160607Z
LAST-MODIFIED:20170502T160607Z
UID:3682-1494007200-1494019800@springfieldparkingauthority.com
SUMMARY:SPRINGFIELD ELECTRICAL JACTC
DESCRIPTION:Parking is available at the I-91 North and South Garages – On the Clock \n 
URL:https://springfieldparkingauthority.com/event/springfield-electrical-jactc/
LOCATION:Sheraton Hotel\, One Monarch Place\, Springfield\, MA\, 01103\, United States
END:VEVENT
BEGIN:VEVENT
DTSTART;TZID=America/New_York:20170506T073000
DTEND;TZID=America/New_York:20170507T000000
DTSTAMP:20260420T024650
CREATED:20170502T160748Z
LAST-MODIFIED:20170502T160748Z
UID:10597-1494055800-1494115200@springfieldparkingauthority.com
SUMMARY:SWEET ADELINES 2017
DESCRIPTION:Parking is available at the I-91 North and South Garages – On the Clock \n 
URL:https://springfieldparkingauthority.com/event/sweet-adelines-2017-2-2/
LOCATION:Sheraton Hotel\, One Monarch Place\, Springfield\, MA\, 01103\, United States
END:VEVENT
BEGIN:VEVENT
DTSTART;TZID=America/New_York:20170506T073000
DTEND;TZID=America/New_York:20170507T000000
DTSTAMP:20260420T024650
CREATED:20170502T160748Z
LAST-MODIFIED:20170502T160748Z
UID:3686-1494055800-1494115200@springfieldparkingauthority.com
SUMMARY:SWEET ADELINES 2017
DESCRIPTION:Parking is available at the I-91 North and South Garages – On the Clock \n 
URL:https://springfieldparkingauthority.com/event/sweet-adelines-2017-2/
LOCATION:Sheraton Hotel\, One Monarch Place\, Springfield\, MA\, 01103\, United States
END:VEVENT
BEGIN:VEVENT
DTSTART;TZID=America/New_York:20170506T080000
DTEND;TZID=America/New_York:20170506T223000
DTSTAMP:20260420T024650
CREATED:20170418T173217Z
LAST-MODIFIED:20170418T173217Z
UID:10558-1494057600-1494109800@springfieldparkingauthority.com
SUMMARY:STARTPOWER
DESCRIPTION:Parking is available at the Civic Center Garage – $7 & $12 Prepay \n 
URL:https://springfieldparkingauthority.com/event/startpower-2-2/
LOCATION:MassMutual Center\, 1277 Main Street\, Springfield\, MA\, 01103\, United States
END:VEVENT
BEGIN:VEVENT
DTSTART;TZID=America/New_York:20170506T080000
DTEND;TZID=America/New_York:20170506T223000
DTSTAMP:20260420T024650
CREATED:20170418T173217Z
LAST-MODIFIED:20170418T173217Z
UID:3561-1494057600-1494109800@springfieldparkingauthority.com
SUMMARY:STARTPOWER
DESCRIPTION:Parking is available at the Civic Center Garage – $7 & $12 Prepay \n 
URL:https://springfieldparkingauthority.com/event/startpower-2/
LOCATION:MassMutual Center\, 1277 Main Street\, Springfield\, MA\, 01103\, United States
END:VEVENT
BEGIN:VEVENT
DTSTART;TZID=America/New_York:20170506T110000
DTEND;TZID=America/New_York:20170506T170000
DTSTAMP:20260420T024650
CREATED:20170418T173502Z
LAST-MODIFIED:20170418T173502Z
UID:10560-1494068400-1494090000@springfieldparkingauthority.com
SUMMARY:SWEET ADLINES
DESCRIPTION:Parking is available at the I-91 North and South Garages – On the Clock \n 
URL:https://springfieldparkingauthority.com/event/sweet-adlines-2-2/
LOCATION:Symphony Hall\, 34 Court St.\, Springfield\, MA\, 01103\, United States
END:VEVENT
BEGIN:VEVENT
DTSTART;TZID=America/New_York:20170506T110000
DTEND;TZID=America/New_York:20170506T170000
DTSTAMP:20260420T024650
CREATED:20170418T173502Z
LAST-MODIFIED:20170418T173502Z
UID:3565-1494068400-1494090000@springfieldparkingauthority.com
SUMMARY:SWEET ADLINES
DESCRIPTION:Parking is available at the I-91 North and South Garages – On the Clock \n 
URL:https://springfieldparkingauthority.com/event/sweet-adlines-2/
LOCATION:Symphony Hall\, 34 Court St.\, Springfield\, MA\, 01103\, United States
END:VEVENT
BEGIN:VEVENT
DTSTART;TZID=America/New_York:20170506T173000
DTEND;TZID=America/New_York:20170507T000000
DTSTAMP:20260420T024650
CREATED:20170418T173330Z
LAST-MODIFIED:20170418T173330Z
UID:10559-1494091800-1494115200@springfieldparkingauthority.com
SUMMARY:AN EVENING OF HOPE GALA
DESCRIPTION:Parking is available at the Civic Center Garage – $7 & $12 Prepay \n 
URL:https://springfieldparkingauthority.com/event/an-evening-of-hope-gala-2/
LOCATION:MassMutual Center\, 1277 Main Street\, Springfield\, MA\, 01103\, United States
END:VEVENT
BEGIN:VEVENT
DTSTART;TZID=America/New_York:20170506T173000
DTEND;TZID=America/New_York:20170507T000000
DTSTAMP:20260420T024650
CREATED:20170418T173330Z
LAST-MODIFIED:20170418T173330Z
UID:3563-1494091800-1494115200@springfieldparkingauthority.com
SUMMARY:AN EVENING OF HOPE GALA
DESCRIPTION:Parking is available at the Civic Center Garage – $7 & $12 Prepay \n 
URL:https://springfieldparkingauthority.com/event/an-evening-of-hope-gala/
LOCATION:MassMutual Center\, 1277 Main Street\, Springfield\, MA\, 01103\, United States
END:VEVENT
BEGIN:VEVENT
DTSTART;TZID=America/New_York:20170507T080000
DTEND;TZID=America/New_York:20170507T210000
DTSTAMP:20260420T024650
CREATED:20170418T173555Z
LAST-MODIFIED:20170418T173555Z
UID:10561-1494144000-1494190800@springfieldparkingauthority.com
SUMMARY:STARTPOWER
DESCRIPTION:Parking is available at the Civic Center Garage – $7 & $12 Prepay \n 
URL:https://springfieldparkingauthority.com/event/startpower-3-2/
LOCATION:MassMutual Center\, 1277 Main Street\, Springfield\, MA\, 01103\, United States
END:VEVENT
BEGIN:VEVENT
DTSTART;TZID=America/New_York:20170507T080000
DTEND;TZID=America/New_York:20170507T210000
DTSTAMP:20260420T024650
CREATED:20170418T173555Z
LAST-MODIFIED:20170418T173555Z
UID:3567-1494144000-1494190800@springfieldparkingauthority.com
SUMMARY:STARTPOWER
DESCRIPTION:Parking is available at the Civic Center Garage – $7 & $12 Prepay \n 
URL:https://springfieldparkingauthority.com/event/startpower-3/
LOCATION:MassMutual Center\, 1277 Main Street\, Springfield\, MA\, 01103\, United States
END:VEVENT
BEGIN:VEVENT
DTSTART;TZID=America/New_York:20170507T140000
DTEND;TZID=America/New_York:20170507T170000
DTSTAMP:20260420T024650
CREATED:20170418T173711Z
LAST-MODIFIED:20170418T173711Z
UID:10562-1494165600-1494176400@springfieldparkingauthority.com
SUMMARY:PEPPA PIG
DESCRIPTION:Parking is available at the I-91 North and South Garages – Free with Ticket
URL:https://springfieldparkingauthority.com/event/peppa-pig-2/
LOCATION:Symphony Hall\, 34 Court St.\, Springfield\, MA\, 01103\, United States
END:VEVENT
BEGIN:VEVENT
DTSTART;TZID=America/New_York:20170507T140000
DTEND;TZID=America/New_York:20170507T170000
DTSTAMP:20260420T024650
CREATED:20170418T173711Z
LAST-MODIFIED:20170418T173711Z
UID:3570-1494165600-1494176400@springfieldparkingauthority.com
SUMMARY:PEPPA PIG
DESCRIPTION:Parking is available at the I-91 North and South Garages – Free with Ticket
URL:https://springfieldparkingauthority.com/event/peppa-pig/
LOCATION:Symphony Hall\, 34 Court St.\, Springfield\, MA\, 01103\, United States
END:VEVENT
BEGIN:VEVENT
DTSTART;TZID=America/New_York:20170509T030000
DTEND;TZID=America/New_York:20170509T220000
DTSTAMP:20260420T024650
CREATED:20170509T145628Z
LAST-MODIFIED:20170509T145628Z
UID:10605-1494298800-1494367200@springfieldparkingauthority.com
SUMMARY:National American Miss Recruiting
DESCRIPTION:Parking is available at the I-91 North and South Garages – On the Clock \n 
URL:https://springfieldparkingauthority.com/event/national-american-miss-recruiting-3/
LOCATION:Sheraton Hotel\, One Monarch Place\, Springfield\, MA\, 01103\, United States
END:VEVENT
BEGIN:VEVENT
DTSTART;TZID=America/New_York:20170509T030000
DTEND;TZID=America/New_York:20170509T220000
DTSTAMP:20260420T024650
CREATED:20170509T145628Z
LAST-MODIFIED:20170509T145628Z
UID:3709-1494298800-1494367200@springfieldparkingauthority.com
SUMMARY:National American Miss Recruiting
DESCRIPTION:Parking is available at the I-91 North and South Garages – On the Clock \n 
URL:https://springfieldparkingauthority.com/event/national-american-miss-recruiting/
LOCATION:Sheraton Hotel\, One Monarch Place\, Springfield\, MA\, 01103\, United States
END:VEVENT
BEGIN:VEVENT
DTSTART;TZID=America/New_York:20170509T150000
DTEND;TZID=America/New_York:20170509T163000
DTSTAMP:20260420T024650
CREATED:20170418T173839Z
LAST-MODIFIED:20170418T173839Z
UID:3575-1494342000-1494347400@springfieldparkingauthority.com
SUMMARY:SESAME STREET LIVE "MAKE A NEW FRIEND"
DESCRIPTION:Parking is available at the Civic Center Garage – $7 Prepay \n 
URL:https://springfieldparkingauthority.com/event/sesame-street-live-make-a-new-friend/
LOCATION:MassMutual Center\, 1277 Main Street\, Springfield\, MA\, 01103\, United States
END:VEVENT
BEGIN:VEVENT
DTSTART;TZID=America/New_York:20170509T150000
DTEND;TZID=America/New_York:20170509T163000
DTSTAMP:20260420T024650
CREATED:20170418T173839Z
LAST-MODIFIED:20170418T173839Z
UID:10563-1494342000-1494347400@springfieldparkingauthority.com
SUMMARY:SESAME STREET LIVE "MAKE A NEW FRIEND"
DESCRIPTION:Parking is available at the Civic Center Garage – $7 Prepay \n 
URL:https://springfieldparkingauthority.com/event/sesame-street-live-make-a-new-friend-2/
LOCATION:MassMutual Center\, 1277 Main Street\, Springfield\, MA\, 01103\, United States
END:VEVENT
END:VCALENDAR